| Back to Multiple platform build/check report for BioC 3.22: simplified long |
|
This page was generated on 2025-10-24 12:03 -0400 (Fri, 24 Oct 2025).
| Hostname | OS | Arch (*) | R version | Installed pkgs |
|---|---|---|---|---|
| nebbiolo2 | Linux (Ubuntu 24.04.3 LTS) | x86_64 | 4.5.1 Patched (2025-08-23 r88802) -- "Great Square Root" | 4898 |
| lconway | macOS 12.7.6 Monterey | x86_64 | 4.5.1 Patched (2025-09-10 r88807) -- "Great Square Root" | 4688 |
| kjohnson3 | macOS 13.7.7 Ventura | arm64 | 4.5.1 Patched (2025-09-10 r88807) -- "Great Square Root" | 4634 |
| taishan | Linux (openEuler 24.03 LTS) | aarch64 | 4.5.0 (2025-04-11) -- "How About a Twenty-Six" | 4658 |
| Click on any hostname to see more info about the system (e.g. compilers) (*) as reported by 'uname -p', except on Windows and Mac OS X | ||||
| Package 224/2359 | Hostname | OS / Arch | INSTALL | BUILD | CHECK | BUILD BIN | ||||||||
| BioQC 1.37.0 (landing page) Jitao David Zhang
| nebbiolo2 | Linux (Ubuntu 24.04.3 LTS) / x86_64 | OK | OK | OK | |||||||||
| lconway | macOS 12.7.6 Monterey / x86_64 | OK | OK | OK | OK | |||||||||
| kjohnson3 | macOS 13.7.7 Ventura / arm64 | OK | OK | OK | OK | |||||||||
| taishan | Linux (openEuler 24.03 LTS) / aarch64 | OK | OK | OK | ||||||||||
|
To the developers/maintainers of the BioQC package: - Allow up to 24 hours (and sometimes 48 hours) for your latest push to git@git.bioconductor.org:packages/BioQC.git to reflect on this report. See Troubleshooting Build Report for more information. - Use the following Renviron settings to reproduce errors and warnings. - If 'R CMD check' started to fail recently on the Linux builder(s) over a missing dependency, add the missing dependency to 'Suggests:' in your DESCRIPTION file. See Renviron.bioc for more information. |
| Package: BioQC |
| Version: 1.37.0 |
| Command: /home/biocbuild/bbs-3.22-bioc/R/bin/R CMD INSTALL BioQC |
| StartedAt: 2025-10-23 15:12:13 -0400 (Thu, 23 Oct 2025) |
| EndedAt: 2025-10-23 15:12:25 -0400 (Thu, 23 Oct 2025) |
| EllapsedTime: 11.8 seconds |
| RetCode: 0 |
| Status: OK |
##############################################################################
##############################################################################
###
### Running command:
###
### /home/biocbuild/bbs-3.22-bioc/R/bin/R CMD INSTALL BioQC
###
##############################################################################
##############################################################################
* installing to library ‘/home/biocbuild/bbs-3.22-bioc/R/site-library’
* installing *source* package ‘BioQC’ ...
** this is package ‘BioQC’ version ‘1.37.0’
** using staged installation
** libs
using C compiler: ‘gcc (Ubuntu 13.3.0-6ubuntu2~24.04) 13.3.0’
using C++ compiler: ‘g++ (Ubuntu 13.3.0-6ubuntu2~24.04) 13.3.0’
gcc -std=gnu2x -I"/home/biocbuild/bbs-3.22-bioc/R/include" -DNDEBUG `/home/biocbuild/bbs-3.22-bioc/R/bin/Rscript -e 'Rcpp:::CxxFlags()'` -I'/home/biocbuild/bbs-3.22-bioc/R/site-library/Rcpp/include' -I/usr/local/include -fpic -g -O2 -Wall -Werror=format-security -c gini.c -o gini.o
gcc -std=gnu2x -I"/home/biocbuild/bbs-3.22-bioc/R/include" -DNDEBUG `/home/biocbuild/bbs-3.22-bioc/R/bin/Rscript -e 'Rcpp:::CxxFlags()'` -I'/home/biocbuild/bbs-3.22-bioc/R/site-library/Rcpp/include' -I/usr/local/include -fpic -g -O2 -Wall -Werror=format-security -c init.c -o init.o
g++ -std=gnu++17 -I"/home/biocbuild/bbs-3.22-bioc/R/include" -DNDEBUG `/home/biocbuild/bbs-3.22-bioc/R/bin/Rscript -e 'Rcpp:::CxxFlags()'` -I'/home/biocbuild/bbs-3.22-bioc/R/site-library/Rcpp/include' -I/usr/local/include -fpic -g -O2 -Wall -Werror=format-security -c read_gmt.cpp -o read_gmt.o
gcc -std=gnu2x -I"/home/biocbuild/bbs-3.22-bioc/R/include" -DNDEBUG `/home/biocbuild/bbs-3.22-bioc/R/bin/Rscript -e 'Rcpp:::CxxFlags()'` -I'/home/biocbuild/bbs-3.22-bioc/R/site-library/Rcpp/include' -I/usr/local/include -fpic -g -O2 -Wall -Werror=format-security -c stat_rank.c -o stat_rank.o
gcc -std=gnu2x -I"/home/biocbuild/bbs-3.22-bioc/R/include" -DNDEBUG `/home/biocbuild/bbs-3.22-bioc/R/bin/Rscript -e 'Rcpp:::CxxFlags()'` -I'/home/biocbuild/bbs-3.22-bioc/R/site-library/Rcpp/include' -I/usr/local/include -fpic -g -O2 -Wall -Werror=format-security -c wmw_test.c -o wmw_test.o
wmw_test.c: In function ‘wmw_test_list’:
wmw_test.c:118: warning: ignoring ‘#pragma omp parallel’ [-Wunknown-pragmas]
118 | #pragma omp parallel for
|
wmw_test.c: In function ‘wmw_test’:
wmw_test.c:168: warning: ignoring ‘#pragma omp parallel’ [-Wunknown-pragmas]
168 | #pragma omp parallel for
|
wmw_test.c: In function ‘signed_wmw_test_list’:
wmw_test.c:201: warning: ignoring ‘#pragma omp parallel’ [-Wunknown-pragmas]
201 | #pragma omp parallel for
|
wmw_test.c: In function ‘signed_wmw_test’:
wmw_test.c:270: warning: ignoring ‘#pragma omp parallel’ [-Wunknown-pragmas]
270 | #pragma omp parallel for
|
g++ -std=gnu++17 -shared -L/home/biocbuild/bbs-3.22-bioc/R/lib -L/usr/local/lib -o BioQC.so gini.o init.o read_gmt.o stat_rank.o wmw_test.o -L/home/biocbuild/bbs-3.22-bioc/R/lib -lR
installing to /home/biocbuild/bbs-3.22-bioc/R/site-library/00LOCK-BioQC/00new/BioQC/libs
** R
** inst
** byte-compile and prepare package for lazy loading
** help
*** installing help indices
*** copying figures
** building package indices
** installing vignettes
** testing if installed package can be loaded from temporary location
** checking absolute paths in shared objects and dynamic libraries
** testing if installed package can be loaded from final location
** testing if installed package keeps a record of temporary installation path
* DONE (BioQC)