| Back to Multiple platform build/check report for BioC 3.22: simplified long |
|
This page was generated on 2025-10-24 12:03 -0400 (Fri, 24 Oct 2025).
| Hostname | OS | Arch (*) | R version | Installed pkgs |
|---|---|---|---|---|
| nebbiolo2 | Linux (Ubuntu 24.04.3 LTS) | x86_64 | 4.5.1 Patched (2025-08-23 r88802) -- "Great Square Root" | 4898 |
| lconway | macOS 12.7.6 Monterey | x86_64 | 4.5.1 Patched (2025-09-10 r88807) -- "Great Square Root" | 4688 |
| kjohnson3 | macOS 13.7.7 Ventura | arm64 | 4.5.1 Patched (2025-09-10 r88807) -- "Great Square Root" | 4634 |
| taishan | Linux (openEuler 24.03 LTS) | aarch64 | 4.5.0 (2025-04-11) -- "How About a Twenty-Six" | 4658 |
| Click on any hostname to see more info about the system (e.g. compilers) (*) as reported by 'uname -p', except on Windows and Mac OS X | ||||
| Package 33/2359 | Hostname | OS / Arch | INSTALL | BUILD | CHECK | BUILD BIN | ||||||||
| AGDEX 1.57.0 (landing page) Cuilan lani Gao
| nebbiolo2 | Linux (Ubuntu 24.04.3 LTS) / x86_64 | OK | OK | OK | |||||||||
| lconway | macOS 12.7.6 Monterey / x86_64 | OK | OK | OK | OK | |||||||||
| kjohnson3 | macOS 13.7.7 Ventura / arm64 | OK | OK | OK | OK | |||||||||
| taishan | Linux (openEuler 24.03 LTS) / aarch64 | OK | OK | OK | ||||||||||
|
To the developers/maintainers of the AGDEX package: - Allow up to 24 hours (and sometimes 48 hours) for your latest push to git@git.bioconductor.org:packages/AGDEX.git to reflect on this report. See Troubleshooting Build Report for more information. - Use the following Renviron settings to reproduce errors and warnings. - If 'R CMD check' started to fail recently on the Linux builder(s) over a missing dependency, add the missing dependency to 'Suggests:' in your DESCRIPTION file. See Renviron.bioc for more information. |
| Package: AGDEX |
| Version: 1.57.0 |
| Command: /home/biocbuild/bbs-3.22-bioc/R/bin/R CMD check --install=check:AGDEX.install-out.txt --library=/home/biocbuild/bbs-3.22-bioc/R/site-library --timings AGDEX_1.57.0.tar.gz |
| StartedAt: 2025-10-23 20:58:25 -0400 (Thu, 23 Oct 2025) |
| EndedAt: 2025-10-23 20:59:33 -0400 (Thu, 23 Oct 2025) |
| EllapsedTime: 68.1 seconds |
| RetCode: 0 |
| Status: OK |
| CheckDir: AGDEX.Rcheck |
| Warnings: 0 |
##############################################################################
##############################################################################
###
### Running command:
###
### /home/biocbuild/bbs-3.22-bioc/R/bin/R CMD check --install=check:AGDEX.install-out.txt --library=/home/biocbuild/bbs-3.22-bioc/R/site-library --timings AGDEX_1.57.0.tar.gz
###
##############################################################################
##############################################################################
* using log directory ‘/home/biocbuild/bbs-3.22-bioc/meat/AGDEX.Rcheck’
* using R version 4.5.1 Patched (2025-08-23 r88802)
* using platform: x86_64-pc-linux-gnu
* R was compiled by
gcc (Ubuntu 13.3.0-6ubuntu2~24.04) 13.3.0
GNU Fortran (Ubuntu 13.3.0-6ubuntu2~24.04) 13.3.0
* running under: Ubuntu 24.04.3 LTS
* using session charset: UTF-8
* checking for file ‘AGDEX/DESCRIPTION’ ... OK
* checking extension type ... Package
* this is package ‘AGDEX’ version ‘1.57.0’
* checking package namespace information ... OK
* checking package dependencies ... OK
* checking if this is a source package ... OK
* checking if there is a namespace ... OK
* checking for hidden files and directories ... OK
* checking for portable file names ... OK
* checking for sufficient/correct file permissions ... OK
* checking whether package ‘AGDEX’ can be installed ... OK
* checking installed package size ... OK
* checking package directory ... OK
* checking ‘build’ directory ... OK
* checking DESCRIPTION meta-information ... NOTE
Malformed Description field: should contain one or more complete sentences.
Non-standard license specification:
GPL Version 2 or later
Standardizable: TRUE
Standardized license specification:
GPL (>= 2)
* checking top-level files ... OK
* checking for left-over files ... OK
* checking index information ... OK
* checking package subdirectories ... OK
* checking code files for non-ASCII characters ... OK
* checking R files for syntax errors ... OK
* checking whether the package can be loaded ... OK
* checking whether the package can be loaded with stated dependencies ... OK
* checking whether the package can be unloaded cleanly ... OK
* checking whether the namespace can be loaded with stated dependencies ... OK
* checking whether the namespace can be unloaded cleanly ... OK
* checking loading without being on the library search path ... OK
* checking dependencies in R code ... NOTE
Packages in Depends field not imported from:
‘Biobase’ ‘GSEABase’
These packages need to be imported from (in the NAMESPACE file)
for when this namespace is loaded but not attached.
* checking S3 generic/method consistency ... OK
* checking replacement functions ... OK
* checking foreign function calls ... OK
* checking R code for possible problems ... NOTE
agdex: no visible global function definition for ‘exprs’
agdex: no visible global function definition for ‘qnorm’
agdex: no visible global function definition for ‘pnorm’
agdex: no visible global function definition for ‘sampleNames’
agdex: no visible global function definition for ‘pData’
agdex.scatterplot: no visible global function definition for ‘points’
agdex.scatterplot: no visible global function definition for ‘lines’
agdex.scatterplot: no visible global function definition for ‘prcomp’
agdex.scatterplot: no visible global function definition for ‘abline’
gsc.to.index.list: no visible global function definition for ‘geneIds’
prep.dex.set: no visible global function definition for ‘exprs’
prep.dex.set: no visible global function definition for ‘pData’
read.agdex.gset.details: no visible global function definition for
‘read.table’
read.agdex.gset.list: no visible global function definition for
‘read.table’
read.agdex.result: no visible global function definition for
‘read.table’
read.enrich.gset.list: no visible global function definition for
‘read.table’
read.gset.collection: no visible global function definition for
‘read.table’
read.gset.collection: no visible global function definition for
‘GeneSet’
read.gset.collection: no visible global function definition for
‘geneIds<-’
read.gset.collection: no visible global function definition for
‘GeneSetCollection’
write.agdex.gset.details: no visible global function definition for
‘write.table’
write.agdex.result: no visible global function definition for
‘write.table’
write.gset.list.result: no visible global function definition for
‘write.table’
Undefined global functions or variables:
GeneSet GeneSetCollection abline exprs geneIds geneIds<- lines pData
pnorm points prcomp qnorm read.table sampleNames write.table
Consider adding
importFrom("graphics", "abline", "lines", "points")
importFrom("stats", "pnorm", "prcomp", "qnorm")
importFrom("utils", "read.table", "write.table")
to your NAMESPACE file.
* checking Rd files ... OK
* checking Rd metadata ... OK
* checking Rd cross-references ... OK
* checking for missing documentation entries ... OK
* checking for code/documentation mismatches ... OK
* checking Rd \usage sections ... OK
* checking Rd contents ... OK
* checking for unstated dependencies in examples ... OK
* checking contents of ‘data’ directory ... OK
* checking data for non-ASCII characters ... OK
* checking data for ASCII and uncompressed saves ... OK
* checking files in ‘vignettes’ ... OK
* checking examples ... OK
* checking for unstated dependencies in vignettes ... OK
* checking package vignettes ... OK
* checking re-building of vignette outputs ... OK
* checking PDF version of manual ... OK
* DONE
Status: 3 NOTEs
See
‘/home/biocbuild/bbs-3.22-bioc/meat/AGDEX.Rcheck/00check.log’
for details.
AGDEX.Rcheck/00install.out
############################################################################## ############################################################################## ### ### Running command: ### ### /home/biocbuild/bbs-3.22-bioc/R/bin/R CMD INSTALL AGDEX ### ############################################################################## ############################################################################## * installing to library ‘/home/biocbuild/bbs-3.22-bioc/R/site-library’ * installing *source* package ‘AGDEX’ ... ** this is package ‘AGDEX’ version ‘1.57.0’ ** using staged installation ** R ** data ** byte-compile and prepare package for lazy loading ** help *** installing help indices ** building package indices ** installing vignettes ** testing if installed package can be loaded from temporary location ** testing if installed package can be loaded from final location ** testing if installed package keeps a record of temporary installation path * DONE (AGDEX)
AGDEX.Rcheck/AGDEX-Ex.timings
| name | user | system | elapsed | |
| agdex | 0.839 | 0.002 | 0.841 | |
| agdex.scatterplot | 0.033 | 0.001 | 0.034 | |
| get.gset.result.details | 0.027 | 0.005 | 0.031 | |
| gset.data | 0.000 | 0.000 | 0.001 | |
| human.data | 0.010 | 0.001 | 0.011 | |
| make.dex.set.object | 0.029 | 0.001 | 0.031 | |
| map.data | 0.000 | 0.000 | 0.001 | |
| mouse.data | 0.018 | 0.000 | 0.019 | |
| read.agdex.gset.details | 0 | 0 | 0 | |
| read.agdex.result | 0 | 0 | 0 | |
| write.agdex.gset.details | 0.024 | 0.004 | 0.027 | |
| write.agdex.result | 0.005 | 0.000 | 0.004 | |