| Back to Multiple platform build/check report for BioC 3.22: simplified long |
|
This page was generated on 2025-10-24 12:03 -0400 (Fri, 24 Oct 2025).
| Hostname | OS | Arch (*) | R version | Installed pkgs |
|---|---|---|---|---|
| nebbiolo2 | Linux (Ubuntu 24.04.3 LTS) | x86_64 | 4.5.1 Patched (2025-08-23 r88802) -- "Great Square Root" | 4898 |
| lconway | macOS 12.7.6 Monterey | x86_64 | 4.5.1 Patched (2025-09-10 r88807) -- "Great Square Root" | 4688 |
| kjohnson3 | macOS 13.7.7 Ventura | arm64 | 4.5.1 Patched (2025-09-10 r88807) -- "Great Square Root" | 4634 |
| taishan | Linux (openEuler 24.03 LTS) | aarch64 | 4.5.0 (2025-04-11) -- "How About a Twenty-Six" | 4658 |
| Click on any hostname to see more info about the system (e.g. compilers) (*) as reported by 'uname -p', except on Windows and Mac OS X | ||||
| Package 11/2359 | Hostname | OS / Arch | INSTALL | BUILD | CHECK | BUILD BIN | ||||||||
| ACE 1.27.1 (landing page) Jos B Poell
| nebbiolo2 | Linux (Ubuntu 24.04.3 LTS) / x86_64 | OK | OK | OK | |||||||||
| lconway | macOS 12.7.6 Monterey / x86_64 | OK | OK | OK | OK | |||||||||
| kjohnson3 | macOS 13.7.7 Ventura / arm64 | OK | OK | OK | OK | |||||||||
| taishan | Linux (openEuler 24.03 LTS) / aarch64 | OK | OK | OK | ||||||||||
|
To the developers/maintainers of the ACE package: - Allow up to 24 hours (and sometimes 48 hours) for your latest push to git@git.bioconductor.org:packages/ACE.git to reflect on this report. See Troubleshooting Build Report for more information. - Use the following Renviron settings to reproduce errors and warnings. - If 'R CMD check' started to fail recently on the Linux builder(s) over a missing dependency, add the missing dependency to 'Suggests:' in your DESCRIPTION file. See Renviron.bioc for more information. |
| Package: ACE |
| Version: 1.27.1 |
| Command: /home/biocbuild/bbs-3.22-bioc/R/bin/R CMD check --install=check:ACE.install-out.txt --library=/home/biocbuild/bbs-3.22-bioc/R/site-library --timings ACE_1.27.1.tar.gz |
| StartedAt: 2025-10-23 20:57:18 -0400 (Thu, 23 Oct 2025) |
| EndedAt: 2025-10-23 21:00:29 -0400 (Thu, 23 Oct 2025) |
| EllapsedTime: 190.3 seconds |
| RetCode: 0 |
| Status: OK |
| CheckDir: ACE.Rcheck |
| Warnings: 0 |
##############################################################################
##############################################################################
###
### Running command:
###
### /home/biocbuild/bbs-3.22-bioc/R/bin/R CMD check --install=check:ACE.install-out.txt --library=/home/biocbuild/bbs-3.22-bioc/R/site-library --timings ACE_1.27.1.tar.gz
###
##############################################################################
##############################################################################
* using log directory ‘/home/biocbuild/bbs-3.22-bioc/meat/ACE.Rcheck’
* using R version 4.5.1 Patched (2025-08-23 r88802)
* using platform: x86_64-pc-linux-gnu
* R was compiled by
gcc (Ubuntu 13.3.0-6ubuntu2~24.04) 13.3.0
GNU Fortran (Ubuntu 13.3.0-6ubuntu2~24.04) 13.3.0
* running under: Ubuntu 24.04.3 LTS
* using session charset: UTF-8
* checking for file ‘ACE/DESCRIPTION’ ... OK
* this is package ‘ACE’ version ‘1.27.1’
* package encoding: UTF-8
* checking package namespace information ... OK
* checking package dependencies ... OK
* checking if this is a source package ... OK
* checking if there is a namespace ... OK
* checking for hidden files and directories ... OK
* checking for portable file names ... OK
* checking for sufficient/correct file permissions ... OK
* checking whether package ‘ACE’ can be installed ... OK
* checking installed package size ... OK
* checking package directory ... OK
* checking ‘build’ directory ... OK
* checking DESCRIPTION meta-information ... OK
* checking top-level files ... OK
* checking for left-over files ... OK
* checking index information ... OK
* checking package subdirectories ... OK
* checking code files for non-ASCII characters ... OK
* checking R files for syntax errors ... OK
* checking whether the package can be loaded ... OK
* checking whether the package can be loaded with stated dependencies ... OK
* checking whether the package can be unloaded cleanly ... OK
* checking whether the namespace can be loaded with stated dependencies ... OK
* checking whether the namespace can be unloaded cleanly ... OK
* checking loading without being on the library search path ... OK
* checking dependencies in R code ... NOTE
Unexported object imported by a ':::' call: ‘QDNAseq:::sdDiffTrim’
See the note in ?`:::` about the use of this operator.
* checking S3 generic/method consistency ... OK
* checking replacement functions ... OK
* checking foreign function calls ... OK
* checking R code for possible problems ... NOTE
squaremodel: no visible binding for global variable ‘cellularity’
Undefined global functions or variables:
cellularity
* checking Rd files ... OK
* checking Rd metadata ... OK
* checking Rd cross-references ... OK
* checking for missing documentation entries ... OK
* checking for code/documentation mismatches ... OK
* checking Rd \usage sections ... OK
* checking Rd contents ... OK
* checking for unstated dependencies in examples ... OK
* checking contents of ‘data’ directory ... OK
* checking data for non-ASCII characters ... OK
* checking LazyData ... OK
* checking data for ASCII and uncompressed saves ... OK
* checking files in ‘vignettes’ ... OK
* checking examples ... OK
Examples with CPU (user + system) or elapsed time > 5s
user system elapsed
squaremodelsummary 8.492 0.114 8.605
squaremodel 7.525 0.135 7.660
* checking for unstated dependencies in vignettes ... OK
* checking package vignettes ... OK
* checking re-building of vignette outputs ... OK
* checking PDF version of manual ... OK
* DONE
Status: 2 NOTEs
See
‘/home/biocbuild/bbs-3.22-bioc/meat/ACE.Rcheck/00check.log’
for details.
ACE.Rcheck/00install.out
############################################################################## ############################################################################## ### ### Running command: ### ### /home/biocbuild/bbs-3.22-bioc/R/bin/R CMD INSTALL ACE ### ############################################################################## ############################################################################## * installing to library ‘/home/biocbuild/bbs-3.22-bioc/R/site-library’ * installing *source* package ‘ACE’ ... ** this is package ‘ACE’ version ‘1.27.1’ ** using staged installation ** R ** data *** moving datasets to lazyload DB ** inst ** byte-compile and prepare package for lazy loading ** help *** installing help indices ** building package indices ** installing vignettes ** testing if installed package can be loaded from temporary location ** testing if installed package can be loaded from final location ** testing if installed package keeps a record of temporary installation path * DONE (ACE)
ACE.Rcheck/ACE-Ex.timings
| name | user | system | elapsed | |
| ACEcall | 1.352 | 0.294 | 1.646 | |
| analyzegenomiclocations | 0.016 | 0.000 | 0.016 | |
| compresstemplate | 0.033 | 0.001 | 0.034 | |
| copyNumbersSegmented | 1.565 | 0.128 | 1.693 | |
| correlationmatrix | 0.169 | 0.001 | 0.171 | |
| forcesegmentsontemplate | 0.916 | 0.198 | 1.114 | |
| getadjustedsegments | 0.288 | 0.016 | 0.303 | |
| linkvariants | 0.016 | 0.001 | 0.017 | |
| loopsquaremodel | 4.849 | 0.142 | 4.991 | |
| objectsampletotemplate | 0.004 | 0.001 | 0.006 | |
| postanalysisloop | 0 | 0 | 0 | |
| runACE | 0 | 0 | 0 | |
| singlemodel | 1.343 | 0.015 | 1.359 | |
| singleplot | 1.943 | 0.036 | 1.978 | |
| squaremodel | 7.525 | 0.135 | 7.660 | |
| squaremodelsummary | 8.492 | 0.114 | 8.605 | |
| templatefromequalsegments | 0.017 | 0.000 | 0.017 | |
| twosamplecompare | 2.059 | 0.045 | 2.104 | |