| Back to Build/check report for BioC 3.21 experimental data |
|
This page was generated on 2025-10-16 15:01 -0400 (Thu, 16 Oct 2025).
| Hostname | OS | Arch (*) | R version | Installed pkgs |
|---|---|---|---|---|
| nebbiolo1 | Linux (Ubuntu 24.04.3 LTS) | x86_64 | 4.5.1 (2025-06-13) -- "Great Square Root" | 4833 |
| Click on any hostname to see more info about the system (e.g. compilers) (*) as reported by 'uname -p', except on Windows and Mac OS X | ||||
| Package 348/432 | Hostname | OS / Arch | INSTALL | BUILD | CHECK | ||||||||
| sampleClassifierData 1.32.0 (landing page) Khadija El Amrani
| nebbiolo1 | Linux (Ubuntu 24.04.3 LTS) / x86_64 | OK | OK | OK | ||||||||
|
To the developers/maintainers of the sampleClassifierData package: - Use the following Renviron settings to reproduce errors and warnings. - If 'R CMD check' started to fail recently on the Linux builder(s) over a missing dependency, add the missing dependency to 'Suggests:' in your DESCRIPTION file. See Renviron.bioc for more information. |
| Package: sampleClassifierData |
| Version: 1.32.0 |
| Command: /home/biocbuild/bbs-3.21-bioc/R/bin/R CMD build --keep-empty-dirs --no-resave-data sampleClassifierData |
| StartedAt: 2025-10-16 11:37:35 -0400 (Thu, 16 Oct 2025) |
| EndedAt: 2025-10-16 11:38:02 -0400 (Thu, 16 Oct 2025) |
| EllapsedTime: 26.9 seconds |
| RetCode: 0 |
| Status: OK |
| PackageFile: sampleClassifierData_1.32.0.tar.gz |
| PackageFileSize: 15.51 MiB |
##############################################################################
##############################################################################
###
### Running command:
###
### /home/biocbuild/bbs-3.21-bioc/R/bin/R CMD build --keep-empty-dirs --no-resave-data sampleClassifierData
###
##############################################################################
##############################################################################
* checking for file ‘sampleClassifierData/DESCRIPTION’ ... OK
* preparing ‘sampleClassifierData’:
* checking DESCRIPTION meta-information ... OK
* installing the package to process help pages
* saving partial Rd database
* creating vignettes ... OK
* checking for LF line-endings in source and make files and shell scripts
* checking for empty or unneeded directories
* looking to see if a ‘data/datalist’ file should be added
NB: this package now depends on R (>= 3.5.0)
WARNING: Added dependency on R >= 3.5.0 because serialized objects in
serialize/load version 3 cannot be read in older versions of R.
File(s) containing such objects:
‘sampleClassifierData/data/se_micro_refmat.rda’
‘sampleClassifierData/data/se_micro_testmat.rda’
‘sampleClassifierData/data/se_rnaseq_refmat.rda’
‘sampleClassifierData/data/se_rnaseq_testmat.rda’
* building ‘sampleClassifierData_1.32.0.tar.gz’