| Back to Build/check report for BioC 3.21 experimental data |
|
This page was generated on 2025-10-16 15:01 -0400 (Thu, 16 Oct 2025).
| Hostname | OS | Arch (*) | R version | Installed pkgs |
|---|---|---|---|---|
| nebbiolo1 | Linux (Ubuntu 24.04.3 LTS) | x86_64 | 4.5.1 (2025-06-13) -- "Great Square Root" | 4833 |
| Click on any hostname to see more info about the system (e.g. compilers) (*) as reported by 'uname -p', except on Windows and Mac OS X | ||||
| Package 301/432 | Hostname | OS / Arch | INSTALL | BUILD | CHECK | ||||||||
| pRolocdata 1.46.0 (landing page) Lisa Breckels
| nebbiolo1 | Linux (Ubuntu 24.04.3 LTS) / x86_64 | OK | OK | OK | ||||||||
|
To the developers/maintainers of the pRolocdata package: - Use the following Renviron settings to reproduce errors and warnings. - If 'R CMD check' started to fail recently on the Linux builder(s) over a missing dependency, add the missing dependency to 'Suggests:' in your DESCRIPTION file. See Renviron.bioc for more information. |
| Package: pRolocdata |
| Version: 1.46.0 |
| Command: /home/biocbuild/bbs-3.21-bioc/R/bin/R CMD check --install=check:pRolocdata.install-out.txt --library=/home/biocbuild/bbs-3.21-bioc/R/site-library --timings pRolocdata_1.46.0.tar.gz |
| StartedAt: 2025-10-16 12:45:42 -0400 (Thu, 16 Oct 2025) |
| EndedAt: 2025-10-16 12:54:10 -0400 (Thu, 16 Oct 2025) |
| EllapsedTime: 507.8 seconds |
| RetCode: 0 |
| Status: OK |
| CheckDir: pRolocdata.Rcheck |
| Warnings: 0 |
##############################################################################
##############################################################################
###
### Running command:
###
### /home/biocbuild/bbs-3.21-bioc/R/bin/R CMD check --install=check:pRolocdata.install-out.txt --library=/home/biocbuild/bbs-3.21-bioc/R/site-library --timings pRolocdata_1.46.0.tar.gz
###
##############################################################################
##############################################################################
* using log directory ‘/home/biocbuild/bbs-3.21-data-experiment/meat/pRolocdata.Rcheck’
* using R version 4.5.1 (2025-06-13)
* using platform: x86_64-pc-linux-gnu
* R was compiled by
gcc (Ubuntu 13.3.0-6ubuntu2~24.04) 13.3.0
GNU Fortran (Ubuntu 13.3.0-6ubuntu2~24.04) 13.3.0
* running under: Ubuntu 24.04.3 LTS
* using session charset: UTF-8
* checking for file ‘pRolocdata/DESCRIPTION’ ... OK
* checking extension type ... Package
* this is package ‘pRolocdata’ version ‘1.46.0’
* package encoding: UTF-8
* checking package namespace information ... OK
* checking package dependencies ... OK
* checking if this is a source package ... OK
* checking if there is a namespace ... OK
* checking for hidden files and directories ... OK
* checking for portable file names ... OK
* checking for sufficient/correct file permissions ... OK
* checking whether package ‘pRolocdata’ can be installed ... OK
* checking installed package size ... INFO
installed size is 192.9Mb
sub-directories of 1Mb or more:
data 191.4Mb
extdata 1.1Mb
* checking package directory ... OK
* checking DESCRIPTION meta-information ... OK
* checking top-level files ... OK
* checking for left-over files ... OK
* checking index information ... OK
* checking package subdirectories ... OK
* checking code files for non-ASCII characters ... OK
* checking R files for syntax errors ... OK
* checking whether the package can be loaded ... OK
* checking whether the package can be loaded with stated dependencies ... OK
* checking whether the package can be unloaded cleanly ... OK
* checking whether the namespace can be loaded with stated dependencies ... OK
* checking whether the namespace can be unloaded cleanly ... OK
* checking loading without being on the library search path ... OK
* checking whether startup messages can be suppressed ... OK
* checking dependencies in R code ... OK
* checking S3 generic/method consistency ... OK
* checking replacement functions ... OK
* checking foreign function calls ... OK
* checking R code for possible problems ... OK
* checking Rd files ... NOTE
checkRd: (-1) thpLOPIT2021.Rd:82: Lost braces
82 | PSM-level csv files are available in the code{extdata} directory
| ^
checkRd: (-1) thpTimecourse2021.Rd:52: Lost braces
52 | code{extdata} directory and have been imported as
| ^
* checking Rd metadata ... OK
* checking Rd cross-references ... OK
* checking for missing documentation entries ... OK
* checking for code/documentation mismatches ... OK
* checking Rd \usage sections ... OK
* checking Rd contents ... OK
* checking for unstated dependencies in examples ... OK
* checking contents of ‘data’ directory ... OK
* checking data for non-ASCII characters ... OK
* checking data for ASCII and uncompressed saves ... OK
* checking examples ... OK
Examples with CPU (user + system) or elapsed time > 5s
user system elapsed
krahmer2018pcp 10.369 0.504 10.874
thpLOPIT2021 10.511 0.197 10.712
* checking for unstated dependencies in ‘tests’ ... OK
* checking tests ...
Running ‘testthat.R’
OK
* checking PDF version of manual ... OK
* DONE
Status: 1 NOTE
See
‘/home/biocbuild/bbs-3.21-data-experiment/meat/pRolocdata.Rcheck/00check.log’
for details.
pRolocdata.Rcheck/00install.out
############################################################################## ############################################################################## ### ### Running command: ### ### /home/biocbuild/bbs-3.21-bioc/R/bin/R CMD INSTALL pRolocdata ### ############################################################################## ############################################################################## * installing to library ‘/home/biocbuild/bbs-3.21-bioc/R/site-library’ * installing *source* package ‘pRolocdata’ ... ** this is package ‘pRolocdata’ version ‘1.46.0’ ** using staged installation ** R ** data ** inst ** byte-compile and prepare package for lazy loading ** help *** installing help indices ** building package indices ** testing if installed package can be loaded from temporary location ** testing if installed package can be loaded from final location ** testing if installed package keeps a record of temporary installation path * DONE (pRolocdata)
pRolocdata.Rcheck/tests/testthat.Rout
R version 4.5.1 (2025-06-13) -- "Great Square Root"
Copyright (C) 2025 The R Foundation for Statistical Computing
Platform: x86_64-pc-linux-gnu
R is free software and comes with ABSOLUTELY NO WARRANTY.
You are welcome to redistribute it under certain conditions.
Type 'license()' or 'licence()' for distribution details.
R is a collaborative project with many contributors.
Type 'contributors()' for more information and
'citation()' on how to cite R or R packages in publications.
Type 'demo()' for some demos, 'help()' for on-line help, or
'help.start()' for an HTML browser interface to help.
Type 'q()' to quit R.
> # setting R_TESTS to empty string because of
> # https://github.com/hadley/testthat/issues/144
> # revert this when that issue in R is fixed.
> Sys.setenv("R_TESTS" = "")
> library(testthat)
> library(MSnbase)
Loading required package: BiocGenerics
Loading required package: generics
Attaching package: 'generics'
The following objects are masked from 'package:base':
as.difftime, as.factor, as.ordered, intersect, is.element, setdiff,
setequal, union
Attaching package: 'BiocGenerics'
The following objects are masked from 'package:stats':
IQR, mad, sd, var, xtabs
The following objects are masked from 'package:base':
Filter, Find, Map, Position, Reduce, anyDuplicated, aperm, append,
as.data.frame, basename, cbind, colnames, dirname, do.call,
duplicated, eval, evalq, get, grep, grepl, is.unsorted, lapply,
mapply, match, mget, order, paste, pmax, pmax.int, pmin, pmin.int,
rank, rbind, rownames, sapply, saveRDS, table, tapply, unique,
unsplit, which.max, which.min
Loading required package: Biobase
Welcome to Bioconductor
Vignettes contain introductory material; view with
'browseVignettes()'. To cite Bioconductor, see
'citation("Biobase")', and for packages 'citation("pkgname")'.
Loading required package: mzR
Loading required package: Rcpp
Loading required package: S4Vectors
Loading required package: stats4
Attaching package: 'S4Vectors'
The following object is masked from 'package:utils':
findMatches
The following objects are masked from 'package:base':
I, expand.grid, unname
Loading required package: ProtGenerics
Attaching package: 'ProtGenerics'
The following object is masked from 'package:stats':
smooth
This is MSnbase version 2.34.1
Visit https://lgatto.github.io/MSnbase/ to get started.
Consider switching to the 'R for Mass Spectrometry'
packages - see https://RforMassSpectrometry.org for details.
Attaching package: 'MSnbase'
The following object is masked from 'package:base':
trimws
> library(pRolocdata)
This is pRolocdata version 1.46.0.
Use 'pRolocdata()' to list available data sets.
>
> test_check("pRolocdata")
[ FAIL 0 | WARN 0 | SKIP 0 | PASS 144 ]
>
> proc.time()
user system elapsed
45.477 2.204 47.705
pRolocdata.Rcheck/pRolocdata-Ex.timings
| name | user | system | elapsed | |
| E14TG2a | 0.029 | 0.002 | 0.031 | |
| Shin2020 | 4.221 | 0.364 | 4.593 | |
| ToxoLopit | 0.570 | 0.017 | 0.586 | |
| andreyev2010 | 0.730 | 0.026 | 0.756 | |
| andy2011 | 0.055 | 0.009 | 0.064 | |
| at_chloro | 0.092 | 0.004 | 0.096 | |
| baers2018 | 0.433 | 0.009 | 0.442 | |
| beltran2016 | 1.562 | 0.049 | 1.610 | |
| courtland2020 | 0.592 | 0.009 | 0.602 | |
| davies2018 | 0.350 | 0.014 | 0.365 | |
| dunkley2006 | 0.011 | 0.002 | 0.013 | |
| fabre2015 | 0.313 | 0.010 | 0.323 | |
| foster2006 | 0.030 | 0.003 | 0.033 | |
| groen2014 | 0.258 | 0.007 | 0.264 | |
| hall2009 | 0.178 | 0.003 | 0.181 | |
| havugimana2012 | 0.090 | 0.031 | 0.121 | |
| hirst2018 | 0.539 | 0.014 | 0.553 | |
| hyperLOPIT2015 | 3.478 | 0.090 | 3.568 | |
| hyperLOPITU2OS2017 | 1.473 | 0.044 | 1.517 | |
| itzhak2016stcSILAC | 0.684 | 0.006 | 0.690 | |
| itzhak2017 | 1.787 | 0.032 | 1.820 | |
| itzhak2017dynamic | 1.325 | 0.018 | 1.344 | |
| kirkwood2013 | 0.039 | 0.002 | 0.041 | |
| kozik2020 | 0.244 | 0.009 | 0.252 | |
| krahmer2018pcp | 10.369 | 0.504 | 10.874 | |
| kristensen2012 | 0.022 | 0.007 | 0.029 | |
| lopimsSyn2 | 0.689 | 0.044 | 0.734 | |
| moloney2023 | 0.795 | 0.027 | 0.822 | |
| mulvey2015 | 3.232 | 0.111 | 3.344 | |
| nikolovski2012 | 0.313 | 0.017 | 0.330 | |
| nikolovski2014 | 0.421 | 0.011 | 0.433 | |
| orre2019 | 0.446 | 0.006 | 0.452 | |
| pRolocdata | 0.012 | 0.003 | 0.015 | |
| pRolocmetadata | 0.015 | 0.000 | 0.015 | |
| rodriguez2012r1 | 0.693 | 0.023 | 0.715 | |
| stekhoven2014 | 0.236 | 0.011 | 0.247 | |
| tan2009 | 0.014 | 0.002 | 0.016 | |
| thpLOPIT2021 | 10.511 | 0.197 | 10.712 | |
| thpTimecourse2021 | 0.147 | 0.005 | 0.153 | |
| trotter2010 | 0.426 | 0.010 | 0.437 | |
| yeast | 0.398 | 0.014 | 0.414 | |