Back to Build/check report for BioC 3.21 experimental data
ABCDEF[G]HIJKLMNOPQRSTUVWXYZ

This page was generated on 2025-09-30 15:01 -0400 (Tue, 30 Sep 2025).

HostnameOSArch (*)R versionInstalled pkgs
nebbiolo1Linux (Ubuntu 24.04.3 LTS)x86_644.5.1 (2025-06-13) -- "Great Square Root" 4831
Click on any hostname to see more info about the system (e.g. compilers)      (*) as reported by 'uname -p', except on Windows and Mac OS X

Package 147/432HostnameOS / ArchINSTALLBUILDCHECK
geneLenDataBase 1.44.0  (landing page)
Federico Marini
Snapshot Date: 2025-09-30 07:30 -0400 (Tue, 30 Sep 2025)
git_url: https://git.bioconductor.org/packages/geneLenDataBase
git_branch: RELEASE_3_21
git_last_commit: ad5f383
git_last_commit_date: 2025-04-15 09:16:59 -0400 (Tue, 15 Apr 2025)
nebbiolo1Linux (Ubuntu 24.04.3 LTS) / x86_64  OK    OK    OK  UNNEEDED, same version is already published


CHECK results for geneLenDataBase on nebbiolo1

To the developers/maintainers of the geneLenDataBase package:
- Use the following Renviron settings to reproduce errors and warnings.
- If 'R CMD check' started to fail recently on the Linux builder(s) over a missing dependency, add the missing dependency to 'Suggests:' in your DESCRIPTION file. See Renviron.bioc for more information.

raw results


Summary

Package: geneLenDataBase
Version: 1.44.0
Command: /home/biocbuild/bbs-3.21-bioc/R/bin/R CMD check --install=check:geneLenDataBase.install-out.txt --library=/home/biocbuild/bbs-3.21-bioc/R/site-library --timings geneLenDataBase_1.44.0.tar.gz
StartedAt: 2025-09-30 12:20:29 -0400 (Tue, 30 Sep 2025)
EndedAt: 2025-09-30 12:29:39 -0400 (Tue, 30 Sep 2025)
EllapsedTime: 549.7 seconds
RetCode: 0
Status:   OK  
CheckDir: geneLenDataBase.Rcheck
Warnings: 0

Command output

##############################################################################
##############################################################################
###
### Running command:
###
###   /home/biocbuild/bbs-3.21-bioc/R/bin/R CMD check --install=check:geneLenDataBase.install-out.txt --library=/home/biocbuild/bbs-3.21-bioc/R/site-library --timings geneLenDataBase_1.44.0.tar.gz
###
##############################################################################
##############################################################################


* using log directory ‘/home/biocbuild/bbs-3.21-data-experiment/meat/geneLenDataBase.Rcheck’
* using R version 4.5.1 (2025-06-13)
* using platform: x86_64-pc-linux-gnu
* R was compiled by
    gcc (Ubuntu 13.3.0-6ubuntu2~24.04) 13.3.0
    GNU Fortran (Ubuntu 13.3.0-6ubuntu2~24.04) 13.3.0
* running under: Ubuntu 24.04.3 LTS
* using session charset: UTF-8
* checking for file ‘geneLenDataBase/DESCRIPTION’ ... OK
* this is package ‘geneLenDataBase’ version ‘1.44.0’
* package encoding: UTF-8
* checking package namespace information ... OK
* checking package dependencies ... OK
* checking if this is a source package ... OK
* checking if there is a namespace ... OK
* checking for hidden files and directories ... OK
* checking for portable file names ... OK
* checking for sufficient/correct file permissions ... OK
* checking whether package ‘geneLenDataBase’ can be installed ... OK
* checking installed package size ... INFO
  installed size is 100.0Mb
  sub-directories of 1Mb or more:
    data  99.5Mb
* checking package directory ... OK
* checking DESCRIPTION meta-information ... OK
* checking top-level files ... OK
* checking for left-over files ... OK
* checking index information ... OK
* checking package subdirectories ... OK
* checking code files for non-ASCII characters ... OK
* checking R files for syntax errors ... OK
* checking whether the package can be loaded ... OK
* checking whether the package can be loaded with stated dependencies ... OK
* checking whether the package can be unloaded cleanly ... OK
* checking whether the namespace can be loaded with stated dependencies ... OK
* checking whether the namespace can be unloaded cleanly ... OK
* checking loading without being on the library search path ... OK
* checking dependencies in R code ... NOTE
Unexported object imported by a ':::' call: ‘txdbmaker:::.UCSC_TXNAME2GENEID_MAPDEFS’
  See the note in ?`:::` about the use of this operator.
* checking S3 generic/method consistency ... OK
* checking replacement functions ... OK
* checking foreign function calls ... OK
* checking R code for possible problems ... OK
* checking Rd files ... OK
* checking Rd metadata ... OK
* checking Rd cross-references ... OK
* checking for missing documentation entries ... OK
* checking for code/documentation mismatches ... OK
* checking Rd \usage sections ... OK
* checking Rd contents ... OK
* checking for unstated dependencies in examples ... OK
* checking contents of ‘data’ directory ... OK
* checking data for non-ASCII characters ... OK
* checking data for ASCII and uncompressed saves ... OK
* checking examples ... OK
Examples with CPU (user + system) or elapsed time > 5s
                  user system elapsed
supportedGeneIDs 3.187  0.151   5.485
* checking PDF version of manual ... OK
* DONE

Status: 1 NOTE
See
  ‘/home/biocbuild/bbs-3.21-data-experiment/meat/geneLenDataBase.Rcheck/00check.log’
for details.


Installation output

geneLenDataBase.Rcheck/00install.out

##############################################################################
##############################################################################
###
### Running command:
###
###   /home/biocbuild/bbs-3.21-bioc/R/bin/R CMD INSTALL geneLenDataBase
###
##############################################################################
##############################################################################


* installing to library ‘/home/biocbuild/bbs-3.21-bioc/R/site-library’
* installing *source* package ‘geneLenDataBase’ ...
** this is package ‘geneLenDataBase’ version ‘1.44.0’
** using staged installation
** R
** data
** byte-compile and prepare package for lazy loading
** help
*** installing help indices
** building package indices
** testing if installed package can be loaded from temporary location
** testing if installed package can be loaded from final location
** testing if installed package keeps a record of temporary installation path
* DONE (geneLenDataBase)

Tests output


Example timings

geneLenDataBase.Rcheck/geneLenDataBase-Ex.timings

nameusersystemelapsed
anoCar1.ensGene.LENGTH0.0740.0050.079
anoCar1.genscan.LENGTH0.0450.0020.047
anoCar1.xenoRefGene.LENGTH1.5140.0041.518
anoGam1.ensGene.LENGTH0.0590.0000.059
anoGam1.geneid.LENGTH0.0420.0020.044
anoGam1.genscan.LENGTH0.0370.0050.042
apiMel1.genscan.LENGTH0.0340.0020.036
apiMel2.ensGene.LENGTH0.0890.0010.089
apiMel2.geneid.LENGTH0.0450.0020.047
apiMel2.genscan.LENGTH0.0340.0020.036
aplCal1.xenoRefGene.LENGTH0.4750.0040.479
bosTau2.geneSymbol.LENGTH0.0450.0000.045
bosTau2.geneid.LENGTH0.3080.0240.332
bosTau2.genscan.LENGTH0.0870.0040.090
bosTau2.refGene.LENGTH0.0400.0020.042
bosTau2.sgpGene.LENGTH0.1000.0060.106
bosTau3.ensGene.LENGTH0.1050.0030.108
bosTau3.geneSymbol.LENGTH0.0350.0030.038
bosTau3.geneid.LENGTH0.1220.0040.126
bosTau3.genscan.LENGTH0.0760.0010.077
bosTau3.refGene.LENGTH0.0340.0010.035
bosTau3.sgpGene.LENGTH0.0900.0020.092
bosTau4.ensGene.LENGTH0.0950.0030.098
bosTau4.geneSymbol.LENGTH0.0370.0000.037
bosTau4.genscan.LENGTH0.0670.0010.068
bosTau4.nscanGene.LENGTH0.0270.0050.032
bosTau4.refGene.LENGTH0.0310.0020.033
braFlo1.xenoRefGene.LENGTH0.4150.0050.420
caeJap1.xenoRefGene.LENGTH0.3920.0100.401
caePb1.xenoRefGene.LENGTH0.4440.0020.446
caePb2.xenoRefGene.LENGTH0.4280.0110.439
caeRem2.xenoRefGene.LENGTH0.3860.0040.389
caeRem3.xenoRefGene.LENGTH0.3390.0040.343
calJac1.genscan.LENGTH0.0790.0020.081
calJac1.nscanGene.LENGTH0.0980.0030.101
calJac1.xenoRefGene.LENGTH0.6800.0040.685
canFam1.ensGene.LENGTH0.1050.0010.107
canFam1.geneSymbol.LENGTH0.0060.0000.006
canFam1.genscan.LENGTH0.0590.0020.061
canFam1.nscanGene.LENGTH0.0620.0000.062
canFam1.refGene.LENGTH0.0050.0010.006
canFam1.xenoRefGene.LENGTH0.5980.0050.603
canFam2.ensGene.LENGTH0.0960.0010.097
canFam2.geneSymbol.LENGTH0.0050.0010.006
canFam2.genscan.LENGTH0.0550.0010.056
canFam2.nscanGene.LENGTH0.1320.0030.134
canFam2.refGene.LENGTH0.0030.0020.005
canFam2.xenoRefGene.LENGTH0.6060.0030.609
cavPor3.ensGene.LENGTH0.0870.0000.087
cavPor3.genscan.LENGTH0.0970.0050.101
cavPor3.nscanGene.LENGTH0.0670.0010.067
cavPor3.xenoRefGene.LENGTH0.6270.0050.632
cb1.xenoRefGene.LENGTH0.4540.0020.456
cb3.xenoRefGene.LENGTH0.3800.0030.384
ce2.geneSymbol.LENGTH0.0710.0010.072
ce2.geneid.LENGTH0.0600.0010.060
ce2.refGene.LENGTH0.0650.0020.067
ce4.geneSymbol.LENGTH0.0710.0030.073
ce4.refGene.LENGTH0.0600.0030.063
ce4.xenoRefGene.LENGTH0.0860.0010.087
ce6.ensGene.LENGTH0.0940.0000.094
ce6.geneSymbol.LENGTH0.0690.0010.071
ce6.refGene.LENGTH0.0640.0010.065
ce6.xenoRefGene.LENGTH0.0820.0020.084
ci1.geneSymbol.LENGTH0.0060.0000.006
ci1.refGene.LENGTH0.0050.0000.005
ci1.xenoRefGene.LENGTH0.1720.0020.174
ci2.ensGene.LENGTH0.1810.0070.188
ci2.geneSymbol.LENGTH0.0050.0000.005
ci2.refGene.LENGTH0.0030.0010.004
ci2.xenoRefGene.LENGTH0.2580.0010.259
danRer3.ensGene.LENGTH0.0960.0010.097
danRer3.geneSymbol.LENGTH0.0550.0000.054
danRer3.refGene.LENGTH0.0490.0010.050
danRer4.ensGene.LENGTH0.1150.0000.115
danRer4.geneSymbol.LENGTH0.0530.0010.054
danRer4.genscan.LENGTH0.0570.0010.058
danRer4.nscanGene.LENGTH0.0860.0020.089
danRer4.refGene.LENGTH0.0460.0020.049
danRer5.ensGene.LENGTH0.1150.0020.117
danRer5.geneSymbol.LENGTH0.0480.0000.049
danRer5.refGene.LENGTH0.0430.0010.044
danRer5.vegaGene.LENGTH0.0470.0010.047
danRer5.vegaPseudoGene.LENGTH0.0010.0020.002
danRer6.ensGene.LENGTH0.1040.0020.106
danRer6.geneSymbol.LENGTH0.0490.0010.050
danRer6.refGene.LENGTH0.0450.0000.045
danRer6.xenoRefGene.LENGTH0.4920.0010.494
dm1.geneSymbol.LENGTH0.0620.0020.064
dm1.genscan.LENGTH0.0240.0010.025
dm1.refGene.LENGTH0.0590.0000.059
dm2.geneSymbol.LENGTH0.0640.0010.064
dm2.geneid.LENGTH0.040.000.04
dm2.genscan.LENGTH0.0240.0010.025
dm2.nscanGene.LENGTH0.050.000.05
dm2.refGene.LENGTH0.0550.0010.057
dm3.geneSymbol.LENGTH0.0680.0000.069
dm3.nscanPasaGene.LENGTH0.0510.0010.052
dm3.refGene.LENGTH0.0640.0010.064
downloadLengthFromUCSC000
dp2.genscan.LENGTH0.0310.0020.033
dp2.xenoRefGene.LENGTH0.1960.0020.198
dp3.geneid.LENGTH0.0380.0020.040
dp3.genscan.LENGTH0.0260.0000.026
dp3.xenoRefGene.LENGTH0.1100.0000.109
droAna1.geneid.LENGTH0.0690.0020.071
droAna1.genscan.LENGTH0.0210.0010.022
droAna1.xenoRefGene.LENGTH0.2050.0010.205
droAna2.genscan.LENGTH0.0500.0020.051
droAna2.xenoRefGene.LENGTH0.2790.0000.279
droEre1.genscan.LENGTH0.0270.0030.030
droEre1.xenoRefGene.LENGTH0.3550.0030.358
droGri1.genscan.LENGTH0.0370.0010.039
droGri1.xenoRefGene.LENGTH0.2450.0020.248
droMoj1.geneid.LENGTH0.2310.0050.236
droMoj1.genscan.LENGTH0.0540.0010.055
droMoj1.xenoRefGene.LENGTH0.2150.0010.216
droMoj2.genscan.LENGTH0.0350.0010.035
droMoj2.xenoRefGene.LENGTH0.2710.0030.275
droPer1.genscan.LENGTH0.0390.0010.039
droPer1.xenoRefGene.LENGTH0.2880.0000.288
droSec1.genscan.LENGTH0.0290.0000.030
droSec1.xenoRefGene.LENGTH0.2780.0000.278
droSim1.geneid.LENGTH0.0370.0010.038
droSim1.genscan.LENGTH0.0240.0010.025
droSim1.xenoRefGene.LENGTH0.2330.0010.235
droVir1.geneid.LENGTH0.1710.0140.185
droVir1.genscan.LENGTH0.0420.0000.042
droVir1.xenoRefGene.LENGTH0.2500.0030.252
droVir2.genscan.LENGTH0.0350.0000.035
droVir2.xenoRefGene.LENGTH0.2610.0010.262
droYak1.geneid.LENGTH0.0430.0020.045
droYak1.genscan.LENGTH0.0310.0010.032
droYak1.xenoRefGene.LENGTH0.2180.0000.218
droYak2.genscan.LENGTH0.0270.0010.028
droYak2.xenoRefGene.LENGTH0.2740.0000.274
equCab1.geneSymbol.LENGTH0.0040.0010.005
equCab1.geneid.LENGTH0.0860.0010.087
equCab1.nscanGene.LENGTH0.0400.0010.040
equCab1.refGene.LENGTH0.0030.0030.005
equCab1.sgpGene.LENGTH0.0690.0010.070
equCab2.ensGene.LENGTH0.0970.0000.097
equCab2.geneSymbol.LENGTH0.0060.0010.007
equCab2.nscanGene.LENGTH0.0510.0010.052
equCab2.refGene.LENGTH0.0070.0000.007
equCab2.xenoRefGene.LENGTH0.8250.0070.832
felCat3.ensGene.LENGTH0.1050.0010.106
felCat3.geneSymbol.LENGTH0.0040.0000.004
felCat3.geneid.LENGTH0.5000.0020.502
felCat3.genscan.LENGTH0.1170.0030.119
felCat3.nscanGene.LENGTH1.0630.1551.219
felCat3.refGene.LENGTH0.0020.0010.003
felCat3.sgpGene.LENGTH0.1320.0010.133
felCat3.xenoRefGene.LENGTH1.0430.0071.050
fr1.ensGene.LENGTH0.0700.0020.072
fr1.genscan.LENGTH0.0540.0010.055
fr2.ensGene.LENGTH0.130.000.13
galGal2.ensGene.LENGTH0.0530.0020.054
galGal2.geneSymbol.LENGTH0.0150.0010.016
galGal2.geneid.LENGTH0.0340.0030.036
galGal2.genscan.LENGTH0.0470.0020.048
galGal2.refGene.LENGTH0.0140.0020.015
galGal2.sgpGene.LENGTH0.0410.0010.042
galGal3.ensGene.LENGTH0.0710.0000.071
galGal3.geneSymbol.LENGTH0.0150.0010.016
galGal3.genscan.LENGTH0.0440.0010.045
galGal3.nscanGene.LENGTH0.0650.0020.067
galGal3.refGene.LENGTH0.0120.0020.013
galGal3.xenoRefGene.LENGTH0.4490.0040.453
gasAcu1.ensGene.LENGTH0.0860.0010.087
gasAcu1.nscanGene.LENGTH0.0910.0010.092
hg16.acembly.LENGTH0.3720.0040.376
hg16.ensGene.LENGTH0.0720.0010.072
hg16.exoniphy.LENGTH0.2340.0110.245
hg16.geneSymbol.LENGTH0.1020.0020.104
hg16.geneid.LENGTH0.0470.0010.048
hg16.genscan.LENGTH0.0640.0020.065
hg16.knownGene.LENGTH0.1180.0020.120
hg16.refGene.LENGTH0.0970.0030.100
hg16.sgpGene.LENGTH0.0560.0020.058
hg17.acembly.LENGTH0.4560.0080.464
hg17.acescan.LENGTH0.0110.0000.011
hg17.ccdsGene.LENGTH0.0250.0000.025
hg17.ensGene.LENGTH0.1080.0010.109
hg17.exoniphy.LENGTH0.3920.0040.395
hg17.geneSymbol.LENGTH0.1070.0010.108
hg17.geneid.LENGTH0.0730.0010.074
hg17.genscan.LENGTH0.0570.0010.058
hg17.knownGene.LENGTH0.1070.0010.108
hg17.refGene.LENGTH0.1060.0010.107
hg17.sgpGene.LENGTH0.0760.0020.078
hg17.vegaGene.LENGTH1.0510.0011.057
hg17.vegaPseudoGene.LENGTH0.0160.0000.016
hg17.xenoRefGene.LENGTH0.1800.0020.182
hg18.acembly.LENGTH0.4270.0020.429
hg18.acescan.LENGTH0.0070.0020.009
hg18.ccdsGene.LENGTH0.0310.0010.032
hg18.ensGene.LENGTH0.1710.0010.172
hg18.exoniphy.LENGTH0.4200.0020.422
hg18.geneSymbol.LENGTH0.0970.0020.098
hg18.geneid.LENGTH0.0730.0010.073
hg18.genscan.LENGTH0.0590.0000.059
hg18.knownGene.LENGTH0.1440.0020.147
hg18.knownGeneOld3.LENGTH0.0640.0000.066
hg18.refGene.LENGTH0.0870.0000.088
hg18.sgpGene.LENGTH0.0660.0020.068
hg18.sibGene.LENGTH0.3350.0010.336
hg18.xenoRefGene.LENGTH0.3550.0020.358
hg19.ccdsGene.LENGTH0.0380.0000.040
hg19.ensGene.LENGTH0.3030.0000.303
hg19.exoniphy.LENGTH0.4240.0030.427
hg19.geneSymbol.LENGTH0.1090.0010.111
hg19.knownGene.LENGTH0.1710.0020.174
hg19.nscanGene.LENGTH0.1550.0010.158
hg19.refGene.LENGTH0.0980.0010.099
hg19.xenoRefGene.LENGTH0.3820.0010.384
loxAfr3.xenoRefGene.LENGTH0.8320.0020.835
mm7.ensGene.LENGTH0.1170.0000.118
mm7.geneSymbol.LENGTH0.0910.0010.094
mm7.geneid.LENGTH0.0770.0020.079
mm7.genscan.LENGTH0.2740.0010.274
mm7.knownGene.LENGTH0.0960.0020.097
mm7.refGene.LENGTH0.0840.0010.086
mm7.sgpGene.LENGTH0.0750.0030.078
mm7.xenoRefGene.LENGTH0.3230.0020.326
mm8.ccdsGene.LENGTH0.0230.0000.023
mm8.ensGene.LENGTH0.0790.0000.079
mm8.geneSymbol.LENGTH0.0840.0010.087
mm8.geneid.LENGTH0.0690.0020.071
mm8.genscan.LENGTH0.0570.0000.058
mm8.knownGene.LENGTH0.0920.0000.092
mm8.nscanGene.LENGTH0.0600.0010.060
mm8.refGene.LENGTH0.0810.0000.082
mm8.sgpGene.LENGTH0.0700.0000.071
mm8.sibGene.LENGTH0.4420.0110.454
mm8.xenoRefGene.LENGTH0.3670.0010.369
mm9.acembly.LENGTH0.3240.0000.326
mm9.ccdsGene.LENGTH0.0290.0010.030
mm9.ensGene.LENGTH0.1480.0000.149
mm9.exoniphy.LENGTH0.4250.0000.426
mm9.geneSymbol.LENGTH0.0860.0000.088
mm9.geneid.LENGTH0.0830.0000.083
mm9.genscan.LENGTH0.0620.0010.062
mm9.knownGene.LENGTH0.2250.0010.227
mm9.nscanGene.LENGTH0.0570.0010.059
mm9.refGene.LENGTH0.0830.0010.084
mm9.sgpGene.LENGTH0.0790.0000.080
mm9.xenoRefGene.LENGTH0.3420.0020.344
monDom1.genscan.LENGTH0.0610.0000.063
monDom4.ensGene.LENGTH0.0720.0010.073
monDom4.geneSymbol.LENGTH0.0030.0010.003
monDom4.genscan.LENGTH0.0500.0000.051
monDom4.nscanGene.LENGTH0.0470.0020.050
monDom4.refGene.LENGTH0.0030.0000.004
monDom4.xenoRefGene.LENGTH0.3620.0020.366
monDom5.ensGene.LENGTH0.1120.0010.113
monDom5.geneSymbol.LENGTH0.0040.0000.003
monDom5.genscan.LENGTH0.0520.0000.053
monDom5.nscanGene.LENGTH0.1030.0000.105
monDom5.refGene.LENGTH0.0030.0000.004
monDom5.xenoRefGene.LENGTH0.5890.0030.593
ornAna1.ensGene.LENGTH0.0930.0010.093
ornAna1.geneSymbol.LENGTH0.0030.0000.003
ornAna1.refGene.LENGTH0.0010.0000.003
ornAna1.xenoRefGene.LENGTH0.5580.0010.561
oryLat2.ensGene.LENGTH0.0780.0000.078
oryLat2.geneSymbol.LENGTH0.0030.0000.004
oryLat2.refGene.LENGTH0.0010.0010.004
oryLat2.xenoRefGene.LENGTH0.5190.0010.522
panTro1.ensGene.LENGTH0.5230.0000.523
panTro1.geneid.LENGTH0.0480.0000.048
panTro1.genscan.LENGTH0.060.000.06
panTro1.xenoRefGene.LENGTH0.1080.0000.110
panTro2.ensGene.LENGTH0.1110.0010.111
panTro2.geneSymbol.LENGTH0.0950.0000.095
panTro2.genscan.LENGTH0.0570.0020.060
panTro2.nscanGene.LENGTH0.0620.0010.063
panTro2.refGene.LENGTH0.0940.0010.096
panTro2.xenoRefGene.LENGTH0.4870.0010.488
petMar1.xenoRefGene.LENGTH0.260.000.26
ponAbe2.ensGene.LENGTH0.0870.0010.087
ponAbe2.geneSymbol.LENGTH0.0110.0000.013
ponAbe2.genscan.LENGTH0.0610.0000.062
ponAbe2.nscanGene.LENGTH0.060.000.06
ponAbe2.refGene.LENGTH0.0120.0000.011
ponAbe2.xenoRefGene.LENGTH0.6080.0010.609
priPac1.xenoRefGene.LENGTH0.3550.0010.356
rheMac2.ensGene.LENGTH0.1210.0010.123
rheMac2.geneSymbol.LENGTH0.0050.0020.005
rheMac2.geneid.LENGTH0.0690.0010.070
rheMac2.nscanGene.LENGTH0.0620.0010.062
rheMac2.refGene.LENGTH0.0040.0000.005
rheMac2.sgpGene.LENGTH0.0710.0010.072
rheMac2.xenoRefGene.LENGTH0.4560.0010.458
rn3.ensGene.LENGTH0.0960.0010.097
rn3.geneSymbol.LENGTH0.0490.0010.051
rn3.geneid.LENGTH0.0510.0000.051
rn3.genscan.LENGTH0.0620.0010.063
rn3.knownGene.LENGTH0.0210.0020.023
rn3.nscanGene.LENGTH0.2410.0000.242
rn3.refGene.LENGTH0.050.000.05
rn3.sgpGene.LENGTH0.0570.0000.058
rn3.xenoRefGene.LENGTH0.5420.0000.544
rn4.ensGene.LENGTH0.1270.0010.127
rn4.geneSymbol.LENGTH0.0480.0020.050
rn4.geneid.LENGTH0.0840.0000.084
rn4.genscan.LENGTH0.0620.0000.062
rn4.knownGene.LENGTH0.0230.0000.024
rn4.nscanGene.LENGTH0.0530.0000.054
rn4.refGene.LENGTH0.0460.0010.047
rn4.sgpGene.LENGTH0.0790.0020.082
rn4.xenoRefGene.LENGTH0.3120.0020.314
sacCer1.ensGene.LENGTH0.0180.0000.018
sacCer2.ensGene.LENGTH0.0160.0000.016
strPur1.geneSymbol.LENGTH0.0040.0000.005
strPur1.genscan.LENGTH0.0580.0020.061
strPur1.refGene.LENGTH0.0040.0010.004
strPur1.xenoRefGene.LENGTH0.4380.0020.440
strPur2.geneSymbol.LENGTH0.0030.0000.004
strPur2.genscan.LENGTH0.1020.0030.104
strPur2.refGene.LENGTH0.0040.0000.004
strPur2.xenoRefGene.LENGTH0.5810.0030.584
supportedGeneIDs3.1870.1515.485
supportedGenomes0.2130.0091.104
taeGut1.ensGene.LENGTH0.0550.0020.058
taeGut1.geneSymbol.LENGTH0.0010.0010.003
taeGut1.genscan.LENGTH0.0280.0010.029
taeGut1.nscanGene.LENGTH0.0230.0000.023
taeGut1.refGene.LENGTH0.0020.0010.002
taeGut1.xenoRefGene.LENGTH0.3730.0040.377
tetNig1.ensGene.LENGTH0.0750.0020.076
tetNig1.geneid.LENGTH0.0560.0010.058
tetNig1.genscan.LENGTH0.0450.0000.046
tetNig1.nscanGene.LENGTH0.0600.0010.061
tetNig2.ensGene.LENGTH0.0640.0010.066
unfactor0.0010.0050.006
xenTro1.genscan.LENGTH0.0750.0030.077
xenTro2.ensGene.LENGTH0.0770.0010.077
xenTro2.geneSymbol.LENGTH0.0290.0010.029
xenTro2.genscan.LENGTH0.0650.0010.066
xenTro2.refGene.LENGTH0.0270.0010.027