| Back to Build/check report for BioC 3.21 experimental data |
|
This page was generated on 2025-10-16 15:01 -0400 (Thu, 16 Oct 2025).
| Hostname | OS | Arch (*) | R version | Installed pkgs |
|---|---|---|---|---|
| nebbiolo1 | Linux (Ubuntu 24.04.3 LTS) | x86_64 | 4.5.1 (2025-06-13) -- "Great Square Root" | 4833 |
| Click on any hostname to see more info about the system (e.g. compilers) (*) as reported by 'uname -p', except on Windows and Mac OS X | ||||
| Package 3/432 | Hostname | OS / Arch | INSTALL | BUILD | CHECK | ||||||||
| affydata 1.56.0 (landing page) Robert D Shear
| nebbiolo1 | Linux (Ubuntu 24.04.3 LTS) / x86_64 | OK | OK | WARNINGS | ||||||||
|
To the developers/maintainers of the affydata package: - Use the following Renviron settings to reproduce errors and warnings. - If 'R CMD check' started to fail recently on the Linux builder(s) over a missing dependency, add the missing dependency to 'Suggests:' in your DESCRIPTION file. See Renviron.bioc for more information. |
| Package: affydata |
| Version: 1.56.0 |
| Command: /home/biocbuild/bbs-3.21-bioc/R/bin/R CMD INSTALL affydata |
| StartedAt: 2025-10-16 10:57:49 -0400 (Thu, 16 Oct 2025) |
| EndedAt: 2025-10-16 10:57:52 -0400 (Thu, 16 Oct 2025) |
| EllapsedTime: 2.9 seconds |
| RetCode: 0 |
| Status: OK |
##############################################################################
##############################################################################
###
### Running command:
###
### /home/biocbuild/bbs-3.21-bioc/R/bin/R CMD INSTALL affydata
###
##############################################################################
##############################################################################
* installing to library ‘/home/biocbuild/bbs-3.21-bioc/R/site-library’
* installing *source* package ‘affydata’ ...
** this is package ‘affydata’ version ‘1.56.0’
** using staged installation
** R
** data
** inst
** byte-compile and prepare package for lazy loading
** help
*** installing help indices
** building package indices
** installing vignettes
** testing if installed package can be loaded from temporary location
Package
[1,] "affydata"
LibPath
[1,] "/home/biocbuild/bbs-3.21-bioc/R/site-library/00LOCK-affydata/00new"
Item Title
[1,] "Dilution" "AffyBatch instance Dilution"
** testing if installed package can be loaded from final location
Package LibPath Item
[1,] "affydata" "/home/biocbuild/bbs-3.21-bioc/R/site-library" "Dilution"
Title
[1,] "AffyBatch instance Dilution"
** testing if installed package keeps a record of temporary installation path
* DONE (affydata)