| Back to Build/check report for BioC 3.21 experimental data |
|
This page was generated on 2025-10-16 15:01 -0400 (Thu, 16 Oct 2025).
| Hostname | OS | Arch (*) | R version | Installed pkgs |
|---|---|---|---|---|
| nebbiolo1 | Linux (Ubuntu 24.04.3 LTS) | x86_64 | 4.5.1 (2025-06-13) -- "Great Square Root" | 4833 |
| Click on any hostname to see more info about the system (e.g. compilers) (*) as reported by 'uname -p', except on Windows and Mac OS X | ||||
| Package 255/432 | Hostname | OS / Arch | INSTALL | BUILD | CHECK | ||||||||
| MouseGastrulationData 1.22.0 (landing page) Jonathan Griffiths
| nebbiolo1 | Linux (Ubuntu 24.04.3 LTS) / x86_64 | OK | OK | OK | ||||||||
|
To the developers/maintainers of the MouseGastrulationData package: - Use the following Renviron settings to reproduce errors and warnings. - If 'R CMD check' started to fail recently on the Linux builder(s) over a missing dependency, add the missing dependency to 'Suggests:' in your DESCRIPTION file. See Renviron.bioc for more information. |
| Package: MouseGastrulationData |
| Version: 1.22.0 |
| Command: /home/biocbuild/bbs-3.21-bioc/R/bin/R CMD check --install=check:MouseGastrulationData.install-out.txt --library=/home/biocbuild/bbs-3.21-bioc/R/site-library --timings MouseGastrulationData_1.22.0.tar.gz |
| StartedAt: 2025-10-16 12:38:20 -0400 (Thu, 16 Oct 2025) |
| EndedAt: 2025-10-16 12:44:46 -0400 (Thu, 16 Oct 2025) |
| EllapsedTime: 385.7 seconds |
| RetCode: 0 |
| Status: OK |
| CheckDir: MouseGastrulationData.Rcheck |
| Warnings: 0 |
##############################################################################
##############################################################################
###
### Running command:
###
### /home/biocbuild/bbs-3.21-bioc/R/bin/R CMD check --install=check:MouseGastrulationData.install-out.txt --library=/home/biocbuild/bbs-3.21-bioc/R/site-library --timings MouseGastrulationData_1.22.0.tar.gz
###
##############################################################################
##############################################################################
* using log directory ‘/home/biocbuild/bbs-3.21-data-experiment/meat/MouseGastrulationData.Rcheck’
* using R version 4.5.1 (2025-06-13)
* using platform: x86_64-pc-linux-gnu
* R was compiled by
gcc (Ubuntu 13.3.0-6ubuntu2~24.04) 13.3.0
GNU Fortran (Ubuntu 13.3.0-6ubuntu2~24.04) 13.3.0
* running under: Ubuntu 24.04.3 LTS
* using session charset: UTF-8
* checking for file ‘MouseGastrulationData/DESCRIPTION’ ... OK
* this is package ‘MouseGastrulationData’ version ‘1.22.0’
* package encoding: UTF-8
* checking package namespace information ... OK
* checking package dependencies ... OK
* checking if this is a source package ... OK
* checking if there is a namespace ... OK
* checking for hidden files and directories ... OK
* checking for portable file names ... OK
* checking for sufficient/correct file permissions ... OK
* checking whether package ‘MouseGastrulationData’ can be installed ... OK
* checking installed package size ... OK
* checking package directory ... OK
* checking ‘build’ directory ... OK
* checking DESCRIPTION meta-information ... OK
* checking top-level files ... OK
* checking for left-over files ... OK
* checking index information ... OK
* checking package subdirectories ... OK
* checking code files for non-ASCII characters ... OK
* checking R files for syntax errors ... OK
* checking whether the package can be loaded ... OK
* checking whether the package can be loaded with stated dependencies ... OK
* checking whether the package can be unloaded cleanly ... OK
* checking whether the namespace can be loaded with stated dependencies ... OK
* checking whether the namespace can be unloaded cleanly ... OK
* checking loading without being on the library search path ... OK
* checking dependencies in R code ... OK
* checking S3 generic/method consistency ... OK
* checking replacement functions ... OK
* checking foreign function calls ... OK
* checking R code for possible problems ... NOTE
.addAltExp: no visible global function definition for ‘assays’
.addAltExp: no visible global function definition for ‘assays<-’
.makeCsparse: no visible global function definition for ‘assayNames’
.makeCsparse: no visible global function definition for ‘is’
.makeCsparse: no visible global function definition for ‘assay’
.makeCsparse: no visible global function definition for ‘assay<-’
Undefined global functions or variables:
assay assay<- assayNames assays assays<- is
Consider adding
importFrom("methods", "is")
to your NAMESPACE file (and ensure that your DESCRIPTION Imports field
contains 'methods').
* checking Rd files ... NOTE
checkRd: (-1) GuibentifExtraData.Rd:23: Lost braces in \itemize; meant \describe ?
checkRd: (-1) GuibentifExtraData.Rd:24: Lost braces in \itemize; meant \describe ?
checkRd: (-1) GuibentifExtraData.Rd:28: Lost braces in \itemize; meant \describe ?
checkRd: (-1) GuibentifExtraData.Rd:29: Lost braces in \itemize; meant \describe ?
checkRd: (-1) GuibentifExtraData.Rd:30: Lost braces in \itemize; meant \describe ?
* checking Rd metadata ... OK
* checking Rd cross-references ... NOTE
Found the following Rd file(s) with Rd \link{} targets missing package
anchors:
BPSATACData.Rd: SingleCellExperiment-class
EmbryoAtlasData.Rd: SingleCellExperiment-class, List-class
LohoffSeqFISHData.Rd: SpatialExperiment-class
RAMultiomeData.Rd: SingleCellExperiment-class
TChimeraData.Rd: SingleCellExperiment-class, List-class
Tal1ChimeraData.Rd: SingleCellExperiment-class, List-class
WTChimeraData.Rd: SingleCellExperiment-class, List-class
Please provide package anchors for all Rd \link{} targets not in the
package itself and the base packages.
* checking for missing documentation entries ... OK
* checking for code/documentation mismatches ... OK
* checking Rd \usage sections ... OK
* checking Rd contents ... OK
* checking for unstated dependencies in examples ... OK
* checking files in ‘vignettes’ ... OK
* checking examples ... OK
Examples with CPU (user + system) or elapsed time > 5s
user system elapsed
Tal1ChimeraData 26.092 3.425 30.674
EmbryoAtlasData 19.822 2.624 23.942
TChimeraData 15.758 1.828 18.580
WTChimeraData 12.917 1.390 15.307
LohoffSeqFISHData 10.202 0.739 12.332
RAMultiomeData 7.667 0.702 8.871
GuibentifExtraData 5.520 0.393 6.448
* checking for unstated dependencies in ‘tests’ ... OK
* checking tests ...
Running ‘testthat.R’
OK
* checking for unstated dependencies in vignettes ... OK
* checking package vignettes ... OK
* checking re-building of vignette outputs ... OK
* checking PDF version of manual ... OK
* DONE
Status: 3 NOTEs
See
‘/home/biocbuild/bbs-3.21-data-experiment/meat/MouseGastrulationData.Rcheck/00check.log’
for details.
MouseGastrulationData.Rcheck/00install.out
############################################################################## ############################################################################## ### ### Running command: ### ### /home/biocbuild/bbs-3.21-bioc/R/bin/R CMD INSTALL MouseGastrulationData ### ############################################################################## ############################################################################## * installing to library ‘/home/biocbuild/bbs-3.21-bioc/R/site-library’ * installing *source* package ‘MouseGastrulationData’ ... ** this is package ‘MouseGastrulationData’ version ‘1.22.0’ ** using staged installation ** R ** inst ** byte-compile and prepare package for lazy loading ** help *** installing help indices ** building package indices ** installing vignettes ** testing if installed package can be loaded from temporary location ** testing if installed package can be loaded from final location ** testing if installed package keeps a record of temporary installation path * DONE (MouseGastrulationData)
MouseGastrulationData.Rcheck/tests/testthat.Rout
R version 4.5.1 (2025-06-13) -- "Great Square Root"
Copyright (C) 2025 The R Foundation for Statistical Computing
Platform: x86_64-pc-linux-gnu
R is free software and comes with ABSOLUTELY NO WARRANTY.
You are welcome to redistribute it under certain conditions.
Type 'license()' or 'licence()' for distribution details.
R is a collaborative project with many contributors.
Type 'contributors()' for more information and
'citation()' on how to cite R or R packages in publications.
Type 'demo()' for some demos, 'help()' for on-line help, or
'help.start()' for an HTML browser interface to help.
Type 'q()' to quit R.
> library(testthat)
> library(MouseGastrulationData)
Loading required package: SingleCellExperiment
Loading required package: SummarizedExperiment
Loading required package: MatrixGenerics
Loading required package: matrixStats
Attaching package: 'MatrixGenerics'
The following objects are masked from 'package:matrixStats':
colAlls, colAnyNAs, colAnys, colAvgsPerRowSet, colCollapse,
colCounts, colCummaxs, colCummins, colCumprods, colCumsums,
colDiffs, colIQRDiffs, colIQRs, colLogSumExps, colMadDiffs,
colMads, colMaxs, colMeans2, colMedians, colMins, colOrderStats,
colProds, colQuantiles, colRanges, colRanks, colSdDiffs, colSds,
colSums2, colTabulates, colVarDiffs, colVars, colWeightedMads,
colWeightedMeans, colWeightedMedians, colWeightedSds,
colWeightedVars, rowAlls, rowAnyNAs, rowAnys, rowAvgsPerColSet,
rowCollapse, rowCounts, rowCummaxs, rowCummins, rowCumprods,
rowCumsums, rowDiffs, rowIQRDiffs, rowIQRs, rowLogSumExps,
rowMadDiffs, rowMads, rowMaxs, rowMeans2, rowMedians, rowMins,
rowOrderStats, rowProds, rowQuantiles, rowRanges, rowRanks,
rowSdDiffs, rowSds, rowSums2, rowTabulates, rowVarDiffs, rowVars,
rowWeightedMads, rowWeightedMeans, rowWeightedMedians,
rowWeightedSds, rowWeightedVars
Loading required package: GenomicRanges
Loading required package: stats4
Loading required package: BiocGenerics
Loading required package: generics
Attaching package: 'generics'
The following objects are masked from 'package:base':
as.difftime, as.factor, as.ordered, intersect, is.element, setdiff,
setequal, union
Attaching package: 'BiocGenerics'
The following objects are masked from 'package:stats':
IQR, mad, sd, var, xtabs
The following objects are masked from 'package:base':
Filter, Find, Map, Position, Reduce, anyDuplicated, aperm, append,
as.data.frame, basename, cbind, colnames, dirname, do.call,
duplicated, eval, evalq, get, grep, grepl, is.unsorted, lapply,
mapply, match, mget, order, paste, pmax, pmax.int, pmin, pmin.int,
rank, rbind, rownames, sapply, saveRDS, table, tapply, unique,
unsplit, which.max, which.min
Loading required package: S4Vectors
Attaching package: 'S4Vectors'
The following object is masked from 'package:utils':
findMatches
The following objects are masked from 'package:base':
I, expand.grid, unname
Loading required package: IRanges
Loading required package: GenomeInfoDb
Loading required package: Biobase
Welcome to Bioconductor
Vignettes contain introductory material; view with
'browseVignettes()'. To cite Bioconductor, see
'citation("Biobase")', and for packages 'citation("pkgname")'.
Attaching package: 'Biobase'
The following object is masked from 'package:MatrixGenerics':
rowMedians
The following objects are masked from 'package:matrixStats':
anyMissing, rowMedians
Loading required package: SpatialExperiment
> test_check("MouseGastrulationData")
[ FAIL 0 | WARN 0 | SKIP 0 | PASS 1 ]
>
> proc.time()
user system elapsed
20.996 1.665 23.567
MouseGastrulationData.Rcheck/MouseGastrulationData-Ex.timings
| name | user | system | elapsed | |
| AtlasSampleMetadata | 0.004 | 0.000 | 0.005 | |
| BPSATACData | 0 | 0 | 0 | |
| EmbryoAtlasData | 19.822 | 2.624 | 23.942 | |
| EmbryoCelltypeColours | 0 | 0 | 0 | |
| GuibentifExtraData | 5.520 | 0.393 | 6.448 | |
| LohoffSeqFISHData | 10.202 | 0.739 | 12.332 | |
| RAMultiomeData | 7.667 | 0.702 | 8.871 | |
| RASampleMetadata | 0.001 | 0.000 | 0.001 | |
| TChimeraData | 15.758 | 1.828 | 18.580 | |
| Tal1ChimeraData | 26.092 | 3.425 | 30.674 | |
| WTChimeraData | 12.917 | 1.390 | 15.307 | |