| Back to Build/check report for BioC 3.21 experimental data |
|
This page was generated on 2025-10-16 15:01 -0400 (Thu, 16 Oct 2025).
| Hostname | OS | Arch (*) | R version | Installed pkgs |
|---|---|---|---|---|
| nebbiolo1 | Linux (Ubuntu 24.04.3 LTS) | x86_64 | 4.5.1 (2025-06-13) -- "Great Square Root" | 4833 |
| Click on any hostname to see more info about the system (e.g. compilers) (*) as reported by 'uname -p', except on Windows and Mac OS X | ||||
| Package 219/432 | Hostname | OS / Arch | INSTALL | BUILD | CHECK | ||||||||
| LungCancerLines 0.46.0 (landing page) Michael Lawrence
| nebbiolo1 | Linux (Ubuntu 24.04.3 LTS) / x86_64 | OK | OK | OK | ||||||||
|
To the developers/maintainers of the LungCancerLines package: - Use the following Renviron settings to reproduce errors and warnings. - If 'R CMD check' started to fail recently on the Linux builder(s) over a missing dependency, add the missing dependency to 'Suggests:' in your DESCRIPTION file. See Renviron.bioc for more information. |
| Package: LungCancerLines |
| Version: 0.46.0 |
| Command: /home/biocbuild/bbs-3.21-bioc/R/bin/R CMD check --install=check:LungCancerLines.install-out.txt --library=/home/biocbuild/bbs-3.21-bioc/R/site-library --timings LungCancerLines_0.46.0.tar.gz |
| StartedAt: 2025-10-16 12:32:36 -0400 (Thu, 16 Oct 2025) |
| EndedAt: 2025-10-16 12:33:46 -0400 (Thu, 16 Oct 2025) |
| EllapsedTime: 69.8 seconds |
| RetCode: 0 |
| Status: OK |
| CheckDir: LungCancerLines.Rcheck |
| Warnings: 0 |
##############################################################################
##############################################################################
###
### Running command:
###
### /home/biocbuild/bbs-3.21-bioc/R/bin/R CMD check --install=check:LungCancerLines.install-out.txt --library=/home/biocbuild/bbs-3.21-bioc/R/site-library --timings LungCancerLines_0.46.0.tar.gz
###
##############################################################################
##############################################################################
* using log directory ‘/home/biocbuild/bbs-3.21-data-experiment/meat/LungCancerLines.Rcheck’
* using R version 4.5.1 (2025-06-13)
* using platform: x86_64-pc-linux-gnu
* R was compiled by
gcc (Ubuntu 13.3.0-6ubuntu2~24.04) 13.3.0
GNU Fortran (Ubuntu 13.3.0-6ubuntu2~24.04) 13.3.0
* running under: Ubuntu 24.04.3 LTS
* using session charset: UTF-8
* checking for file ‘LungCancerLines/DESCRIPTION’ ... OK
* checking extension type ... Package
* this is package ‘LungCancerLines’ version ‘0.46.0’
* checking package namespace information ... OK
* checking package dependencies ... OK
* checking if this is a source package ... OK
* checking if there is a namespace ... OK
* checking for hidden files and directories ... OK
* checking for portable file names ... OK
* checking for sufficient/correct file permissions ... OK
* checking whether package ‘LungCancerLines’ can be installed ... OK
* checking installed package size ... OK
* checking package directory ... OK
* checking DESCRIPTION meta-information ... OK
* checking top-level files ... OK
* checking for left-over files ... OK
* checking index information ... OK
* checking package subdirectories ... OK
* checking code files for non-ASCII characters ... OK
* checking R files for syntax errors ... OK
* checking whether the package can be loaded ... OK
* checking whether the package can be loaded with stated dependencies ... OK
* checking whether the package can be unloaded cleanly ... OK
* checking whether the namespace can be loaded with stated dependencies ... OK
* checking whether the namespace can be unloaded cleanly ... OK
* checking loading without being on the library search path ... OK
* checking dependencies in R code ... OK
* checking S3 generic/method consistency ... OK
* checking replacement functions ... OK
* checking foreign function calls ... OK
* checking R code for possible problems ... OK
* checking Rd files ... OK
* checking Rd metadata ... NOTE
Invalid package aliases in Rd file 'TP53Genome-package.Rd':
‘TP53Genome-package’
* checking Rd cross-references ... OK
* checking for missing documentation entries ... OK
* checking for code/documentation mismatches ... OK
* checking Rd \usage sections ... OK
* checking Rd contents ... OK
* checking for unstated dependencies in examples ... OK
* checking examples ... OK
* checking PDF version of manual ... OK
* DONE
Status: 1 NOTE
See
‘/home/biocbuild/bbs-3.21-data-experiment/meat/LungCancerLines.Rcheck/00check.log’
for details.
LungCancerLines.Rcheck/00install.out
############################################################################## ############################################################################## ### ### Running command: ### ### /home/biocbuild/bbs-3.21-bioc/R/bin/R CMD INSTALL LungCancerLines ### ############################################################################## ############################################################################## * installing to library ‘/home/biocbuild/bbs-3.21-bioc/R/site-library’ * installing *source* package ‘LungCancerLines’ ... ** this is package ‘LungCancerLines’ version ‘0.46.0’ ** using staged installation ** R ** inst ** byte-compile and prepare package for lazy loading ** help *** installing help indices ** building package indices ** testing if installed package can be loaded from temporary location ** testing if installed package can be loaded from final location ** testing if installed package keeps a record of temporary installation path * DONE (LungCancerLines)
LungCancerLines.Rcheck/LungCancerLines-Ex.timings
| name | user | system | elapsed | |
| LungCancerBamFiles | 0.046 | 0.002 | 0.048 | |
| LungCancerFastqFiles | 0.000 | 0.001 | 0.001 | |
| TP53Genome-package | 0.002 | 0.000 | 0.003 | |