| Back to Build/check report for BioC 3.21 experimental data |
|
This page was generated on 2025-10-16 15:01 -0400 (Thu, 16 Oct 2025).
| Hostname | OS | Arch (*) | R version | Installed pkgs |
|---|---|---|---|---|
| nebbiolo1 | Linux (Ubuntu 24.04.3 LTS) | x86_64 | 4.5.1 (2025-06-13) -- "Great Square Root" | 4833 |
| Click on any hostname to see more info about the system (e.g. compilers) (*) as reported by 'uname -p', except on Windows and Mac OS X | ||||
| Package 208/432 | Hostname | OS / Arch | INSTALL | BUILD | CHECK | ||||||||
| KEGGdzPathwaysGEO 1.46.0 (landing page) Gaurav Bhatti
| nebbiolo1 | Linux (Ubuntu 24.04.3 LTS) / x86_64 | OK | OK | OK | ||||||||
|
To the developers/maintainers of the KEGGdzPathwaysGEO package: - Use the following Renviron settings to reproduce errors and warnings. - If 'R CMD check' started to fail recently on the Linux builder(s) over a missing dependency, add the missing dependency to 'Suggests:' in your DESCRIPTION file. See Renviron.bioc for more information. |
| Package: KEGGdzPathwaysGEO |
| Version: 1.46.0 |
| Command: /home/biocbuild/bbs-3.21-bioc/R/bin/R CMD check --install=check:KEGGdzPathwaysGEO.install-out.txt --library=/home/biocbuild/bbs-3.21-bioc/R/site-library --timings KEGGdzPathwaysGEO_1.46.0.tar.gz |
| StartedAt: 2025-10-16 12:29:50 -0400 (Thu, 16 Oct 2025) |
| EndedAt: 2025-10-16 12:34:39 -0400 (Thu, 16 Oct 2025) |
| EllapsedTime: 288.9 seconds |
| RetCode: 0 |
| Status: OK |
| CheckDir: KEGGdzPathwaysGEO.Rcheck |
| Warnings: 0 |
##############################################################################
##############################################################################
###
### Running command:
###
### /home/biocbuild/bbs-3.21-bioc/R/bin/R CMD check --install=check:KEGGdzPathwaysGEO.install-out.txt --library=/home/biocbuild/bbs-3.21-bioc/R/site-library --timings KEGGdzPathwaysGEO_1.46.0.tar.gz
###
##############################################################################
##############################################################################
* using log directory ‘/home/biocbuild/bbs-3.21-data-experiment/meat/KEGGdzPathwaysGEO.Rcheck’
* using R version 4.5.1 (2025-06-13)
* using platform: x86_64-pc-linux-gnu
* R was compiled by
gcc (Ubuntu 13.3.0-6ubuntu2~24.04) 13.3.0
GNU Fortran (Ubuntu 13.3.0-6ubuntu2~24.04) 13.3.0
* running under: Ubuntu 24.04.3 LTS
* using session charset: UTF-8
* checking for file ‘KEGGdzPathwaysGEO/DESCRIPTION’ ... OK
* checking extension type ... Package
* this is package ‘KEGGdzPathwaysGEO’ version ‘1.46.0’
* checking package namespace information ... OK
* checking package dependencies ... OK
* checking if this is a source package ... OK
* checking if there is a namespace ... OK
* checking for hidden files and directories ... OK
* checking for portable file names ... OK
* checking for sufficient/correct file permissions ... OK
* checking whether package ‘KEGGdzPathwaysGEO’ can be installed ... OK
* checking installed package size ... INFO
installed size is 301.0Mb
sub-directories of 1Mb or more:
data 300.8Mb
* checking package directory ... OK
* checking DESCRIPTION meta-information ... OK
* checking top-level files ... OK
* checking for left-over files ... OK
* checking index information ... OK
* checking package subdirectories ... OK
* checking code files for non-ASCII characters ... OK
* checking R files for syntax errors ... OK
* checking whether the package can be loaded ... OK
* checking whether the package can be loaded with stated dependencies ... OK
* checking whether the package can be unloaded cleanly ... OK
* checking whether the namespace can be loaded with stated dependencies ... OK
* checking whether the namespace can be unloaded cleanly ... OK
* checking loading without being on the library search path ... OK
* checking dependencies in R code ... NOTE
Namespaces in Imports field not imported from:
‘Biobase’ ‘BiocGenerics’
All declared Imports should be used.
* checking S3 generic/method consistency ... OK
* checking replacement functions ... OK
* checking foreign function calls ... OK
* checking R code for possible problems ... OK
* checking Rd files ... OK
* checking Rd metadata ... OK
* checking Rd cross-references ... OK
* checking for missing documentation entries ... OK
* checking for code/documentation mismatches ... OK
* checking Rd \usage sections ... OK
* checking Rd contents ... OK
* checking for unstated dependencies in examples ... OK
* checking contents of ‘data’ directory ... OK
* checking data for non-ASCII characters ... OK
* checking data for ASCII and uncompressed saves ... OK
* checking examples ... OK
* checking PDF version of manual ... OK
* DONE
Status: 1 NOTE
See
‘/home/biocbuild/bbs-3.21-data-experiment/meat/KEGGdzPathwaysGEO.Rcheck/00check.log’
for details.
KEGGdzPathwaysGEO.Rcheck/00install.out
############################################################################## ############################################################################## ### ### Running command: ### ### /home/biocbuild/bbs-3.21-bioc/R/bin/R CMD INSTALL KEGGdzPathwaysGEO ### ############################################################################## ############################################################################## * installing to library ‘/home/biocbuild/bbs-3.21-bioc/R/site-library’ * installing *source* package ‘KEGGdzPathwaysGEO’ ... ** this is package ‘KEGGdzPathwaysGEO’ version ‘1.46.0’ ** using staged installation ** R ** data ** byte-compile and prepare package for lazy loading ** help *** installing help indices ** building package indices ** testing if installed package can be loaded from temporary location ** testing if installed package can be loaded from final location ** testing if installed package keeps a record of temporary installation path * DONE (KEGGdzPathwaysGEO)
KEGGdzPathwaysGEO.Rcheck/KEGGdzPathwaysGEO-Ex.timings
| name | user | system | elapsed | |
| GSE1297 | 0.05 | 0.01 | 0.06 | |
| GSE14762 | 0.117 | 0.009 | 0.125 | |
| GSE15471 | 0.265 | 0.027 | 0.294 | |
| GSE16515 | 0.155 | 0.011 | 0.167 | |
| GSE18842 | 0.321 | 0.037 | 0.358 | |
| GSE19188 | 0.606 | 0.071 | 0.676 | |
| GSE19728 | 0.113 | 0.010 | 0.122 | |
| GSE20153 | 0.098 | 0.005 | 0.103 | |
| GSE20291 | 0.063 | 0.006 | 0.069 | |
| GSE21354 | 0.110 | 0.008 | 0.120 | |
| GSE3467 | 0.104 | 0.004 | 0.108 | |
| GSE3585 | 0.037 | 0.002 | 0.038 | |
| GSE3678 | 0.092 | 0.006 | 0.098 | |
| GSE4107 | 0.120 | 0.006 | 0.126 | |
| GSE5281_EC | 0.113 | 0.007 | 0.121 | |
| GSE5281_HIP | 0.130 | 0.008 | 0.140 | |
| GSE5281_VCX | 0.146 | 0.005 | 0.152 | |
| GSE6956AA | 0.034 | 0.000 | 0.036 | |
| GSE6956C | 0.086 | 0.016 | 0.101 | |
| GSE781 | 0.042 | 0.002 | 0.043 | |
| GSE8671 | 0.249 | 0.015 | 0.263 | |
| GSE8762 | 0.114 | 0.010 | 0.125 | |
| GSE9348 | 0.298 | 0.023 | 0.321 | |
| GSE9476 | 0.099 | 0.011 | 0.110 | |
| KEGGdzPathwaysGEO-package | 0.289 | 0.021 | 0.311 | |