| Back to Build/check report for BioC 3.21 experimental data |
|
This page was generated on 2025-10-16 15:01 -0400 (Thu, 16 Oct 2025).
| Hostname | OS | Arch (*) | R version | Installed pkgs |
|---|---|---|---|---|
| nebbiolo1 | Linux (Ubuntu 24.04.3 LTS) | x86_64 | 4.5.1 (2025-06-13) -- "Great Square Root" | 4833 |
| Click on any hostname to see more info about the system (e.g. compilers) (*) as reported by 'uname -p', except on Windows and Mac OS X | ||||
| Package 198/432 | Hostname | OS / Arch | INSTALL | BUILD | CHECK | ||||||||
| IHWpaper 1.36.0 (landing page) Nikos Ignatiadis
| nebbiolo1 | Linux (Ubuntu 24.04.3 LTS) / x86_64 | OK | OK | OK | ||||||||
|
To the developers/maintainers of the IHWpaper package: - Use the following Renviron settings to reproduce errors and warnings. - If 'R CMD check' started to fail recently on the Linux builder(s) over a missing dependency, add the missing dependency to 'Suggests:' in your DESCRIPTION file. See Renviron.bioc for more information. |
| Package: IHWpaper |
| Version: 1.36.0 |
| Command: /home/biocbuild/bbs-3.21-bioc/R/bin/R CMD check --install=check:IHWpaper.install-out.txt --library=/home/biocbuild/bbs-3.21-bioc/R/site-library --timings IHWpaper_1.36.0.tar.gz |
| StartedAt: 2025-10-16 12:28:35 -0400 (Thu, 16 Oct 2025) |
| EndedAt: 2025-10-16 12:37:09 -0400 (Thu, 16 Oct 2025) |
| EllapsedTime: 514.2 seconds |
| RetCode: 0 |
| Status: OK |
| CheckDir: IHWpaper.Rcheck |
| Warnings: 0 |
##############################################################################
##############################################################################
###
### Running command:
###
### /home/biocbuild/bbs-3.21-bioc/R/bin/R CMD check --install=check:IHWpaper.install-out.txt --library=/home/biocbuild/bbs-3.21-bioc/R/site-library --timings IHWpaper_1.36.0.tar.gz
###
##############################################################################
##############################################################################
* using log directory ‘/home/biocbuild/bbs-3.21-data-experiment/meat/IHWpaper.Rcheck’
* using R version 4.5.1 (2025-06-13)
* using platform: x86_64-pc-linux-gnu
* R was compiled by
gcc (Ubuntu 13.3.0-6ubuntu2~24.04) 13.3.0
GNU Fortran (Ubuntu 13.3.0-6ubuntu2~24.04) 13.3.0
* running under: Ubuntu 24.04.3 LTS
* using session charset: UTF-8
* checking for file ‘IHWpaper/DESCRIPTION’ ... OK
* this is package ‘IHWpaper’ version ‘1.36.0’
* checking package namespace information ... OK
* checking package dependencies ... OK
* checking if this is a source package ... OK
* checking if there is a namespace ... OK
* checking for hidden files and directories ... NOTE
Found the following hidden files and directories:
.travis.yml
These were most likely included in error. See section ‘Package
structure’ in the ‘Writing R Extensions’ manual.
* checking for portable file names ... OK
* checking for sufficient/correct file permissions ... OK
* checking whether package ‘IHWpaper’ can be installed ... OK
* used C++ compiler: ‘g++ (Ubuntu 13.3.0-6ubuntu2~24.04) 13.3.0’
* checking installed package size ... INFO
installed size is 71.5Mb
sub-directories of 1Mb or more:
extdata 69.9Mb
* checking package directory ... OK
* checking ‘build’ directory ... OK
* checking DESCRIPTION meta-information ... OK
* checking top-level files ... OK
* checking for left-over files ... OK
* checking index information ... OK
* checking package subdirectories ... OK
* checking code files for non-ASCII characters ... OK
* checking R files for syntax errors ... OK
* checking whether the package can be loaded ... OK
* checking whether the package can be loaded with stated dependencies ... OK
* checking whether the package can be unloaded cleanly ... OK
* checking whether the namespace can be loaded with stated dependencies ... OK
* checking whether the namespace can be unloaded cleanly ... OK
* checking loading without being on the library search path ... OK
* checking dependencies in R code ... OK
* checking S3 generic/method consistency ... OK
* checking replacement functions ... OK
* checking foreign function calls ... OK
* checking R code for possible problems ... NOTE
scott_fdrreg: no visible global function definition for ‘FDRreg’
scott_fdrreg: no visible global function definition for ‘getFDR’
sim_fun_eval: no visible binding for global variable ‘fdr_method’
sim_fun_eval: no visible binding for global variable ‘fdr_pars’
sim_fun_eval: no visible binding for global variable ‘FDP’
sim_fun_eval: no visible binding for global variable ‘power’
sim_fun_eval: no visible binding for global variable ‘rj_ratio’
sim_fun_eval: no visible binding for global variable ‘FPR’
sim_fun_eval: no visible global function definition for ‘sd’
sim_fun_eval: no visible binding for global variable ‘FWER’
Undefined global functions or variables:
FDP FDRreg FPR FWER fdr_method fdr_pars getFDR power rj_ratio sd
Consider adding
importFrom("stats", "power", "sd")
to your NAMESPACE file.
* checking Rd files ... NOTE
checkRd: (-1) run_evals.Rd:32: Lost braces in \itemize; meant \describe ?
checkRd: (-1) run_evals.Rd:33: Lost braces in \itemize; meant \describe ?
checkRd: (-1) run_evals.Rd:34: Lost braces in \itemize; meant \describe ?
checkRd: (-1) run_evals.Rd:35: Lost braces in \itemize; meant \describe ?
checkRd: (-1) run_evals.Rd:36: Lost braces in \itemize; meant \describe ?
checkRd: (-1) run_evals.Rd:37: Lost braces in \itemize; meant \describe ?
checkRd: (-1) run_evals.Rd:38: Lost braces in \itemize; meant \describe ?
checkRd: (-1) run_evals.Rd:39: Lost braces in \itemize; meant \describe ?
checkRd: (-1) run_evals.Rd:40: Lost braces in \itemize; meant \describe ?
checkRd: (-1) run_evals.Rd:41: Lost braces in \itemize; meant \describe ?
checkRd: (-1) run_evals.Rd:42: Lost braces in \itemize; meant \describe ?
checkRd: (-1) run_evals.Rd:43: Lost braces in \itemize; meant \describe ?
* checking Rd metadata ... OK
* checking Rd cross-references ... OK
* checking for missing documentation entries ... OK
* checking for code/documentation mismatches ... OK
* checking Rd \usage sections ... OK
* checking Rd contents ... OK
* checking for unstated dependencies in examples ... OK
* checking line endings in C/C++/Fortran sources/headers ... OK
* checking compiled code ... NOTE
Note: information on .o files is not available
* checking files in ‘vignettes’ ... OK
* checking examples ... OK
Examples with CPU (user + system) or elapsed time > 5s
user system elapsed
analyze_dataset 14.134 0.433 14.57
* checking for unstated dependencies in ‘tests’ ... OK
* checking tests ...
Running ‘testthat.R’
OK
* checking for unstated dependencies in vignettes ... OK
* checking package vignettes ... OK
* checking re-building of vignette outputs ... OK
* checking PDF version of manual ... OK
* DONE
Status: 4 NOTEs
See
‘/home/biocbuild/bbs-3.21-data-experiment/meat/IHWpaper.Rcheck/00check.log’
for details.
IHWpaper.Rcheck/00install.out
############################################################################## ############################################################################## ### ### Running command: ### ### /home/biocbuild/bbs-3.21-bioc/R/bin/R CMD INSTALL IHWpaper ### ############################################################################## ############################################################################## * installing to library ‘/home/biocbuild/bbs-3.21-bioc/R/site-library’ * installing *source* package ‘IHWpaper’ ... ** this is package ‘IHWpaper’ version ‘1.36.0’ ** using staged installation ** libs using C++ compiler: ‘g++ (Ubuntu 13.3.0-6ubuntu2~24.04) 13.3.0’ g++ -std=gnu++17 -I"/home/biocbuild/bbs-3.21-bioc/R/include" -DNDEBUG -I'/home/biocbuild/bbs-3.21-bioc/R/site-library/Rcpp/include' -I/usr/local/include -fpic -g -O2 -Wall -Werror=format-security -c RcppExports.cpp -o RcppExports.o g++ -std=gnu++17 -I"/home/biocbuild/bbs-3.21-bioc/R/include" -DNDEBUG -I'/home/biocbuild/bbs-3.21-bioc/R/site-library/Rcpp/include' -I/usr/local/include -fpic -g -O2 -Wall -Werror=format-security -c ddhf.cpp -o ddhf.o g++ -std=gnu++17 -shared -L/home/biocbuild/bbs-3.21-bioc/R/lib -L/usr/local/lib -o IHWpaper.so RcppExports.o ddhf.o -L/home/biocbuild/bbs-3.21-bioc/R/lib -lR installing to /home/biocbuild/bbs-3.21-bioc/R/site-library/00LOCK-IHWpaper/00new/IHWpaper/libs ** R ** inst ** byte-compile and prepare package for lazy loading ** help *** installing help indices ** building package indices ** installing vignettes ** testing if installed package can be loaded from temporary location ** checking absolute paths in shared objects and dynamic libraries ** testing if installed package can be loaded from final location ** testing if installed package keeps a record of temporary installation path * DONE (IHWpaper)
IHWpaper.Rcheck/tests/testthat.Rout
R version 4.5.1 (2025-06-13) -- "Great Square Root"
Copyright (C) 2025 The R Foundation for Statistical Computing
Platform: x86_64-pc-linux-gnu
R is free software and comes with ABSOLUTELY NO WARRANTY.
You are welcome to redistribute it under certain conditions.
Type 'license()' or 'licence()' for distribution details.
R is a collaborative project with many contributors.
Type 'contributors()' for more information and
'citation()' on how to cite R or R packages in publications.
Type 'demo()' for some demos, 'help()' for on-line help, or
'help.start()' for an HTML browser interface to help.
Type 'q()' to quit R.
> library("testthat")
> library("IHWpaper")
Loading required package: IHW
>
> test_check("IHWpaper")
[1] "BH"
[1] "LSL GBH"
[1] "TST GBH"
[1] "SBH"
[1] "Clfdr"
[1] "Greedy Indep. Filt."
[1] "IHW"
[1] "IHW-Bonferroni E3"
[1] "Bonferroni"
[1] "qvalue"
[ FAIL 0 | WARN 0 | SKIP 0 | PASS 1 ]
>
> proc.time()
user system elapsed
63.045 1.289 64.331
IHWpaper.Rcheck/IHWpaper-Ex.timings
| name | user | system | elapsed | |
| analyze_dataset | 14.134 | 0.433 | 14.570 | |
| bh | 0.032 | 0.001 | 0.034 | |
| bonf | 0.031 | 0.002 | 0.033 | |
| clfdr | 0.103 | 0.000 | 0.103 | |
| continuous_wrap | 0.078 | 0.001 | 0.080 | |
| ddhf | 2.253 | 0.000 | 2.254 | |
| du_ttest_sim | 0.031 | 0.000 | 0.031 | |
| gbh | 0.063 | 0.000 | 0.063 | |
| ihw_naive | 0.11 | 0.00 | 0.11 | |
| lsl_pi0_est | 0.032 | 0.002 | 0.034 | |
| null_sim | 0.002 | 0.000 | 0.002 | |
| pretty_legend | 0.675 | 0.005 | 0.680 | |
| run_evals | 1.293 | 0.000 | 1.293 | |
| storey_qvalue | 0.047 | 0.000 | 0.047 | |
| stratified_bh | 0.062 | 0.000 | 0.062 | |
| tst_pi0_est | 0.033 | 0.000 | 0.033 | |
| wasserman_normal_prds_sim | 0.005 | 0.001 | 0.005 | |
| wasserman_normal_sim | 0.005 | 0.000 | 0.005 | |