| Back to Build/check report for BioC 3.21 experimental data |
|
This page was generated on 2025-10-16 15:01 -0400 (Thu, 16 Oct 2025).
| Hostname | OS | Arch (*) | R version | Installed pkgs |
|---|---|---|---|---|
| nebbiolo1 | Linux (Ubuntu 24.04.3 LTS) | x86_64 | 4.5.1 (2025-06-13) -- "Great Square Root" | 4833 |
| Click on any hostname to see more info about the system (e.g. compilers) (*) as reported by 'uname -p', except on Windows and Mac OS X | ||||
| Package 27/432 | Hostname | OS / Arch | INSTALL | BUILD | CHECK | ||||||||
| BioPlex 1.14.0 (landing page) Ludwig Geistlinger
| nebbiolo1 | Linux (Ubuntu 24.04.3 LTS) / x86_64 | OK | OK | OK | ||||||||
|
To the developers/maintainers of the BioPlex package: - Use the following Renviron settings to reproduce errors and warnings. - If 'R CMD check' started to fail recently on the Linux builder(s) over a missing dependency, add the missing dependency to 'Suggests:' in your DESCRIPTION file. See Renviron.bioc for more information. |
| Package: BioPlex |
| Version: 1.14.0 |
| Command: /home/biocbuild/bbs-3.21-bioc/R/bin/R CMD check --install=check:BioPlex.install-out.txt --library=/home/biocbuild/bbs-3.21-bioc/R/site-library --timings BioPlex_1.14.0.tar.gz |
| StartedAt: 2025-10-16 11:59:05 -0400 (Thu, 16 Oct 2025) |
| EndedAt: 2025-10-16 12:05:17 -0400 (Thu, 16 Oct 2025) |
| EllapsedTime: 372.5 seconds |
| RetCode: 0 |
| Status: OK |
| CheckDir: BioPlex.Rcheck |
| Warnings: 0 |
##############################################################################
##############################################################################
###
### Running command:
###
### /home/biocbuild/bbs-3.21-bioc/R/bin/R CMD check --install=check:BioPlex.install-out.txt --library=/home/biocbuild/bbs-3.21-bioc/R/site-library --timings BioPlex_1.14.0.tar.gz
###
##############################################################################
##############################################################################
* using log directory ‘/home/biocbuild/bbs-3.21-data-experiment/meat/BioPlex.Rcheck’
* using R version 4.5.1 (2025-06-13)
* using platform: x86_64-pc-linux-gnu
* R was compiled by
gcc (Ubuntu 13.3.0-6ubuntu2~24.04) 13.3.0
GNU Fortran (Ubuntu 13.3.0-6ubuntu2~24.04) 13.3.0
* running under: Ubuntu 24.04.3 LTS
* using session charset: UTF-8
* checking for file ‘BioPlex/DESCRIPTION’ ... OK
* this is package ‘BioPlex’ version ‘1.14.0’
* package encoding: UTF-8
* checking package namespace information ... OK
* checking package dependencies ... OK
* checking if this is a source package ... OK
* checking if there is a namespace ... OK
* checking for hidden files and directories ... OK
* checking for portable file names ... OK
* checking for sufficient/correct file permissions ... OK
* checking whether package ‘BioPlex’ can be installed ... OK
* checking installed package size ... OK
* checking package directory ... OK
* checking ‘build’ directory ... OK
* checking DESCRIPTION meta-information ... OK
* checking top-level files ... OK
* checking for left-over files ... OK
* checking index information ... OK
* checking package subdirectories ... OK
* checking code files for non-ASCII characters ... OK
* checking R files for syntax errors ... OK
* checking whether the package can be loaded ... OK
* checking whether the package can be loaded with stated dependencies ... OK
* checking whether the package can be unloaded cleanly ... OK
* checking whether the namespace can be loaded with stated dependencies ... OK
* checking whether the namespace can be unloaded cleanly ... OK
* checking loading without being on the library search path ... OK
* checking dependencies in R code ... OK
* checking S3 generic/method consistency ... OK
* checking replacement functions ... OK
* checking foreign function calls ... OK
* checking R code for possible problems ... NOTE
getCorum: no visible binding for global variable ‘Organism’
Undefined global functions or variables:
Organism
* checking Rd files ... OK
* checking Rd metadata ... OK
* checking Rd cross-references ... NOTE
Found the following Rd file(s) with Rd \link{} targets missing package
anchors:
annotatePFAM.Rd: graph-class, nodeData
bioplex2graph.Rd: ftM2graphNEL
ccleProteome2SummarizedExperiment.Rd: SummarizedExperiment-class
getBioplexProteome.Rd: SummarizedExperiment-class
getGSE122425.Rd: SummarizedExperiment-class
mapSummarizedExperimentOntoGraph.Rd: SummarizedExperiment-class,
graph-class
Please provide package anchors for all Rd \link{} targets not in the
package itself and the base packages.
* checking for missing documentation entries ... OK
* checking for code/documentation mismatches ... OK
* checking Rd \usage sections ... OK
* checking Rd contents ... OK
* checking for unstated dependencies in examples ... OK
* checking files in ‘vignettes’ ... OK
* checking examples ... OK
Examples with CPU (user + system) or elapsed time > 5s
user system elapsed
ccleProteome2SummarizedExperiment 35.198 0.970 36.541
annotatePFAM 13.577 0.711 15.083
hasSubunit 6.425 0.121 6.749
bioplex2graph 6.365 0.120 6.647
mapSummarizedExperimentOntoGraph 6.280 0.168 6.522
corum2graphlist 5.746 0.188 6.227
* checking for unstated dependencies in vignettes ... OK
* checking package vignettes ... OK
* checking re-building of vignette outputs ... OK
* checking PDF version of manual ... OK
* DONE
Status: 2 NOTEs
See
‘/home/biocbuild/bbs-3.21-data-experiment/meat/BioPlex.Rcheck/00check.log’
for details.
BioPlex.Rcheck/00install.out
############################################################################## ############################################################################## ### ### Running command: ### ### /home/biocbuild/bbs-3.21-bioc/R/bin/R CMD INSTALL BioPlex ### ############################################################################## ############################################################################## * installing to library ‘/home/biocbuild/bbs-3.21-bioc/R/site-library’ * installing *source* package ‘BioPlex’ ... ** this is package ‘BioPlex’ version ‘1.14.0’ ** using staged installation ** R ** inst ** byte-compile and prepare package for lazy loading ** help *** installing help indices ** building package indices ** installing vignettes ** testing if installed package can be loaded from temporary location ** testing if installed package can be loaded from final location ** testing if installed package keeps a record of temporary installation path * DONE (BioPlex)
BioPlex.Rcheck/BioPlex-Ex.timings
| name | user | system | elapsed | |
| annotatePFAM | 13.577 | 0.711 | 15.083 | |
| bioplex2graph | 6.365 | 0.120 | 6.647 | |
| ccleProteome2SummarizedExperiment | 35.198 | 0.970 | 36.541 | |
| corum2graphlist | 5.746 | 0.188 | 6.227 | |
| corum2list | 1.435 | 0.090 | 1.731 | |
| getBioPlex | 1.366 | 0.072 | 1.676 | |
| getBioplexProteome | 0.197 | 0.010 | 0.244 | |
| getCorum | 1.636 | 0.118 | 2.016 | |
| getGSE122425 | 0.524 | 0.007 | 0.533 | |
| getHEK293GenomeTrack | 0.242 | 0.007 | 0.423 | |
| hasSubunit | 6.425 | 0.121 | 6.749 | |
| mapSummarizedExperimentOntoGraph | 6.280 | 0.168 | 6.522 | |