| Back to Build/check report for BioC 3.21 experimental data |
|
This page was generated on 2025-10-16 15:01 -0400 (Thu, 16 Oct 2025).
| Hostname | OS | Arch (*) | R version | Installed pkgs |
|---|---|---|---|---|
| nebbiolo1 | Linux (Ubuntu 24.04.3 LTS) | x86_64 | 4.5.1 (2025-06-13) -- "Great Square Root" | 4833 |
| Click on any hostname to see more info about the system (e.g. compilers) (*) as reported by 'uname -p', except on Windows and Mac OS X | ||||
| Package 6/432 | Hostname | OS / Arch | INSTALL | BUILD | CHECK | ||||||||
| Affyhgu133Plus2Expr 1.42.0 (landing page) Zhicheng Ji
| nebbiolo1 | Linux (Ubuntu 24.04.3 LTS) / x86_64 | OK | OK | OK | ||||||||
|
To the developers/maintainers of the Affyhgu133Plus2Expr package: - Use the following Renviron settings to reproduce errors and warnings. - If 'R CMD check' started to fail recently on the Linux builder(s) over a missing dependency, add the missing dependency to 'Suggests:' in your DESCRIPTION file. See Renviron.bioc for more information. |
| Package: Affyhgu133Plus2Expr |
| Version: 1.42.0 |
| Command: /home/biocbuild/bbs-3.21-bioc/R/bin/R CMD build --keep-empty-dirs --no-resave-data Affyhgu133Plus2Expr |
| StartedAt: 2025-10-16 11:06:13 -0400 (Thu, 16 Oct 2025) |
| EndedAt: 2025-10-16 11:06:29 -0400 (Thu, 16 Oct 2025) |
| EllapsedTime: 16.0 seconds |
| RetCode: 0 |
| Status: OK |
| PackageFile: Affyhgu133Plus2Expr_1.42.0.tar.gz |
| PackageFileSize: 224.4 MiB |
############################################################################## ############################################################################## ### ### Running command: ### ### /home/biocbuild/bbs-3.21-bioc/R/bin/R CMD build --keep-empty-dirs --no-resave-data Affyhgu133Plus2Expr ### ############################################################################## ############################################################################## * checking for file ‘Affyhgu133Plus2Expr/DESCRIPTION’ ... OK * preparing ‘Affyhgu133Plus2Expr’: * checking DESCRIPTION meta-information ... OK * checking for LF line-endings in source and make files and shell scripts * checking for empty or unneeded directories * looking to see if a ‘data/datalist’ file should be added * building ‘Affyhgu133Plus2Expr_1.42.0.tar.gz’