| Back to Multiple platform build/check report for BioC 3.21: simplified long |
|
This page was generated on 2025-10-16 11:41 -0400 (Thu, 16 Oct 2025).
| Hostname | OS | Arch (*) | R version | Installed pkgs |
|---|---|---|---|---|
| nebbiolo1 | Linux (Ubuntu 24.04.3 LTS) | x86_64 | 4.5.1 (2025-06-13) -- "Great Square Root" | 4833 |
| merida1 | macOS 12.7.6 Monterey | x86_64 | 4.5.1 RC (2025-06-05 r88288) -- "Great Square Root" | 4614 |
| kjohnson1 | macOS 13.7.5 Ventura | arm64 | 4.5.1 Patched (2025-06-14 r88325) -- "Great Square Root" | 4555 |
| kunpeng2 | Linux (openEuler 24.03 LTS) | aarch64 | R Under development (unstable) (2025-02-19 r87757) -- "Unsuffered Consequences" | 4586 |
| Click on any hostname to see more info about the system (e.g. compilers) (*) as reported by 'uname -p', except on Windows and Mac OS X | ||||
| Package 2245/2341 | Hostname | OS / Arch | INSTALL | BUILD | CHECK | BUILD BIN | ||||||||
| trio 3.46.0 (landing page) Holger Schwender
| nebbiolo1 | Linux (Ubuntu 24.04.3 LTS) / x86_64 | OK | OK | OK | |||||||||
| merida1 | macOS 12.7.6 Monterey / x86_64 | OK | OK | OK | OK | |||||||||
| kjohnson1 | macOS 13.7.5 Ventura / arm64 | OK | OK | OK | OK | |||||||||
| kunpeng2 | Linux (openEuler 24.03 LTS) / aarch64 | OK | OK | NA | ||||||||||
|
To the developers/maintainers of the trio package: - Allow up to 24 hours (and sometimes 48 hours) for your latest push to git@git.bioconductor.org:packages/trio.git to reflect on this report. See Troubleshooting Build Report for more information. - Use the following Renviron settings to reproduce errors and warnings. - If 'R CMD check' started to fail recently on the Linux builder(s) over a missing dependency, add the missing dependency to 'Suggests:' in your DESCRIPTION file. See Renviron.bioc for more information. |
| Package: trio |
| Version: 3.46.0 |
| Command: /Library/Frameworks/R.framework/Resources/bin/R CMD check --install=check:trio.install-out.txt --library=/Library/Frameworks/R.framework/Resources/library --no-vignettes --timings trio_3.46.0.tar.gz |
| StartedAt: 2025-10-15 16:02:11 -0400 (Wed, 15 Oct 2025) |
| EndedAt: 2025-10-15 16:04:48 -0400 (Wed, 15 Oct 2025) |
| EllapsedTime: 157.1 seconds |
| RetCode: 0 |
| Status: OK |
| CheckDir: trio.Rcheck |
| Warnings: 0 |
##############################################################################
##############################################################################
###
### Running command:
###
### /Library/Frameworks/R.framework/Resources/bin/R CMD check --install=check:trio.install-out.txt --library=/Library/Frameworks/R.framework/Resources/library --no-vignettes --timings trio_3.46.0.tar.gz
###
##############################################################################
##############################################################################
* using log directory ‘/Users/biocbuild/bbs-3.21-bioc/meat/trio.Rcheck’
* using R version 4.5.1 Patched (2025-06-14 r88325)
* using platform: aarch64-apple-darwin20
* R was compiled by
Apple clang version 16.0.0 (clang-1600.0.26.6)
GNU Fortran (GCC) 14.2.0
* running under: macOS Ventura 13.7.5
* using session charset: UTF-8
* using option ‘--no-vignettes’
* checking for file ‘trio/DESCRIPTION’ ... OK
* checking extension type ... Package
* this is package ‘trio’ version ‘3.46.0’
* checking package namespace information ... OK
* checking package dependencies ... OK
* checking if this is a source package ... OK
* checking if there is a namespace ... OK
* checking for hidden files and directories ... OK
* checking for portable file names ... OK
* checking for sufficient/correct file permissions ... OK
* checking whether package ‘trio’ can be installed ... OK
* checking installed package size ... OK
* checking package directory ... OK
* checking ‘build’ directory ... OK
* checking DESCRIPTION meta-information ... OK
* checking top-level files ... OK
* checking for left-over files ... OK
* checking index information ... OK
* checking package subdirectories ... OK
* checking code files for non-ASCII characters ... OK
* checking R files for syntax errors ... OK
* checking whether the package can be loaded ... OK
* checking whether the package can be loaded with stated dependencies ... OK
* checking whether the package can be unloaded cleanly ... OK
* checking whether the namespace can be loaded with stated dependencies ... OK
* checking whether the namespace can be unloaded cleanly ... OK
* checking whether startup messages can be suppressed ... OK
* checking dependencies in R code ... OK
* checking S3 generic/method consistency ... OK
* checking replacement functions ... OK
* checking foreign function calls ... NOTE
Foreign function call to a different package:
.C("clogreg", ..., PACKAGE = "LogicReg")
See chapter ‘System and foreign language interfaces’ in the ‘Writing R
Extensions’ manual.
* checking R code for possible problems ... NOTE
read.pedfile: no visible binding for global variable ‘..ids.select’
Undefined global functions or variables:
..ids.select
* checking Rd files ... OK
* checking Rd metadata ... OK
* checking Rd cross-references ... OK
* checking for missing documentation entries ... OK
* checking for code/documentation mismatches ... OK
* checking Rd \usage sections ... OK
* checking Rd contents ... OK
* checking for unstated dependencies in examples ... OK
* checking contents of ‘data’ directory ... OK
* checking data for non-ASCII characters ... OK
* checking data for ASCII and uncompressed saves ... OK
* checking sizes of PDF files under ‘inst/doc’ ... OK
* checking installed files from ‘inst/doc’ ... OK
* checking files in ‘vignettes’ ... OK
* checking examples ... OK
Examples with CPU (user + system) or elapsed time > 5s
user system elapsed
print.trioFS 5.218 0.071 5.294
* checking for unstated dependencies in vignettes ... OK
* checking package vignettes ... OK
* checking running R code from vignettes ... SKIPPED
* checking re-building of vignette outputs ... SKIPPED
* checking PDF version of manual ... OK
* DONE
Status: 2 NOTEs
See
‘/Users/biocbuild/bbs-3.21-bioc/meat/trio.Rcheck/00check.log’
for details.
trio.Rcheck/00install.out
############################################################################## ############################################################################## ### ### Running command: ### ### /Library/Frameworks/R.framework/Resources/bin/R CMD INSTALL trio ### ############################################################################## ############################################################################## * installing to library ‘/Library/Frameworks/R.framework/Versions/4.5-arm64/Resources/library’ * installing *source* package ‘trio’ ... ** this is package ‘trio’ version ‘3.46.0’ ** using staged installation ** R ** data ** inst ** byte-compile and prepare package for lazy loading ** help *** installing help indices ** building package indices ** installing vignettes ** testing if installed package can be loaded from temporary location ** testing if installed package can be loaded from final location ** testing if installed package keeps a record of temporary installation path * DONE (trio)
trio.Rcheck/trio-Ex.timings
| name | user | system | elapsed | |
| allelicTDT | 0.029 | 0.006 | 0.037 | |
| colEMlrt | 0.103 | 0.008 | 0.114 | |
| colGxE | 0.010 | 0.003 | 0.013 | |
| colGxGPerms | 4.667 | 0.279 | 4.968 | |
| colNtrios | 0.016 | 0.003 | 0.020 | |
| colPOlrt | 0.016 | 0.003 | 0.019 | |
| colTDTmaxTest | 0.068 | 0.010 | 0.078 | |
| colTDTsam | 0.040 | 0.005 | 0.046 | |
| findLDblocks | 0.025 | 0.007 | 0.033 | |
| getLD | 0.026 | 0.006 | 0.032 | |
| getMatPseudo | 0.009 | 0.001 | 0.011 | |
| lrControl | 0.000 | 0.000 | 0.001 | |
| ntrios2Dom | 0.008 | 0.003 | 0.010 | |
| ped2geno | 0 | 0 | 0 | |
| plot.LDblocks | 0.055 | 0.011 | 0.066 | |
| plot.getLD | 0.041 | 0.008 | 0.049 | |
| plot.trioLR | 4.076 | 0.178 | 4.264 | |
| poly4root | 0.001 | 0.000 | 0.001 | |
| print.colGxE | 0.043 | 0.005 | 0.047 | |
| print.trioFS | 5.218 | 0.071 | 5.294 | |
| print.trioLR | 2.161 | 0.043 | 2.209 | |
| probTDT | 0.040 | 0.018 | 0.058 | |
| read.pedfile | 0.000 | 0.001 | 0.000 | |
| removeSNPs | 0.008 | 0.002 | 0.009 | |
| scoreTDT | 0.011 | 0.002 | 0.014 | |
| tdt | 0.021 | 0.002 | 0.024 | |
| tdtGxG | 1.229 | 0.058 | 1.287 | |
| trio.check | 0.579 | 0.018 | 0.597 | |
| trio.data | 0.007 | 0.002 | 0.009 | |
| trio.permTest | 4.554 | 0.124 | 4.700 | |
| trio.power | 0.009 | 0.001 | 0.010 | |
| trio.prepare | 2.105 | 0.069 | 2.194 | |
| trio.sim | 0.474 | 0.021 | 0.498 | |
| trioFS | 4.824 | 0.060 | 4.895 | |
| trioLR | 1.889 | 0.047 | 1.993 | |