| Back to Multiple platform build/check report for BioC 3.21: simplified long |
|
This page was generated on 2025-10-16 11:38 -0400 (Thu, 16 Oct 2025).
| Hostname | OS | Arch (*) | R version | Installed pkgs |
|---|---|---|---|---|
| nebbiolo1 | Linux (Ubuntu 24.04.3 LTS) | x86_64 | 4.5.1 (2025-06-13) -- "Great Square Root" | 4833 |
| merida1 | macOS 12.7.6 Monterey | x86_64 | 4.5.1 RC (2025-06-05 r88288) -- "Great Square Root" | 4614 |
| kjohnson1 | macOS 13.7.5 Ventura | arm64 | 4.5.1 Patched (2025-06-14 r88325) -- "Great Square Root" | 4555 |
| kunpeng2 | Linux (openEuler 24.03 LTS) | aarch64 | R Under development (unstable) (2025-02-19 r87757) -- "Unsuffered Consequences" | 4586 |
| Click on any hostname to see more info about the system (e.g. compilers) (*) as reported by 'uname -p', except on Windows and Mac OS X | ||||
| Package 1997/2341 | Hostname | OS / Arch | INSTALL | BUILD | CHECK | BUILD BIN | ||||||||
| sigsquared 1.40.0 (landing page) UnJin Lee
| nebbiolo1 | Linux (Ubuntu 24.04.3 LTS) / x86_64 | OK | OK | OK | |||||||||
| merida1 | macOS 12.7.6 Monterey / x86_64 | OK | OK | OK | OK | |||||||||
| kjohnson1 | macOS 13.7.5 Ventura / arm64 | OK | OK | OK | OK | |||||||||
| kunpeng2 | Linux (openEuler 24.03 LTS) / aarch64 | OK | OK | OK | ||||||||||
|
To the developers/maintainers of the sigsquared package: - Allow up to 24 hours (and sometimes 48 hours) for your latest push to git@git.bioconductor.org:packages/sigsquared.git to reflect on this report. See Troubleshooting Build Report for more information. - Use the following Renviron settings to reproduce errors and warnings. - If 'R CMD check' started to fail recently on the Linux builder(s) over a missing dependency, add the missing dependency to 'Suggests:' in your DESCRIPTION file. See Renviron.bioc for more information. |
| Package: sigsquared |
| Version: 1.40.0 |
| Command: /home/biocbuild/bbs-3.21-bioc/R/bin/R CMD check --install=check:sigsquared.install-out.txt --library=/home/biocbuild/bbs-3.21-bioc/R/site-library --timings sigsquared_1.40.0.tar.gz |
| StartedAt: 2025-10-16 03:38:30 -0400 (Thu, 16 Oct 2025) |
| EndedAt: 2025-10-16 03:39:39 -0400 (Thu, 16 Oct 2025) |
| EllapsedTime: 69.1 seconds |
| RetCode: 0 |
| Status: OK |
| CheckDir: sigsquared.Rcheck |
| Warnings: 0 |
##############################################################################
##############################################################################
###
### Running command:
###
### /home/biocbuild/bbs-3.21-bioc/R/bin/R CMD check --install=check:sigsquared.install-out.txt --library=/home/biocbuild/bbs-3.21-bioc/R/site-library --timings sigsquared_1.40.0.tar.gz
###
##############################################################################
##############################################################################
* using log directory ‘/home/biocbuild/bbs-3.21-bioc/meat/sigsquared.Rcheck’
* using R version 4.5.1 (2025-06-13)
* using platform: x86_64-pc-linux-gnu
* R was compiled by
gcc (Ubuntu 13.3.0-6ubuntu2~24.04) 13.3.0
GNU Fortran (Ubuntu 13.3.0-6ubuntu2~24.04) 13.3.0
* running under: Ubuntu 24.04.3 LTS
* using session charset: UTF-8
* checking for file ‘sigsquared/DESCRIPTION’ ... OK
* checking extension type ... Package
* this is package ‘sigsquared’ version ‘1.40.0’
* checking package namespace information ... OK
* checking package dependencies ... OK
* checking if this is a source package ... OK
* checking if there is a namespace ... OK
* checking for hidden files and directories ... OK
* checking for portable file names ... OK
* checking for sufficient/correct file permissions ... OK
* checking whether package ‘sigsquared’ can be installed ... OK
* checking installed package size ... OK
* checking package directory ... OK
* checking ‘build’ directory ... OK
* checking DESCRIPTION meta-information ... NOTE
Non-standard license specification:
GPL version 3
Standardizable: TRUE
Standardized license specification:
GPL-3
* checking top-level files ... OK
* checking for left-over files ... OK
* checking index information ... OK
* checking package subdirectories ... OK
* checking code files for non-ASCII characters ... OK
* checking R files for syntax errors ... OK
* checking whether the package can be loaded ... OK
* checking whether the package can be loaded with stated dependencies ... OK
* checking whether the package can be unloaded cleanly ... OK
* checking whether the namespace can be loaded with stated dependencies ... OK
* checking whether the namespace can be unloaded cleanly ... OK
* checking loading without being on the library search path ... OK
* checking dependencies in R code ... NOTE
Package in Depends field not imported from: ‘methods’
These packages need to be imported from (in the NAMESPACE file)
for when this namespace is loaded but not attached.
* checking S3 generic/method consistency ... OK
* checking replacement functions ... OK
* checking foreign function calls ... OK
* checking R code for possible problems ... NOTE
analysisPipeline,ExpressionSet-geneSignature: no visible binding for
global variable ‘nCores’
analysisPipeline,ExpressionSet-geneSignature: no visible global
function definition for ‘mcparallel’
analysisPipeline,ExpressionSet-geneSignature: no visible global
function definition for ‘mccollect’
applySigSolnSpace,ExpressionSet-geneSignature-solnSpace: no visible
binding for global variable ‘mc’
applySigSolnSpace,ExpressionSet-geneSignature-solnSpace: no visible
binding for global variable ‘nCores’
applySigSolnSpace,ExpressionSet-geneSignature-solnSpace: no visible
global function definition for ‘mcparallel’
applySigSolnSpace,ExpressionSet-geneSignature-solnSpace: no visible
global function definition for ‘mccollect’
eJPDF,ExpressionSet-geneSignature-numeric: no visible global function
definition for ‘new’
eJPDF,ExpressionSet-geneSignature-numeric: no visible binding for
global variable ‘mc’
eJPDF,ExpressionSet-geneSignature-numeric: no visible binding for
global variable ‘nCores’
eJPDF,ExpressionSet-geneSignature-numeric: no visible global function
definition for ‘rnorm’
eJPDF,ExpressionSet-geneSignature-numeric: no visible global function
definition for ‘mcparallel’
eJPDF,ExpressionSet-geneSignature-numeric: no visible global function
definition for ‘mccollect’
genGeneDirect,matrix: no visible global function definition for ‘sd’
optCF,ExpressionSet-geneSignature: no visible global function
definition for ‘new’
optCF,ExpressionSet-geneSignature: no visible global function
definition for ‘rnorm’
optCF,ExpressionSet-geneSignature: no visible global function
definition for ‘optim’
summarizeSolnSpace,solnSpace: no visible global function definition for
‘sd’
Undefined global functions or variables:
mc mccollect mcparallel nCores new optim rnorm sd
Consider adding
importFrom("methods", "new")
importFrom("stats", "optim", "rnorm", "sd")
to your NAMESPACE file (and ensure that your DESCRIPTION Imports field
contains 'methods').
* checking Rd files ... OK
* checking Rd metadata ... OK
* checking Rd cross-references ... OK
* checking for missing documentation entries ... OK
* checking for code/documentation mismatches ... OK
* checking Rd \usage sections ... OK
* checking Rd contents ... OK
* checking for unstated dependencies in examples ... OK
* checking contents of ‘data’ directory ... OK
* checking data for non-ASCII characters ... OK
* checking data for ASCII and uncompressed saves ... OK
* checking files in ‘vignettes’ ... OK
* checking examples ... OK
Examples with CPU (user + system) or elapsed time > 5s
user system elapsed
analysisPipeline 10.505 0.069 10.575
* checking for unstated dependencies in ‘tests’ ... OK
* checking tests ...
Running ‘runTests.R’
OK
* checking for unstated dependencies in vignettes ... OK
* checking package vignettes ... OK
* checking re-building of vignette outputs ... OK
* checking PDF version of manual ... OK
* DONE
Status: 3 NOTEs
See
‘/home/biocbuild/bbs-3.21-bioc/meat/sigsquared.Rcheck/00check.log’
for details.
sigsquared.Rcheck/00install.out
############################################################################## ############################################################################## ### ### Running command: ### ### /home/biocbuild/bbs-3.21-bioc/R/bin/R CMD INSTALL sigsquared ### ############################################################################## ############################################################################## * installing to library ‘/home/biocbuild/bbs-3.21-bioc/R/site-library’ * installing *source* package ‘sigsquared’ ... ** this is package ‘sigsquared’ version ‘1.40.0’ ** using staged installation ** R ** data ** inst ** byte-compile and prepare package for lazy loading in method for ‘ensembleCostFcn’ with signature ‘dataSet="ExpressionSet",geneSig="geneSignature",jpdf="solnSpace"’: no definition for class “solnSpace” in method for ‘getCVCuts’ with signature ‘cutoffResults="solnSpace"’: no definition for class “solnSpace” in method for ‘summarizeCVCuts’ with signature ‘cutoffResults="solnSpace"’: no definition for class “solnSpace” ** help *** installing help indices ** building package indices ** installing vignettes ** testing if installed package can be loaded from temporary location ** testing if installed package can be loaded from final location ** testing if installed package keeps a record of temporary installation path * DONE (sigsquared)
sigsquared.Rcheck/tests/runTests.Rout
R version 4.5.1 (2025-06-13) -- "Great Square Root"
Copyright (C) 2025 The R Foundation for Statistical Computing
Platform: x86_64-pc-linux-gnu
R is free software and comes with ABSOLUTELY NO WARRANTY.
You are welcome to redistribute it under certain conditions.
Type 'license()' or 'licence()' for distribution details.
R is a collaborative project with many contributors.
Type 'contributors()' for more information and
'citation()' on how to cite R or R packages in publications.
Type 'demo()' for some demos, 'help()' for on-line help, or
'help.start()' for an HTML browser interface to help.
Type 'q()' to quit R.
> BiocGenerics:::testPackage("sigsquared")
RUNIT TEST PROTOCOL -- Thu Oct 16 03:39:21 2025
***********************************************
Number of test functions: 8
Number of errors: 0
Number of failures: 0
1 Test Suite :
sigsquared RUnit Tests - 8 test functions, 0 errors, 0 failures
Number of test functions: 8
Number of errors: 0
Number of failures: 0
>
> proc.time()
user system elapsed
1.397 0.137 1.520
sigsquared.Rcheck/sigsquared-Ex.timings
| name | user | system | elapsed | |
| analysisPipeline | 10.505 | 0.069 | 10.575 | |
| ensembleAdjustable | 0.077 | 0.002 | 0.077 | |
| geneSignature-class | 0.001 | 0.000 | 0.001 | |
| setGeneSignature | 0.001 | 0.000 | 0.000 | |