| Back to Multiple platform build/check report for BioC 3.21: simplified long |
|
This page was generated on 2025-04-22 13:18 -0400 (Tue, 22 Apr 2025).
| Hostname | OS | Arch (*) | R version | Installed pkgs |
|---|---|---|---|---|
| nebbiolo1 | Linux (Ubuntu 24.04.1 LTS) | x86_64 | 4.5.0 RC (2025-04-04 r88126) -- "How About a Twenty-Six" | 4831 |
| palomino7 | Windows Server 2022 Datacenter | x64 | 4.5.0 RC (2025-04-04 r88126 ucrt) -- "How About a Twenty-Six" | 4573 |
| lconway | macOS 12.7.1 Monterey | x86_64 | 4.5.0 RC (2025-04-04 r88126) -- "How About a Twenty-Six" | 4599 |
| kjohnson3 | macOS 13.7.1 Ventura | arm64 | 4.5.0 RC (2025-04-04 r88126) -- "How About a Twenty-Six" | 4553 |
| kunpeng2 | Linux (openEuler 24.03 LTS) | aarch64 | R Under development (unstable) (2025-02-19 r87757) -- "Unsuffered Consequences" | 4570 |
| Click on any hostname to see more info about the system (e.g. compilers) (*) as reported by 'uname -p', except on Windows and Mac OS X | ||||
| Package 1974/2341 | Hostname | OS / Arch | INSTALL | BUILD | CHECK | BUILD BIN | ||||||||
| sesame 1.26.0 (landing page) Wanding Zhou
| nebbiolo1 | Linux (Ubuntu 24.04.1 LTS) / x86_64 | OK | OK | OK | |||||||||
| palomino7 | Windows Server 2022 Datacenter / x64 | OK | OK | OK | OK | |||||||||
| lconway | macOS 12.7.1 Monterey / x86_64 | OK | OK | OK | OK | |||||||||
| kjohnson3 | macOS 13.7.1 Ventura / arm64 | OK | OK | OK | OK | |||||||||
| kunpeng2 | Linux (openEuler 24.03 LTS) / aarch64 | OK | OK | OK | ||||||||||
|
To the developers/maintainers of the sesame package: - Allow up to 24 hours (and sometimes 48 hours) for your latest push to git@git.bioconductor.org:packages/sesame.git to reflect on this report. See Troubleshooting Build Report for more information. - Use the following Renviron settings to reproduce errors and warnings. - If 'R CMD check' started to fail recently on the Linux builder(s) over a missing dependency, add the missing dependency to 'Suggests:' in your DESCRIPTION file. See Renviron.bioc for more information. |
| Package: sesame |
| Version: 1.26.0 |
| Command: /Library/Frameworks/R.framework/Resources/bin/R CMD check --install=check:sesame.install-out.txt --library=/Library/Frameworks/R.framework/Resources/library --no-vignettes --timings sesame_1.26.0.tar.gz |
| StartedAt: 2025-04-21 21:38:47 -0400 (Mon, 21 Apr 2025) |
| EndedAt: 2025-04-21 21:43:29 -0400 (Mon, 21 Apr 2025) |
| EllapsedTime: 281.5 seconds |
| RetCode: 0 |
| Status: OK |
| CheckDir: sesame.Rcheck |
| Warnings: 0 |
##############################################################################
##############################################################################
###
### Running command:
###
### /Library/Frameworks/R.framework/Resources/bin/R CMD check --install=check:sesame.install-out.txt --library=/Library/Frameworks/R.framework/Resources/library --no-vignettes --timings sesame_1.26.0.tar.gz
###
##############################################################################
##############################################################################
* using log directory ‘/Users/biocbuild/bbs-3.21-bioc/meat/sesame.Rcheck’
* using R version 4.5.0 RC (2025-04-04 r88126)
* using platform: aarch64-apple-darwin20
* R was compiled by
Apple clang version 14.0.0 (clang-1400.0.29.202)
GNU Fortran (GCC) 14.2.0
* running under: macOS Ventura 13.7.1
* using session charset: UTF-8
* using option ‘--no-vignettes’
* checking for file ‘sesame/DESCRIPTION’ ... OK
* checking extension type ... Package
* this is package ‘sesame’ version ‘1.26.0’
* package encoding: UTF-8
* checking package namespace information ... OK
* checking package dependencies ... OK
* checking if this is a source package ... OK
* checking if there is a namespace ... OK
* checking for hidden files and directories ... OK
* checking for portable file names ... OK
* checking for sufficient/correct file permissions ... OK
* checking whether package ‘sesame’ can be installed ... OK
* checking installed package size ... OK
* checking package directory ... OK
* checking ‘build’ directory ... OK
* checking DESCRIPTION meta-information ... OK
* checking top-level files ... OK
* checking for left-over files ... OK
* checking index information ... OK
* checking package subdirectories ... OK
* checking code files for non-ASCII characters ... OK
* checking R files for syntax errors ... OK
* checking whether the package can be loaded ... OK
* checking whether the package can be loaded with stated dependencies ... OK
* checking whether the package can be unloaded cleanly ... OK
* checking whether the namespace can be loaded with stated dependencies ... OK
* checking whether the namespace can be unloaded cleanly ... OK
* checking whether startup messages can be suppressed ... OK
* checking dependencies in R code ... OK
* checking S3 generic/method consistency ... OK
* checking replacement functions ... OK
* checking foreign function calls ... OK
* checking R code for possible problems ... OK
* checking Rd files ... OK
* checking Rd metadata ... OK
* checking Rd cross-references ... OK
* checking for missing documentation entries ... OK
* checking for code/documentation mismatches ... OK
* checking Rd \usage sections ... OK
* checking Rd contents ... OK
* checking for unstated dependencies in examples ... OK
* checking files in ‘vignettes’ ... OK
* checking examples ... OK
Examples with CPU (user + system) or elapsed time > 5s
user system elapsed
imputeBetasByGenomicNeighbors 14.350 0.561 14.986
inferSex 9.195 0.514 9.737
sesameQC_calcStats 8.392 0.733 9.239
sesameQC_plotHeatSNPs 7.758 0.699 8.618
imputeBetas 7.376 0.612 8.100
sesameQC_plotBar 6.749 0.174 6.989
ELBAR 5.589 1.155 6.795
diffRefSet 6.184 0.208 6.428
inferSpecies 6.022 0.337 6.411
getRefSet 5.523 0.204 5.822
sesameQC_plotBetaByDesign 4.412 0.750 5.201
* checking for unstated dependencies in ‘tests’ ... OK
* checking tests ...
Running ‘testthat.R’
OK
* checking for unstated dependencies in vignettes ... OK
* checking package vignettes ... OK
* checking running R code from vignettes ... SKIPPED
* checking re-building of vignette outputs ... SKIPPED
* checking PDF version of manual ... OK
* DONE
Status: OK
sesame.Rcheck/00install.out
############################################################################## ############################################################################## ### ### Running command: ### ### /Library/Frameworks/R.framework/Resources/bin/R CMD INSTALL sesame ### ############################################################################## ############################################################################## * installing to library ‘/Library/Frameworks/R.framework/Versions/4.5-arm64/Resources/library’ * installing *source* package ‘sesame’ ... ** this is package ‘sesame’ version ‘1.26.0’ ** using staged installation ** R ** inst ** byte-compile and prepare package for lazy loading ** help *** installing help indices ** building package indices ** installing vignettes ** testing if installed package can be loaded from temporary location ** testing if installed package can be loaded from final location ** testing if installed package keeps a record of temporary installation path * DONE (sesame)
sesame.Rcheck/tests/testthat.Rout
R version 4.5.0 RC (2025-04-04 r88126) -- "How About a Twenty-Six"
Copyright (C) 2025 The R Foundation for Statistical Computing
Platform: aarch64-apple-darwin20
R is free software and comes with ABSOLUTELY NO WARRANTY.
You are welcome to redistribute it under certain conditions.
Type 'license()' or 'licence()' for distribution details.
R is a collaborative project with many contributors.
Type 'contributors()' for more information and
'citation()' on how to cite R or R packages in publications.
Type 'demo()' for some demos, 'help()' for on-line help, or
'help.start()' for an HTML browser interface to help.
Type 'q()' to quit R.
> library(testthat)
> library(sesame)
Loading required package: sesameData
Loading required package: ExperimentHub
Loading required package: BiocGenerics
Loading required package: generics
Attaching package: 'generics'
The following objects are masked from 'package:base':
as.difftime, as.factor, as.ordered, intersect, is.element, setdiff,
setequal, union
Attaching package: 'BiocGenerics'
The following objects are masked from 'package:stats':
IQR, mad, sd, var, xtabs
The following objects are masked from 'package:base':
Filter, Find, Map, Position, Reduce, anyDuplicated, aperm, append,
as.data.frame, basename, cbind, colnames, dirname, do.call,
duplicated, eval, evalq, get, grep, grepl, is.unsorted, lapply,
mapply, match, mget, order, paste, pmax, pmax.int, pmin, pmin.int,
rank, rbind, rownames, sapply, saveRDS, table, tapply, unique,
unsplit, which.max, which.min
Loading required package: AnnotationHub
Loading required package: BiocFileCache
Loading required package: dbplyr
Loading sesameData.
----------------------------------------------------------
| SEnsible Step-wise Analysis of DNA MEthylation (SeSAMe)
| --------------------------------------------------------
| Please cache auxiliary data by "sesameDataCache()".
| This needs to be done only once per SeSAMe installation.
----------------------------------------------------------
>
> test_check("sesame")
[ FAIL 0 | WARN 0 | SKIP 0 | PASS 5 ]
>
> proc.time()
user system elapsed
8.512 0.502 9.063
sesame.Rcheck/sesame-Ex.timings
| name | user | system | elapsed | |
| BetaValueToMValue | 0 | 0 | 0 | |
| DML | 2.629 | 0.331 | 2.984 | |
| DMLpredict | 0.390 | 0.030 | 0.421 | |
| DMR | 3.095 | 0.092 | 3.213 | |
| ELBAR | 5.589 | 1.155 | 6.795 | |
| MValueToBetaValue | 0 | 0 | 0 | |
| SigDF | 0.087 | 0.014 | 0.101 | |
| addMask | 0.016 | 0.002 | 0.018 | |
| betasCollapseToPfx | 0.004 | 0.000 | 0.004 | |
| bisConversionControl | 2.237 | 0.069 | 2.313 | |
| calcEffectSize | 0.375 | 0.037 | 0.415 | |
| checkLevels | 1.630 | 0.092 | 1.745 | |
| cnSegmentation | 0.083 | 0.017 | 0.102 | |
| compareMouseStrainReference | 4.106 | 0.178 | 4.322 | |
| compareMouseTissueReference | 0 | 0 | 0 | |
| compareReference | 4.081 | 0.170 | 4.337 | |
| controls | 0.742 | 0.071 | 0.823 | |
| createUCSCtrack | 2.337 | 0.118 | 2.481 | |
| deidentify | 1.864 | 0.080 | 1.955 | |
| detectionPnegEcdf | 0.420 | 0.006 | 0.426 | |
| diffRefSet | 6.184 | 0.208 | 6.428 | |
| dmContrasts | 0.711 | 0.096 | 0.807 | |
| dyeBiasCorr | 0.971 | 0.112 | 1.089 | |
| dyeBiasCorrMostBalanced | 3.398 | 0.124 | 3.556 | |
| dyeBiasL | 0.891 | 0.071 | 0.964 | |
| dyeBiasNL | 2.011 | 0.168 | 2.203 | |
| estimateLeukocyte | 3.040 | 0.167 | 3.210 | |
| formatVCF | 0.774 | 0.063 | 0.836 | |
| getAFTypeIbySumAlleles | 0.597 | 0.057 | 0.657 | |
| getAFs | 0.291 | 0.048 | 0.339 | |
| getBetas | 0.276 | 0.052 | 0.329 | |
| getMask | 2.188 | 0.213 | 2.420 | |
| getRefSet | 5.523 | 0.204 | 5.822 | |
| imputeBetas | 7.376 | 0.612 | 8.100 | |
| imputeBetasByGenomicNeighbors | 14.350 | 0.561 | 14.986 | |
| imputeBetasMatrixByMean | 0.000 | 0.000 | 0.001 | |
| inferEthnicity | 0 | 0 | 0 | |
| inferInfiniumIChannel | 0.145 | 0.141 | 0.289 | |
| inferSex | 9.195 | 0.514 | 9.737 | |
| inferSpecies | 6.022 | 0.337 | 6.411 | |
| inferStrain | 2.858 | 0.260 | 3.150 | |
| inferTissue | 2.491 | 0.294 | 2.794 | |
| initFileSet | 0.404 | 0.109 | 0.513 | |
| listAvailableMasks | 0.397 | 0.097 | 0.494 | |
| mLiftOver | 0 | 0 | 0 | |
| mapFileSet | 0.016 | 0.004 | 0.020 | |
| mapToMammal40 | 0.894 | 0.141 | 1.041 | |
| matchDesign | 4.433 | 0.309 | 4.760 | |
| meanIntensity | 0.973 | 0.085 | 1.065 | |
| medianTotalIntensity | 0.285 | 0.062 | 0.349 | |
| noMasked | 1.309 | 0.080 | 1.392 | |
| noob | 0.912 | 0.131 | 1.044 | |
| openSesame | 1.684 | 0.262 | 1.967 | |
| openSesameToFile | 0.569 | 0.053 | 0.623 | |
| pOOBAH | 0.559 | 0.026 | 0.586 | |
| palgen | 0.018 | 0.002 | 0.021 | |
| parseGEOsignalMU | 1.352 | 0.097 | 1.449 | |
| predictAge | 0.980 | 0.039 | 1.023 | |
| predictAgeHorvath353 | 0 | 0 | 0 | |
| predictAgeSkinBlood | 0 | 0 | 0 | |
| predictMouseAgeInMonth | 0 | 0 | 0 | |
| prefixMask | 0.208 | 0.002 | 0.210 | |
| prefixMaskButC | 0.055 | 0.001 | 0.056 | |
| prefixMaskButCG | 0.023 | 0.001 | 0.024 | |
| prepSesame | 1.581 | 0.188 | 1.788 | |
| prepSesameList | 0.000 | 0.000 | 0.001 | |
| print.DMLSummary | 1.013 | 0.148 | 1.166 | |
| print.fileSet | 0.392 | 0.095 | 0.516 | |
| probeID_designType | 0.000 | 0.001 | 0.001 | |
| probeSuccessRate | 2.008 | 0.214 | 2.236 | |
| qualityMask | 0.687 | 0.092 | 0.788 | |
| reIdentify | 1.458 | 0.054 | 1.513 | |
| readFileSet | 0.027 | 0.002 | 0.029 | |
| readIDATpair | 0.044 | 0.004 | 0.048 | |
| recommendedMaskNames | 0.000 | 0.000 | 0.001 | |
| resetMask | 0.112 | 0.024 | 0.136 | |
| scrub | 0.961 | 0.152 | 1.113 | |
| scrubSoft | 1.495 | 0.329 | 1.828 | |
| sdfPlatform | 0.083 | 0.020 | 0.105 | |
| sdf_read_table | 3.490 | 0.190 | 3.747 | |
| sdf_write_table | 0.933 | 0.049 | 0.999 | |
| searchIDATprefixes | 0.001 | 0.001 | 0.004 | |
| sesame-package | 0.939 | 0.131 | 1.076 | |
| sesameAnno_attachManifest | 0 | 0 | 0 | |
| sesameAnno_buildAddressFile | 0 | 0 | 0 | |
| sesameAnno_buildManifestGRanges | 0 | 0 | 0 | |
| sesameAnno_download | 0 | 0 | 0 | |
| sesameAnno_readManifestTSV | 0.000 | 0.000 | 0.001 | |
| sesameQC_calcStats | 8.392 | 0.733 | 9.239 | |
| sesameQC_getStats | 0.866 | 0.028 | 0.907 | |
| sesameQC_plotBar | 6.749 | 0.174 | 6.989 | |
| sesameQC_plotBetaByDesign | 4.412 | 0.750 | 5.201 | |
| sesameQC_plotHeatSNPs | 7.758 | 0.699 | 8.618 | |
| sesameQC_plotIntensVsBetas | 0.626 | 0.112 | 0.739 | |
| sesameQC_plotRedGrnQQ | 0.527 | 0.071 | 0.600 | |
| sesameQC_rankStats | 1.257 | 0.172 | 1.441 | |
| sesameQCtoDF | 0.996 | 0.037 | 1.037 | |
| sesame_checkVersion | 0.002 | 0.000 | 0.001 | |
| sesamize | 0.000 | 0.000 | 0.001 | |
| setMask | 0.025 | 0.003 | 0.028 | |
| signalMU | 0.350 | 0.045 | 0.394 | |
| sliceFileSet | 0.016 | 0.001 | 0.018 | |
| summaryExtractTest | 1.242 | 0.222 | 1.491 | |
| totalIntensities | 0.866 | 0.117 | 0.984 | |
| updateSigDF | 1.059 | 0.226 | 1.289 | |
| visualizeGene | 3.652 | 0.183 | 3.842 | |
| visualizeProbes | 0.396 | 0.019 | 0.415 | |
| visualizeRegion | 0.114 | 0.007 | 0.121 | |
| visualizeSegments | 0.794 | 0.050 | 0.844 | |