| Back to Multiple platform build/check report for BioC 3.21: simplified long | 
 | 
This page was generated on 2025-10-16 11:39 -0400 (Thu, 16 Oct 2025).
| Hostname | OS | Arch (*) | R version | Installed pkgs | 
|---|---|---|---|---|
| nebbiolo1 | Linux (Ubuntu 24.04.3 LTS) | x86_64 | 4.5.1 (2025-06-13) -- "Great Square Root" | 4833 | 
| merida1 | macOS 12.7.6 Monterey | x86_64 | 4.5.1 RC (2025-06-05 r88288) -- "Great Square Root" | 4614 | 
| kjohnson1 | macOS 13.7.5 Ventura | arm64 | 4.5.1 Patched (2025-06-14 r88325) -- "Great Square Root" | 4555 | 
| kunpeng2 | Linux (openEuler 24.03 LTS) | aarch64 | R Under development (unstable) (2025-02-19 r87757) -- "Unsuffered Consequences" | 4586 | 
| Click on any hostname to see more info about the system (e.g. compilers) (*) as reported by 'uname -p', except on Windows and Mac OS X | ||||
| Package 1890/2341 | Hostname | OS / Arch | INSTALL | BUILD | CHECK | BUILD BIN | ||||||||
| scater 1.36.0  (landing page) Alan O'Callaghan 
 | nebbiolo1 | Linux (Ubuntu 24.04.3 LTS) / x86_64 | OK | OK | OK |  | ||||||||
| merida1 | macOS 12.7.6 Monterey / x86_64 | OK | OK | OK | OK |  | ||||||||
| kjohnson1 | macOS 13.7.5 Ventura / arm64 | OK | OK | ERROR | OK | |||||||||
| kunpeng2 | Linux (openEuler 24.03 LTS) / aarch64 | OK | OK | OK | ||||||||||
| To the developers/maintainers of the scater package: - Allow up to 24 hours (and sometimes 48 hours) for your latest push to git@git.bioconductor.org:packages/scater.git to reflect on this report. See Troubleshooting Build Report for more information. - Use the following Renviron settings to reproduce errors and warnings. - If 'R CMD check' started to fail recently on the Linux builder(s) over a missing dependency, add the missing dependency to 'Suggests:' in your DESCRIPTION file. See Renviron.bioc for more information. | 
| Package: scater | 
| Version: 1.36.0 | 
| Command: /Library/Frameworks/R.framework/Resources/bin/R CMD check --install=check:scater.install-out.txt --library=/Library/Frameworks/R.framework/Resources/library --no-vignettes --timings scater_1.36.0.tar.gz | 
| StartedAt: 2025-10-14 09:47:00 -0400 (Tue, 14 Oct 2025) | 
| EndedAt: 2025-10-14 10:03:19 -0400 (Tue, 14 Oct 2025) | 
| EllapsedTime: 978.8 seconds | 
| RetCode: 0 | 
| Status: OK | 
| CheckDir: scater.Rcheck | 
| Warnings: 0 | 
##############################################################################
##############################################################################
###
### Running command:
###
###   /Library/Frameworks/R.framework/Resources/bin/R CMD check --install=check:scater.install-out.txt --library=/Library/Frameworks/R.framework/Resources/library --no-vignettes --timings scater_1.36.0.tar.gz
###
##############################################################################
##############################################################################
* using log directory ‘/Users/biocbuild/bbs-3.21-bioc/meat/scater.Rcheck’
* using R version 4.5.1 RC (2025-06-05 r88288)
* using platform: x86_64-apple-darwin20
* R was compiled by
    Apple clang version 14.0.0 (clang-1400.0.29.202)
    GNU Fortran (GCC) 14.2.0
* running under: macOS Monterey 12.7.6
* using session charset: UTF-8
* using option ‘--no-vignettes’
* checking for file ‘scater/DESCRIPTION’ ... OK
* checking extension type ... Package
* this is package ‘scater’ version ‘1.36.0’
* package encoding: UTF-8
* checking package namespace information ... OK
* checking package dependencies ... INFO
Imports includes 21 non-default packages.
Importing from so many packages makes the package vulnerable to any of
them becoming unavailable.  Move as many as possible to Suggests and
use conditionally.
* checking if this is a source package ... OK
* checking if there is a namespace ... OK
* checking for hidden files and directories ... OK
* checking for portable file names ... OK
* checking for sufficient/correct file permissions ... OK
* checking whether package ‘scater’ can be installed ... OK
* checking installed package size ... OK
* checking package directory ... OK
* checking ‘build’ directory ... OK
* checking DESCRIPTION meta-information ... OK
* checking top-level files ... OK
* checking for left-over files ... OK
* checking index information ... OK
* checking package subdirectories ... OK
* checking code files for non-ASCII characters ... OK
* checking R files for syntax errors ... OK
* checking whether the package can be loaded ... OK
* checking whether the package can be loaded with stated dependencies ... OK
* checking whether the package can be unloaded cleanly ... OK
* checking whether the namespace can be loaded with stated dependencies ... OK
* checking whether the namespace can be unloaded cleanly ... OK
* checking dependencies in R code ... OK
* checking S3 generic/method consistency ... OK
* checking replacement functions ... OK
* checking foreign function calls ... OK
* checking R code for possible problems ... NOTE
.handle_truncval: no visible global function definition for ‘quantile’
Undefined global functions or variables:
  quantile
Consider adding
  importFrom("stats", "quantile")
to your NAMESPACE file.
* checking Rd files ... OK
* checking Rd metadata ... OK
* checking Rd cross-references ... NOTE
Found the following Rd file(s) with Rd \link{} targets missing package
anchors:
  accessors.Rd: SingleCellExperiment
  annotateBMFeatures.Rd: SingleCellExperiment,
    SingleCellExperiment-class, DataFrame-class, rowData
  bootstraps.Rd: SingleCellExperiment
  getExplanatoryPCs.Rd: SingleCellExperiment-class
  getVarianceExplained.Rd: SummarizedExperiment-class, DataFrame-class,
    BiocParallelParam-class
  ggsce.Rd: ggplot, SingleCellExperiment-class, aes
  nexprs.Rd: SummarizedExperiment-class, BiocParallelParam-class,
    DelayedMatrix-class
  plotColData.Rd: SingleCellExperiment-class, geom_hex, ggplot
  plotDots.Rd: SingleCellExperiment-class, colData,
    correctGroupSummary, ggplot
  plotExpression.Rd: geom_hex
  plotGroupedHeatmap.Rd: SingleCellExperiment-class, colData,
    correctGroupSummary
  plotHeatmap.Rd: SingleCellExperiment-class
  plotHighestExprs.Rd: ggplot
  plotRLE.Rd: BiocParallelParam-class, DelayedArray
  plotReducedDim.Rd: geom_hex
  plotRowData.Rd: ggplot
  plotScater.Rd: SingleCellExperiment-class, facet_wrap, ggplot
  plot_reddim.Rd: reducedDims, ggplot
  projectReducedDim.Rd: SummarizedExperiment-class,
    SingleCellExperiment-class
  retrieveCellInfo.Rd: SingleCellExperiment-class, DataFrame-class,
    colData, assay, altExps
  retrieveFeatureInfo.Rd: SingleCellExperiment-class, DataFrame-class,
    rowData, assay
  runColDataPCA.Rd: SingleCellExperiment-class,
    BiocSingularParam-class, BiocParallelParam-class
  runMDS.Rd: SummarizedExperiment-class, SingleCellExperiment-class,
    reducedDims, reducedDim, altExp
  runMultiUMAP.Rd: SummarizedExperiment-class,
    SingleCellExperiment-class, reducedDims, altExps
  runNMF.Rd: SummarizedExperiment-class, SingleCellExperiment-class,
    reducedDims, reducedDim, altExp
  runPCA.Rd: SummarizedExperiment-class, SingleCellExperiment-class,
    BiocSingularParam-class, BiocParallelParam-class, reducedDims,
    bsparam, reducedDim, altExp
  runTSNE.Rd: SummarizedExperiment-class, SingleCellExperiment-class,
    MulticoreParam-class, findKNN, BiocNeighborParam-class,
    BiocParallelParam-class, reducedDims, reducedDim, altExp
  runUMAP.Rd: SummarizedExperiment-class, SingleCellExperiment-class,
    MulticoreParam-class, findKNN, BiocNeighborParam-class,
    BiocParallelParam-class, reducedDims, reducedDim, altExp
  scater-plot-args.Rd: ggplot, DataFrame-class
  toSingleCellExperiment.Rd: SingleCellExperiment
Please provide package anchors for all Rd \link{} targets not in the
package itself and the base packages.
* checking for missing documentation entries ... OK
* checking for code/documentation mismatches ... OK
* checking Rd \usage sections ... OK
* checking Rd contents ... OK
* checking for unstated dependencies in examples ... OK
* checking files in ‘vignettes’ ... OK
* checking examples ... OK
Examples with CPU (user + system) or elapsed time > 5s
                    user system elapsed
plotReducedDim    23.001  0.489  21.351
plotExpression    14.545  0.188  14.708
plotRLE           14.143  0.361  14.599
plotColData        8.993  0.211   9.124
plot_reddim        8.717  0.081   9.260
runMultiUMAP       7.811  0.056   9.174
projectReducedDim  6.380  0.097   7.308
plotScater         6.252  0.199   6.697
ggsce              4.993  0.100   5.120
plotDots           4.995  0.060   5.079
runUMAP            4.979  0.045   5.687
* checking for unstated dependencies in ‘tests’ ... OK
* checking tests ...
  Running ‘testthat.R’
 OK
* checking for unstated dependencies in vignettes ... OK
* checking package vignettes ... OK
* checking running R code from vignettes ... SKIPPED
* checking re-building of vignette outputs ... SKIPPED
* checking PDF version of manual ... OK
* DONE
Status: 2 NOTEs
See
  ‘/Users/biocbuild/bbs-3.21-bioc/meat/scater.Rcheck/00check.log’
for details.
scater.Rcheck/00install.out
############################################################################## ############################################################################## ### ### Running command: ### ### /Library/Frameworks/R.framework/Resources/bin/R CMD INSTALL scater ### ############################################################################## ############################################################################## * installing to library ‘/Library/Frameworks/R.framework/Versions/4.5-x86_64/Resources/library’ * installing *source* package ‘scater’ ... ** this is package ‘scater’ version ‘1.36.0’ ** using staged installation ** R ** inst ** byte-compile and prepare package for lazy loading ** help *** installing help indices ** building package indices ** installing vignettes ** testing if installed package can be loaded from temporary location ** testing if installed package can be loaded from final location ** testing if installed package keeps a record of temporary installation path * DONE (scater)
scater.Rcheck/tests/testthat.Rout
R version 4.5.1 RC (2025-06-05 r88288) -- "Great Square Root"
Copyright (C) 2025 The R Foundation for Statistical Computing
Platform: x86_64-apple-darwin20
R is free software and comes with ABSOLUTELY NO WARRANTY.
You are welcome to redistribute it under certain conditions.
Type 'license()' or 'licence()' for distribution details.
R is a collaborative project with many contributors.
Type 'contributors()' for more information and
'citation()' on how to cite R or R packages in publications.
Type 'demo()' for some demos, 'help()' for on-line help, or
'help.start()' for an HTML browser interface to help.
Type 'q()' to quit R.
> Sys.setenv("R_TESTS" = "")
> library(testthat)
> library(scater)
Loading required package: SingleCellExperiment
Loading required package: SummarizedExperiment
Loading required package: MatrixGenerics
Loading required package: matrixStats
Attaching package: 'MatrixGenerics'
The following objects are masked from 'package:matrixStats':
    colAlls, colAnyNAs, colAnys, colAvgsPerRowSet, colCollapse,
    colCounts, colCummaxs, colCummins, colCumprods, colCumsums,
    colDiffs, colIQRDiffs, colIQRs, colLogSumExps, colMadDiffs,
    colMads, colMaxs, colMeans2, colMedians, colMins, colOrderStats,
    colProds, colQuantiles, colRanges, colRanks, colSdDiffs, colSds,
    colSums2, colTabulates, colVarDiffs, colVars, colWeightedMads,
    colWeightedMeans, colWeightedMedians, colWeightedSds,
    colWeightedVars, rowAlls, rowAnyNAs, rowAnys, rowAvgsPerColSet,
    rowCollapse, rowCounts, rowCummaxs, rowCummins, rowCumprods,
    rowCumsums, rowDiffs, rowIQRDiffs, rowIQRs, rowLogSumExps,
    rowMadDiffs, rowMads, rowMaxs, rowMeans2, rowMedians, rowMins,
    rowOrderStats, rowProds, rowQuantiles, rowRanges, rowRanks,
    rowSdDiffs, rowSds, rowSums2, rowTabulates, rowVarDiffs, rowVars,
    rowWeightedMads, rowWeightedMeans, rowWeightedMedians,
    rowWeightedSds, rowWeightedVars
Loading required package: GenomicRanges
Loading required package: stats4
Loading required package: BiocGenerics
Loading required package: generics
Attaching package: 'generics'
The following objects are masked from 'package:base':
    as.difftime, as.factor, as.ordered, intersect, is.element, setdiff,
    setequal, union
Attaching package: 'BiocGenerics'
The following objects are masked from 'package:stats':
    IQR, mad, sd, var, xtabs
The following objects are masked from 'package:base':
    Filter, Find, Map, Position, Reduce, anyDuplicated, aperm, append,
    as.data.frame, basename, cbind, colnames, dirname, do.call,
    duplicated, eval, evalq, get, grep, grepl, is.unsorted, lapply,
    mapply, match, mget, order, paste, pmax, pmax.int, pmin, pmin.int,
    rank, rbind, rownames, sapply, saveRDS, table, tapply, unique,
    unsplit, which.max, which.min
Loading required package: S4Vectors
Attaching package: 'S4Vectors'
The following object is masked from 'package:utils':
    findMatches
The following objects are masked from 'package:base':
    I, expand.grid, unname
Loading required package: IRanges
Loading required package: GenomeInfoDb
Loading required package: Biobase
Welcome to Bioconductor
    Vignettes contain introductory material; view with
    'browseVignettes()'. To cite Bioconductor, see
    'citation("Biobase")', and for packages 'citation("pkgname")'.
Attaching package: 'Biobase'
The following object is masked from 'package:MatrixGenerics':
    rowMedians
The following objects are masked from 'package:matrixStats':
    anyMissing, rowMedians
Loading required package: scuttle
Loading required package: ggplot2
> 
> test_check("scater")
Loading required package: Matrix
Attaching package: 'Matrix'
The following object is masked from 'package:S4Vectors':
    expand
Loading required package: S4Arrays
Loading required package: abind
Attaching package: 'S4Arrays'
The following object is masked from 'package:abind':
    abind
The following object is masked from 'package:base':
    rowsum
Loading required package: SparseArray
Attaching package: 'DelayedArray'
The following objects are masked from 'package:base':
    apply, scale, sweep
[ FAIL 0 | WARN 1 | SKIP 0 | PASS 822 ]
[ FAIL 0 | WARN 1 | SKIP 0 | PASS 822 ]
> 
> proc.time()
   user  system elapsed 
390.027   5.802 441.383 
scater.Rcheck/scater-Ex.timings
| name | user | system | elapsed | |
| accessors | 2.236 | 0.046 | 2.288 | |
| annotateBMFeatures | 0 | 0 | 0 | |
| bootstraps | 0.486 | 0.005 | 0.492 | |
| defunct | 0.001 | 0.000 | 0.001 | |
| getExplanatoryPCs | 1.394 | 0.018 | 1.416 | |
| getVarianceExplained | 0.773 | 0.010 | 0.786 | |
| ggsce | 4.993 | 0.100 | 5.120 | |
| nexprs | 0.523 | 0.007 | 0.531 | |
| plotColData | 8.993 | 0.211 | 9.124 | |
| plotDots | 4.995 | 0.060 | 5.079 | |
| plotExplanatoryPCs | 2.293 | 0.025 | 2.327 | |
| plotExplanatoryVariables | 1.656 | 0.022 | 1.682 | |
| plotExpression | 14.545 | 0.188 | 14.708 | |
| plotGroupedHeatmap | 1.238 | 0.014 | 1.262 | |
| plotHeatmap | 1.229 | 0.024 | 1.258 | |
| plotHighestExprs | 2.750 | 0.039 | 2.802 | |
| plotPlatePosition | 3.034 | 0.028 | 3.083 | |
| plotRLE | 14.143 | 0.361 | 14.599 | |
| plotReducedDim | 23.001 | 0.489 | 21.351 | |
| plotRowData | 1.328 | 0.014 | 1.350 | |
| plotScater | 6.252 | 0.199 | 6.697 | |
| plot_reddim | 8.717 | 0.081 | 9.260 | |
| projectReducedDim | 6.380 | 0.097 | 7.308 | |
| retrieveCellInfo | 0.686 | 0.019 | 0.816 | |
| retrieveFeatureInfo | 0.772 | 0.024 | 0.929 | |
| runColDataPCA | 1.215 | 0.008 | 1.425 | |
| runMDS | 0.921 | 0.021 | 1.102 | |
| runMultiUMAP | 7.811 | 0.056 | 9.174 | |
| runNMF | 0.844 | 0.012 | 0.978 | |
| runPCA | 1.153 | 0.022 | 1.323 | |
| runTSNE | 1.886 | 0.021 | 2.162 | |
| runUMAP | 4.979 | 0.045 | 5.687 | |
| toSingleCellExperiment | 0.001 | 0.000 | 0.001 | |