| Back to Multiple platform build/check report for BioC 3.21: simplified long |
|
This page was generated on 2025-08-18 11:42 -0400 (Mon, 18 Aug 2025).
| Hostname | OS | Arch (*) | R version | Installed pkgs |
|---|---|---|---|---|
| nebbiolo1 | Linux (Ubuntu 24.04.3 LTS) | x86_64 | 4.5.1 (2025-06-13) -- "Great Square Root" | 4824 |
| palomino7 | Windows Server 2022 Datacenter | x64 | 4.5.1 (2025-06-13 ucrt) -- "Great Square Root" | 4566 |
| merida1 | macOS 12.7.5 Monterey | x86_64 | 4.5.1 RC (2025-06-05 r88288) -- "Great Square Root" | 4604 |
| kjohnson1 | macOS 13.6.6 Ventura | arm64 | 4.5.1 Patched (2025-06-14 r88325) -- "Great Square Root" | 4545 |
| kunpeng2 | Linux (openEuler 24.03 LTS) | aarch64 | R Under development (unstable) (2025-02-19 r87757) -- "Unsuffered Consequences" | 4579 |
| Click on any hostname to see more info about the system (e.g. compilers) (*) as reported by 'uname -p', except on Windows and Mac OS X | ||||
| Package 1894/2341 | Hostname | OS / Arch | INSTALL | BUILD | CHECK | BUILD BIN | ||||||||
| scBubbletree 1.10.0 (landing page) Simo Kitanovski
| nebbiolo1 | Linux (Ubuntu 24.04.3 LTS) / x86_64 | OK | OK | OK | |||||||||
| palomino7 | Windows Server 2022 Datacenter / x64 | OK | OK | OK | OK | |||||||||
| merida1 | macOS 12.7.5 Monterey / x86_64 | OK | OK | OK | OK | |||||||||
| kjohnson1 | macOS 13.6.6 Ventura / arm64 | OK | OK | OK | OK | |||||||||
| kunpeng2 | Linux (openEuler 24.03 LTS) / aarch64 | OK | OK | OK | ||||||||||
|
To the developers/maintainers of the scBubbletree package: - Allow up to 24 hours (and sometimes 48 hours) for your latest push to git@git.bioconductor.org:packages/scBubbletree.git to reflect on this report. See Troubleshooting Build Report for more information. - Use the following Renviron settings to reproduce errors and warnings. - If 'R CMD check' started to fail recently on the Linux builder(s) over a missing dependency, add the missing dependency to 'Suggests:' in your DESCRIPTION file. See Renviron.bioc for more information. |
| Package: scBubbletree |
| Version: 1.10.0 |
| Command: E:\biocbuild\bbs-3.21-bioc\R\bin\R.exe CMD check --no-multiarch --install=check:scBubbletree.install-out.txt --library=E:\biocbuild\bbs-3.21-bioc\R\library --no-vignettes --timings scBubbletree_1.10.0.tar.gz |
| StartedAt: 2025-08-15 06:31:49 -0400 (Fri, 15 Aug 2025) |
| EndedAt: 2025-08-15 06:43:07 -0400 (Fri, 15 Aug 2025) |
| EllapsedTime: 677.7 seconds |
| RetCode: 0 |
| Status: OK |
| CheckDir: scBubbletree.Rcheck |
| Warnings: 0 |
##############################################################################
##############################################################################
###
### Running command:
###
### E:\biocbuild\bbs-3.21-bioc\R\bin\R.exe CMD check --no-multiarch --install=check:scBubbletree.install-out.txt --library=E:\biocbuild\bbs-3.21-bioc\R\library --no-vignettes --timings scBubbletree_1.10.0.tar.gz
###
##############################################################################
##############################################################################
* using log directory 'E:/biocbuild/bbs-3.21-bioc/meat/scBubbletree.Rcheck'
* using R version 4.5.1 (2025-06-13 ucrt)
* using platform: x86_64-w64-mingw32
* R was compiled by
gcc.exe (GCC) 14.2.0
GNU Fortran (GCC) 14.2.0
* running under: Windows Server 2022 x64 (build 20348)
* using session charset: UTF-8
* using option '--no-vignettes'
* checking for file 'scBubbletree/DESCRIPTION' ... OK
* checking extension type ... Package
* this is package 'scBubbletree' version '1.10.0'
* package encoding: UTF-8
* checking package namespace information ... OK
* checking package dependencies ... OK
* checking if this is a source package ... OK
* checking if there is a namespace ... OK
* checking for hidden files and directories ... OK
* checking for portable file names ... OK
* checking whether package 'scBubbletree' can be installed ... OK
* checking installed package size ... OK
* checking package directory ... OK
* checking 'build' directory ... OK
* checking DESCRIPTION meta-information ... OK
* checking top-level files ... OK
* checking for left-over files ... OK
* checking index information ... OK
* checking package subdirectories ... OK
* checking code files for non-ASCII characters ... OK
* checking R files for syntax errors ... OK
* checking whether the package can be loaded ... OK
* checking whether the package can be loaded with stated dependencies ... OK
* checking whether the package can be unloaded cleanly ... OK
* checking whether the namespace can be loaded with stated dependencies ... OK
* checking whether the namespace can be unloaded cleanly ... OK
* checking dependencies in R code ... NOTE
Namespace in Imports field not imported from: 'base'
All declared Imports should be used.
* checking S3 generic/method consistency ... OK
* checking replacement functions ... OK
* checking foreign function calls ... OK
* checking R code for possible problems ... NOTE
compare_bubbletrees: no visible binding for global variable 'isTip'
compare_bubbletrees: no visible binding for global variable 'Cells'
compare_bubbletrees: no visible binding for global variable 'lab_short'
compare_bubbletrees: no visible binding for global variable 'label'
compare_bubbletrees: no visible binding for global variable 'JD'
compare_bubbletrees: no visible binding for global variable
'intersection'
get_dendrogram: no visible binding for global variable 'isTip'
get_dendrogram: no visible binding for global variable 'Cells'
get_dendrogram: no visible binding for global variable 'label'
get_dendrogram: no visible binding for global variable 'lab_short'
get_dendrogram: no visible binding for global variable 'lab_long'
get_num_cell_tiles: no visible binding for global variable 'cluster'
ggplot_cat_tiles: no visible binding for global variable 'feature'
ggplot_cat_tiles: no visible binding for global variable 'cluster'
ggplot_cat_tiles: no visible binding for global variable 'percent'
ggplot_num_cell_tiles: no visible binding for global variable 'cluster'
ggplot_num_cell_tiles: no visible binding for global variable 'f'
ggplot_num_tiles: no visible binding for global variable 'feature'
ggplot_num_tiles: no visible binding for global variable 'cluster'
ggplot_num_tiles: no visible binding for global variable 'value'
ggplot_num_violins: no visible binding for global variable 'cluster'
ggplot_num_violins: no visible binding for global variable 'value'
Undefined global functions or variables:
Cells JD cluster f feature intersection isTip lab_long lab_short
label percent value
* checking Rd files ... OK
* checking Rd metadata ... OK
* checking Rd cross-references ... OK
* checking for missing documentation entries ... OK
* checking for code/documentation mismatches ... OK
* checking Rd \usage sections ... OK
* checking Rd contents ... OK
* checking for unstated dependencies in examples ... OK
* checking contents of 'data' directory ... OK
* checking data for non-ASCII characters ... OK
* checking data for ASCII and uncompressed saves ... OK
* checking files in 'vignettes' ... OK
* checking examples ... OK
Examples with CPU (user + system) or elapsed time > 5s
user system elapsed
get_bubbletree_comparison 30.95 0.59 31.56
get_num_tiles 22.99 0.22 23.25
get_num_cell_tiles 22.48 0.28 22.77
get_r 20.57 1.14 21.72
get_bubbletree_kmeans 21.30 0.20 21.50
get_num_violins 18.07 0.34 18.43
get_bubbletree_graph 17.78 0.14 17.92
get_cat_tiles 14.76 0.25 15.02
get_gini_k 12.58 0.32 12.89
get_bubbletree_dummy 11.69 0.17 11.86
* checking for unstated dependencies in 'tests' ... OK
* checking tests ...
Running 'testthat.R'
OK
* checking for unstated dependencies in vignettes ... OK
* checking package vignettes ... OK
* checking running R code from vignettes ... SKIPPED
* checking re-building of vignette outputs ... SKIPPED
* checking PDF version of manual ... OK
* DONE
Status: 2 NOTEs
See
'E:/biocbuild/bbs-3.21-bioc/meat/scBubbletree.Rcheck/00check.log'
for details.
scBubbletree.Rcheck/00install.out
############################################################################## ############################################################################## ### ### Running command: ### ### E:\biocbuild\bbs-3.21-bioc\R\bin\R.exe CMD INSTALL scBubbletree ### ############################################################################## ############################################################################## * installing to library 'E:/biocbuild/bbs-3.21-bioc/R/library' * installing *source* package 'scBubbletree' ... ** this is package 'scBubbletree' version '1.10.0' ** using staged installation ** R ** data ** inst ** byte-compile and prepare package for lazy loading ** help *** installing help indices ** building package indices ** installing vignettes ** testing if installed package can be loaded from temporary location ** testing if installed package can be loaded from final location ** testing if installed package keeps a record of temporary installation path * DONE (scBubbletree)
scBubbletree.Rcheck/tests/testthat.Rout
R version 4.5.1 (2025-06-13 ucrt) -- "Great Square Root"
Copyright (C) 2025 The R Foundation for Statistical Computing
Platform: x86_64-w64-mingw32/x64
R is free software and comes with ABSOLUTELY NO WARRANTY.
You are welcome to redistribute it under certain conditions.
Type 'license()' or 'licence()' for distribution details.
R is a collaborative project with many contributors.
Type 'contributors()' for more information and
'citation()' on how to cite R or R packages in publications.
Type 'demo()' for some demos, 'help()' for on-line help, or
'help.start()' for an HTML browser interface to help.
Type 'q()' to quit R.
> library(testthat)
> library(scBubbletree)
>
> test_check("scBubbletree")
Tests input rules of get_bubbletree_graph
Tests input rules of get_bubbletree_kmeans
Tests input rules of get_cat_tiles
Tests input rules of get_gini_k
Tests input rules of get_gini
Tests input rules of get_k
Tests input rules of get_num_tiles
Tests input rules of get_num_violins
Tests input rules of get_r
Tests input rules of util
[ FAIL 0 | WARN 118 | SKIP 0 | PASS 477 ]
[ FAIL 0 | WARN 118 | SKIP 0 | PASS 477 ]
>
> proc.time()
user system elapsed
317.82 11.87 329.85
scBubbletree.Rcheck/scBubbletree-Ex.timings
| name | user | system | elapsed | |
| d_500 | 0 | 0 | 0 | |
| d_ccl | 0.01 | 0.00 | 0.02 | |
| get_bubbletree_comparison | 30.95 | 0.59 | 31.56 | |
| get_bubbletree_dummy | 11.69 | 0.17 | 11.86 | |
| get_bubbletree_graph | 17.78 | 0.14 | 17.92 | |
| get_bubbletree_kmeans | 21.3 | 0.2 | 21.5 | |
| get_cat_tiles | 14.76 | 0.25 | 15.02 | |
| get_gini | 0 | 0 | 0 | |
| get_gini_k | 12.58 | 0.32 | 12.89 | |
| get_k | 3.30 | 0.14 | 3.45 | |
| get_num_cell_tiles | 22.48 | 0.28 | 22.77 | |
| get_num_tiles | 22.99 | 0.22 | 23.25 | |
| get_num_violins | 18.07 | 0.34 | 18.43 | |
| get_r | 20.57 | 1.14 | 21.72 | |