| Back to Multiple platform build/check report for BioC 3.21: simplified long | 
 | 
This page was generated on 2025-10-16 11:38 -0400 (Thu, 16 Oct 2025).
| Hostname | OS | Arch (*) | R version | Installed pkgs | 
|---|---|---|---|---|
| nebbiolo1 | Linux (Ubuntu 24.04.3 LTS) | x86_64 | 4.5.1 (2025-06-13) -- "Great Square Root" | 4833 | 
| merida1 | macOS 12.7.6 Monterey | x86_64 | 4.5.1 RC (2025-06-05 r88288) -- "Great Square Root" | 4614 | 
| kjohnson1 | macOS 13.7.5 Ventura | arm64 | 4.5.1 Patched (2025-06-14 r88325) -- "Great Square Root" | 4555 | 
| kunpeng2 | Linux (openEuler 24.03 LTS) | aarch64 | R Under development (unstable) (2025-02-19 r87757) -- "Unsuffered Consequences" | 4586 | 
| Click on any hostname to see more info about the system (e.g. compilers) (*) as reported by 'uname -p', except on Windows and Mac OS X | ||||
| Package 1839/2341 | Hostname | OS / Arch | INSTALL | BUILD | CHECK | BUILD BIN | ||||||||
| rsemmed 1.18.0  (landing page) Leslie Myint 
 | nebbiolo1 | Linux (Ubuntu 24.04.3 LTS) / x86_64 | OK | OK | OK |  | ||||||||
| merida1 | macOS 12.7.6 Monterey / x86_64 | OK | OK | OK | OK |  | ||||||||
| kjohnson1 | macOS 13.7.5 Ventura / arm64 | OK | OK | OK | OK |  | ||||||||
| kunpeng2 | Linux (openEuler 24.03 LTS) / aarch64 | OK | OK | OK | ||||||||||
| To the developers/maintainers of the rsemmed package: - Allow up to 24 hours (and sometimes 48 hours) for your latest push to git@git.bioconductor.org:packages/rsemmed.git to reflect on this report. See Troubleshooting Build Report for more information. - Use the following Renviron settings to reproduce errors and warnings. - If 'R CMD check' started to fail recently on the Linux builder(s) over a missing dependency, add the missing dependency to 'Suggests:' in your DESCRIPTION file. See Renviron.bioc for more information. | 
| Package: rsemmed | 
| Version: 1.18.0 | 
| Command: /home/biocbuild/bbs-3.21-bioc/R/bin/R CMD check --install=check:rsemmed.install-out.txt --library=/home/biocbuild/bbs-3.21-bioc/R/site-library --timings rsemmed_1.18.0.tar.gz | 
| StartedAt: 2025-10-16 03:04:14 -0400 (Thu, 16 Oct 2025) | 
| EndedAt: 2025-10-16 03:05:05 -0400 (Thu, 16 Oct 2025) | 
| EllapsedTime: 50.1 seconds | 
| RetCode: 0 | 
| Status: OK | 
| CheckDir: rsemmed.Rcheck | 
| Warnings: 0 | 
##############################################################################
##############################################################################
###
### Running command:
###
###   /home/biocbuild/bbs-3.21-bioc/R/bin/R CMD check --install=check:rsemmed.install-out.txt --library=/home/biocbuild/bbs-3.21-bioc/R/site-library --timings rsemmed_1.18.0.tar.gz
###
##############################################################################
##############################################################################
* using log directory ‘/home/biocbuild/bbs-3.21-bioc/meat/rsemmed.Rcheck’
* using R version 4.5.1 (2025-06-13)
* using platform: x86_64-pc-linux-gnu
* R was compiled by
    gcc (Ubuntu 13.3.0-6ubuntu2~24.04) 13.3.0
    GNU Fortran (Ubuntu 13.3.0-6ubuntu2~24.04) 13.3.0
* running under: Ubuntu 24.04.3 LTS
* using session charset: UTF-8
* checking for file ‘rsemmed/DESCRIPTION’ ... OK
* this is package ‘rsemmed’ version ‘1.18.0’
* package encoding: UTF-8
* checking package namespace information ... OK
* checking package dependencies ... OK
* checking if this is a source package ... OK
* checking if there is a namespace ... OK
* checking for hidden files and directories ... OK
* checking for portable file names ... OK
* checking for sufficient/correct file permissions ... OK
* checking whether package ‘rsemmed’ can be installed ... OK
* checking installed package size ... OK
* checking package directory ... OK
* checking ‘build’ directory ... OK
* checking DESCRIPTION meta-information ... OK
* checking top-level files ... OK
* checking for left-over files ... OK
* checking index information ... OK
* checking package subdirectories ... OK
* checking code files for non-ASCII characters ... OK
* checking R files for syntax errors ... OK
* checking whether the package can be loaded ... OK
* checking whether the package can be loaded with stated dependencies ... OK
* checking whether the package can be unloaded cleanly ... OK
* checking whether the namespace can be loaded with stated dependencies ... OK
* checking whether the namespace can be unloaded cleanly ... OK
* checking loading without being on the library search path ... OK
* checking dependencies in R code ... OK
* checking S3 generic/method consistency ... OK
* checking replacement functions ... OK
* checking foreign function calls ... OK
* checking R code for possible problems ... OK
* checking Rd files ... OK
* checking Rd metadata ... OK
* checking Rd cross-references ... OK
* checking for missing documentation entries ... OK
* checking for code/documentation mismatches ... OK
* checking Rd \usage sections ... OK
* checking Rd contents ... OK
* checking for unstated dependencies in examples ... OK
* checking contents of ‘data’ directory ... OK
* checking data for non-ASCII characters ... OK
* checking data for ASCII and uncompressed saves ... OK
* checking files in ‘vignettes’ ... OK
* checking examples ... OK
* checking for unstated dependencies in ‘tests’ ... OK
* checking tests ...
  Running ‘testthat.R’
 OK
* checking for unstated dependencies in vignettes ... OK
* checking package vignettes ... OK
* checking re-building of vignette outputs ... OK
* checking PDF version of manual ... OK
* DONE
Status: OK
rsemmed.Rcheck/00install.out
############################################################################## ############################################################################## ### ### Running command: ### ### /home/biocbuild/bbs-3.21-bioc/R/bin/R CMD INSTALL rsemmed ### ############################################################################## ############################################################################## * installing to library ‘/home/biocbuild/bbs-3.21-bioc/R/site-library’ * installing *source* package ‘rsemmed’ ... ** this is package ‘rsemmed’ version ‘1.18.0’ ** using staged installation ** R ** data ** inst ** byte-compile and prepare package for lazy loading ** help *** installing help indices ** building package indices ** installing vignettes ** testing if installed package can be loaded from temporary location ** testing if installed package can be loaded from final location ** testing if installed package keeps a record of temporary installation path * DONE (rsemmed)
rsemmed.Rcheck/tests/testthat.Rout
R version 4.5.1 (2025-06-13) -- "Great Square Root"
Copyright (C) 2025 The R Foundation for Statistical Computing
Platform: x86_64-pc-linux-gnu
R is free software and comes with ABSOLUTELY NO WARRANTY.
You are welcome to redistribute it under certain conditions.
Type 'license()' or 'licence()' for distribution details.
R is a collaborative project with many contributors.
Type 'contributors()' for more information and
'citation()' on how to cite R or R packages in publications.
Type 'demo()' for some demos, 'help()' for on-line help, or
'help.start()' for an HTML browser interface to help.
Type 'q()' to quit R.
> library(testthat)
> library(rsemmed)
Loading required package: igraph
Attaching package: 'igraph'
The following object is masked from 'package:testthat':
    compare
The following objects are masked from 'package:stats':
    decompose, spectrum
The following object is masked from 'package:base':
    union
> 
> test_check("rsemmed")
Serum cortisol --- Mood :
# A tibble: 1 × 5
  from_semtype from           via      to    to_semtype    
  <chr>        <chr>          <chr>    <chr> <chr>         
1 horm,strd    Serum cortisol AUGMENTS Mood  aapp,gngm,menp
Serum cortisol --- Stress :
# A tibble: 1 × 5
  from_semtype from           via      to     to_semtype              
  <chr>        <chr>          <chr>    <chr>  <chr>                   
1 horm,strd    Serum cortisol DISRUPTS Stress comd,dsyn,fndg,patf,sosy
Stress --- Stress Disorders, Traumatic :
# A tibble: 2 × 5
  from_semtype             from                        via      to    to_semtype
  <chr>                    <chr>                       <chr>    <chr> <chr>     
1 comd,dsyn,fndg,patf,sosy Stress                      PREDISP… Stre… dsyn,mobd 
2 dsyn,mobd                Stress Disorders, Traumatic AFFECTS  Stre… comd,dsyn…
Serum cortisol ----------> Chronic Stress 
.
PREDISPOSES    DISRUPTS         ISA      TREATS 
          3           1           1           1 
[ FAIL 0 | WARN 0 | SKIP 0 | PASS 67 ]
> 
> proc.time()
   user  system elapsed 
  1.759   0.096   1.842 
rsemmed.Rcheck/rsemmed-Ex.timings
| name | user | system | elapsed | |
| find_nodes | 0.081 | 0.018 | 0.099 | |
| find_paths | 0.031 | 0.000 | 0.030 | |
| get_edge_features | 0.037 | 0.000 | 0.038 | |
| get_middle_nodes | 0.096 | 0.002 | 0.097 | |
| grow_nodes | 0.021 | 0.000 | 0.020 | |
| make_edge_weights | 0.030 | 0.001 | 0.031 | |
| plot_path | 0.085 | 0.000 | 0.086 | |
| summarize_predicates | 0.192 | 0.001 | 0.194 | |
| summarize_semtypes | 0.405 | 0.006 | 0.411 | |
| text_path | 0.091 | 0.001 | 0.091 | |