| Back to Multiple platform build/check report for BioC 3.21: simplified long |
|
This page was generated on 2025-10-16 11:39 -0400 (Thu, 16 Oct 2025).
| Hostname | OS | Arch (*) | R version | Installed pkgs |
|---|---|---|---|---|
| nebbiolo1 | Linux (Ubuntu 24.04.3 LTS) | x86_64 | 4.5.1 (2025-06-13) -- "Great Square Root" | 4833 |
| merida1 | macOS 12.7.6 Monterey | x86_64 | 4.5.1 RC (2025-06-05 r88288) -- "Great Square Root" | 4614 |
| kjohnson1 | macOS 13.7.5 Ventura | arm64 | 4.5.1 Patched (2025-06-14 r88325) -- "Great Square Root" | 4555 |
| kunpeng2 | Linux (openEuler 24.03 LTS) | aarch64 | R Under development (unstable) (2025-02-19 r87757) -- "Unsuffered Consequences" | 4586 |
| Click on any hostname to see more info about the system (e.g. compilers) (*) as reported by 'uname -p', except on Windows and Mac OS X | ||||
| Package 1750/2341 | Hostname | OS / Arch | INSTALL | BUILD | CHECK | BUILD BIN | ||||||||
| regutools 1.20.0 (landing page) Joselyn Chavez
| nebbiolo1 | Linux (Ubuntu 24.04.3 LTS) / x86_64 | OK | OK | OK | |||||||||
| merida1 | macOS 12.7.6 Monterey / x86_64 | OK | OK | OK | OK | |||||||||
| kjohnson1 | macOS 13.7.5 Ventura / arm64 | OK | OK | OK | OK | |||||||||
| kunpeng2 | Linux (openEuler 24.03 LTS) / aarch64 | OK | OK | OK | ||||||||||
|
To the developers/maintainers of the regutools package: - Allow up to 24 hours (and sometimes 48 hours) for your latest push to git@git.bioconductor.org:packages/regutools.git to reflect on this report. See Troubleshooting Build Report for more information. - Use the following Renviron settings to reproduce errors and warnings. - If 'R CMD check' started to fail recently on the Linux builder(s) over a missing dependency, add the missing dependency to 'Suggests:' in your DESCRIPTION file. See Renviron.bioc for more information. |
| Package: regutools |
| Version: 1.20.0 |
| Command: /Library/Frameworks/R.framework/Resources/bin/R CMD check --install=check:regutools.install-out.txt --library=/Library/Frameworks/R.framework/Resources/library --no-vignettes --timings regutools_1.20.0.tar.gz |
| StartedAt: 2025-10-14 09:01:12 -0400 (Tue, 14 Oct 2025) |
| EndedAt: 2025-10-14 09:16:30 -0400 (Tue, 14 Oct 2025) |
| EllapsedTime: 918.4 seconds |
| RetCode: 0 |
| Status: OK |
| CheckDir: regutools.Rcheck |
| Warnings: 0 |
##############################################################################
##############################################################################
###
### Running command:
###
### /Library/Frameworks/R.framework/Resources/bin/R CMD check --install=check:regutools.install-out.txt --library=/Library/Frameworks/R.framework/Resources/library --no-vignettes --timings regutools_1.20.0.tar.gz
###
##############################################################################
##############################################################################
* using log directory ‘/Users/biocbuild/bbs-3.21-bioc/meat/regutools.Rcheck’
* using R version 4.5.1 RC (2025-06-05 r88288)
* using platform: x86_64-apple-darwin20
* R was compiled by
Apple clang version 14.0.0 (clang-1400.0.29.202)
GNU Fortran (GCC) 14.2.0
* running under: macOS Monterey 12.7.6
* using session charset: UTF-8
* using option ‘--no-vignettes’
* checking for file ‘regutools/DESCRIPTION’ ... OK
* this is package ‘regutools’ version ‘1.20.0’
* package encoding: UTF-8
* checking package namespace information ... OK
* checking package dependencies ... OK
* checking if this is a source package ... OK
* checking if there is a namespace ... OK
* checking for hidden files and directories ... OK
* checking for portable file names ... OK
* checking for sufficient/correct file permissions ... OK
* checking whether package ‘regutools’ can be installed ... OK
* checking installed package size ... OK
* checking package directory ... OK
* checking ‘build’ directory ... OK
* checking DESCRIPTION meta-information ... OK
* checking top-level files ... OK
* checking for left-over files ... OK
* checking index information ... OK
* checking package subdirectories ... OK
* checking code files for non-ASCII characters ... OK
* checking R files for syntax errors ... OK
* checking whether the package can be loaded ... OK
* checking whether the package can be loaded with stated dependencies ... OK
* checking whether the package can be unloaded cleanly ... OK
* checking whether the namespace can be loaded with stated dependencies ... OK
* checking whether the namespace can be unloaded cleanly ... OK
* checking dependencies in R code ... OK
* checking S3 generic/method consistency ... OK
* checking replacement functions ... OK
* checking foreign function calls ... OK
* checking R code for possible problems ... OK
* checking Rd files ... OK
* checking Rd metadata ... OK
* checking Rd cross-references ... OK
* checking for missing documentation entries ... OK
* checking for code/documentation mismatches ... OK
* checking Rd \usage sections ... OK
* checking Rd contents ... OK
* checking for unstated dependencies in examples ... OK
* checking files in ‘vignettes’ ... OK
* checking examples ... OK
Examples with CPU (user + system) or elapsed time > 5s
user system elapsed
plot_dna_objects 14.582 0.715 15.465
build_condition 8.967 0.705 10.230
get_gene_synonyms 7.102 0.475 7.876
convert_to_granges 6.755 0.641 7.947
convert_to_biostrings 6.638 0.742 7.851
get_dataset 6.492 0.604 7.445
get_dna_objects 6.555 0.510 7.259
get_regulatory_summary 6.506 0.529 7.487
connect_database 6.228 0.555 7.424
get_binding_sites 6.242 0.518 7.271
regulondb 6.064 0.692 6.914
list_attributes 5.960 0.500 6.638
get_regulatory_network 5.930 0.449 6.496
list_datasets 5.791 0.521 6.479
guess_id 5.833 0.462 9.538
get_gene_regulators 5.776 0.462 6.524
* checking for unstated dependencies in ‘tests’ ... OK
* checking tests ...
Running ‘testthat.R’
OK
* checking for unstated dependencies in vignettes ... OK
* checking package vignettes ... OK
* checking running R code from vignettes ... SKIPPED
* checking re-building of vignette outputs ... SKIPPED
* checking PDF version of manual ... OK
* DONE
Status: OK
regutools.Rcheck/00install.out
############################################################################## ############################################################################## ### ### Running command: ### ### /Library/Frameworks/R.framework/Resources/bin/R CMD INSTALL regutools ### ############################################################################## ############################################################################## * installing to library ‘/Library/Frameworks/R.framework/Versions/4.5-x86_64/Resources/library’ * installing *source* package ‘regutools’ ... ** this is package ‘regutools’ version ‘1.20.0’ ** using staged installation ** R ** inst ** byte-compile and prepare package for lazy loading ** help *** installing help indices *** copying figures ** building package indices ** installing vignettes ** testing if installed package can be loaded from temporary location ** testing if installed package can be loaded from final location ** testing if installed package keeps a record of temporary installation path * DONE (regutools)
regutools.Rcheck/tests/testthat.Rout
R version 4.5.1 RC (2025-06-05 r88288) -- "Great Square Root"
Copyright (C) 2025 The R Foundation for Statistical Computing
Platform: x86_64-apple-darwin20
R is free software and comes with ABSOLUTELY NO WARRANTY.
You are welcome to redistribute it under certain conditions.
Type 'license()' or 'licence()' for distribution details.
R is a collaborative project with many contributors.
Type 'contributors()' for more information and
'citation()' on how to cite R or R packages in publications.
Type 'demo()' for some demos, 'help()' for on-line help, or
'help.start()' for an HTML browser interface to help.
Type 'q()' to quit R.
> library("testthat")
> library("regutools")
>
> test_check("regutools")
[ FAIL 0 | WARN 0 | SKIP 0 | PASS 110 ]
Warning message:
call dbDisconnect() when finished working with a connection
>
> proc.time()
user system elapsed
142.883 10.785 164.493
regutools.Rcheck/regutools-Ex.timings
| name | user | system | elapsed | |
| build_condition | 8.967 | 0.705 | 10.230 | |
| connect_database | 6.228 | 0.555 | 7.424 | |
| convert_to_biostrings | 6.638 | 0.742 | 7.851 | |
| convert_to_granges | 6.755 | 0.641 | 7.947 | |
| existing_intervals | 0.001 | 0.001 | 0.002 | |
| existing_partial_match | 0.001 | 0.001 | 0.002 | |
| get_binding_sites | 6.242 | 0.518 | 7.271 | |
| get_dataset | 6.492 | 0.604 | 7.445 | |
| get_dna_objects | 6.555 | 0.510 | 7.259 | |
| get_gene_regulators | 5.776 | 0.462 | 6.524 | |
| get_gene_synonyms | 7.102 | 0.475 | 7.876 | |
| get_regulatory_network | 5.930 | 0.449 | 6.496 | |
| get_regulatory_summary | 6.506 | 0.529 | 7.487 | |
| guess_id | 5.833 | 0.462 | 9.538 | |
| list_attributes | 5.960 | 0.500 | 6.638 | |
| list_datasets | 5.791 | 0.521 | 6.479 | |
| non_existing_intervals | 0.001 | 0.001 | 0.001 | |
| plot_dna_objects | 14.582 | 0.715 | 15.465 | |
| regulondb | 6.064 | 0.692 | 6.914 | |