| Back to Multiple platform build/check report for BioC 3.21: simplified long |
|
This page was generated on 2025-04-22 13:18 -0400 (Tue, 22 Apr 2025).
| Hostname | OS | Arch (*) | R version | Installed pkgs |
|---|---|---|---|---|
| nebbiolo1 | Linux (Ubuntu 24.04.1 LTS) | x86_64 | 4.5.0 RC (2025-04-04 r88126) -- "How About a Twenty-Six" | 4831 |
| palomino7 | Windows Server 2022 Datacenter | x64 | 4.5.0 RC (2025-04-04 r88126 ucrt) -- "How About a Twenty-Six" | 4573 |
| lconway | macOS 12.7.1 Monterey | x86_64 | 4.5.0 RC (2025-04-04 r88126) -- "How About a Twenty-Six" | 4599 |
| kjohnson3 | macOS 13.7.1 Ventura | arm64 | 4.5.0 RC (2025-04-04 r88126) -- "How About a Twenty-Six" | 4553 |
| kunpeng2 | Linux (openEuler 24.03 LTS) | aarch64 | R Under development (unstable) (2025-02-19 r87757) -- "Unsuffered Consequences" | 4570 |
| Click on any hostname to see more info about the system (e.g. compilers) (*) as reported by 'uname -p', except on Windows and Mac OS X | ||||
| Package 1644/2341 | Hostname | OS / Arch | INSTALL | BUILD | CHECK | BUILD BIN | ||||||||
| psichomics 1.34.0 (landing page) Nuno Saraiva-Agostinho
| nebbiolo1 | Linux (Ubuntu 24.04.1 LTS) / x86_64 | OK | OK | OK | |||||||||
| palomino7 | Windows Server 2022 Datacenter / x64 | OK | OK | OK | OK | |||||||||
| lconway | macOS 12.7.1 Monterey / x86_64 | OK | OK | OK | OK | |||||||||
| kjohnson3 | macOS 13.7.1 Ventura / arm64 | OK | OK | OK | OK | |||||||||
| kunpeng2 | Linux (openEuler 24.03 LTS) / aarch64 | OK | OK | OK | ||||||||||
|
To the developers/maintainers of the psichomics package: - Allow up to 24 hours (and sometimes 48 hours) for your latest push to git@git.bioconductor.org:packages/psichomics.git to reflect on this report. See Troubleshooting Build Report for more information. - Use the following Renviron settings to reproduce errors and warnings. - If 'R CMD check' started to fail recently on the Linux builder(s) over a missing dependency, add the missing dependency to 'Suggests:' in your DESCRIPTION file. See Renviron.bioc for more information. |
| Package: psichomics |
| Version: 1.34.0 |
| Command: /Library/Frameworks/R.framework/Resources/bin/R CMD check --install=check:psichomics.install-out.txt --library=/Library/Frameworks/R.framework/Resources/library --no-vignettes --timings psichomics_1.34.0.tar.gz |
| StartedAt: 2025-04-21 21:01:59 -0400 (Mon, 21 Apr 2025) |
| EndedAt: 2025-04-21 21:05:14 -0400 (Mon, 21 Apr 2025) |
| EllapsedTime: 195.3 seconds |
| RetCode: 0 |
| Status: OK |
| CheckDir: psichomics.Rcheck |
| Warnings: 0 |
##############################################################################
##############################################################################
###
### Running command:
###
### /Library/Frameworks/R.framework/Resources/bin/R CMD check --install=check:psichomics.install-out.txt --library=/Library/Frameworks/R.framework/Resources/library --no-vignettes --timings psichomics_1.34.0.tar.gz
###
##############################################################################
##############################################################################
* using log directory ‘/Users/biocbuild/bbs-3.21-bioc/meat/psichomics.Rcheck’
* using R version 4.5.0 RC (2025-04-04 r88126)
* using platform: aarch64-apple-darwin20
* R was compiled by
Apple clang version 14.0.0 (clang-1400.0.29.202)
GNU Fortran (GCC) 14.2.0
* running under: macOS Ventura 13.7.1
* using session charset: UTF-8
* using option ‘--no-vignettes’
* checking for file ‘psichomics/DESCRIPTION’ ... OK
* this is package ‘psichomics’ version ‘1.34.0’
* package encoding: UTF-8
* checking package namespace information ... OK
* checking package dependencies ... INFO
Imports includes 33 non-default packages.
Importing from so many packages makes the package vulnerable to any of
them becoming unavailable. Move as many as possible to Suggests and
use conditionally.
* checking if this is a source package ... OK
* checking if there is a namespace ... OK
* checking for hidden files and directories ... NOTE
Found the following hidden files and directories:
.devcontainer
These were most likely included in error. See section ‘Package
structure’ in the ‘Writing R Extensions’ manual.
* checking for portable file names ... OK
* checking for sufficient/correct file permissions ... OK
* checking whether package ‘psichomics’ can be installed ... OK
* used C++ compiler: ‘Apple clang version 15.0.0 (clang-1500.1.0.2.5)’
* used SDK: ‘MacOSX11.3.sdk’
* checking installed package size ... OK
* checking package directory ... OK
* checking ‘build’ directory ... OK
* checking DESCRIPTION meta-information ... OK
* checking top-level files ... OK
* checking for left-over files ... OK
* checking index information ... OK
* checking package subdirectories ... OK
* checking code files for non-ASCII characters ... OK
* checking R files for syntax errors ... OK
* checking whether the package can be loaded ... OK
* checking whether the package can be loaded with stated dependencies ... OK
* checking whether the package can be unloaded cleanly ... OK
* checking whether the namespace can be loaded with stated dependencies ... OK
* checking whether the namespace can be unloaded cleanly ... OK
* checking whether startup messages can be suppressed ... OK
* checking dependencies in R code ... OK
* checking S3 generic/method consistency ... OK
* checking replacement functions ... OK
* checking foreign function calls ... OK
* checking R code for possible problems ... OK
* checking Rd files ... OK
* checking Rd metadata ... OK
* checking Rd cross-references ... NOTE
Found the following Rd file(s) with Rd \link{} targets missing package
anchors:
colSums-EList-method.Rd: EList-class
renderDataTableSparklines.Rd: renderDataTable
showAlert.Rd: showModal
Please provide package anchors for all Rd \link{} targets not in the
package itself and the base packages.
* checking for missing documentation entries ... OK
* checking for code/documentation mismatches ... OK
* checking Rd \usage sections ... NOTE
Documented arguments not in \usage in Rd file 'createSparklines.Rd':
‘id’
Documented arguments not in \usage in Rd file 'renderGeneticInfo.Rd':
‘ns’
Functions with \usage entries need to have the appropriate \alias
entries, and all their arguments documented.
The \usage entries must correspond to syntactically valid R code.
See chapter ‘Writing R documentation files’ in the ‘Writing R
Extensions’ manual.
* checking Rd contents ... OK
* checking for unstated dependencies in examples ... OK
* checking line endings in C/C++/Fortran sources/headers ... OK
* checking compiled code ... NOTE
Note: information on .o files is not available
* checking files in ‘vignettes’ ... OK
* checking examples ... OK
Examples with CPU (user + system) or elapsed time > 5s
user system elapsed
convertGeneIdentifiers 6.971 0.520 9.518
listSplicingAnnotations 6.081 0.516 7.251
* checking for unstated dependencies in ‘tests’ ... OK
* checking tests ...
Running ‘spelling.R’
Running ‘testthat.R’
OK
* checking for unstated dependencies in vignettes ... OK
* checking package vignettes ... OK
* checking running R code from vignettes ... SKIPPED
* checking re-building of vignette outputs ... SKIPPED
* checking PDF version of manual ... OK
* DONE
Status: 4 NOTEs
See
‘/Users/biocbuild/bbs-3.21-bioc/meat/psichomics.Rcheck/00check.log’
for details.
psichomics.Rcheck/00install.out
############################################################################## ############################################################################## ### ### Running command: ### ### /Library/Frameworks/R.framework/Resources/bin/R CMD INSTALL psichomics ### ############################################################################## ############################################################################## * installing to library ‘/Library/Frameworks/R.framework/Versions/4.5-arm64/Resources/library’ * installing *source* package ‘psichomics’ ... ** this is package ‘psichomics’ version ‘1.34.0’ ** using staged installation ** libs using C++ compiler: ‘Apple clang version 15.0.0 (clang-1500.1.0.2.5)’ using SDK: ‘MacOSX11.3.sdk’ clang++ -arch arm64 -std=gnu++17 -I"/Library/Frameworks/R.framework/Resources/include" -DNDEBUG -I'/Library/Frameworks/R.framework/Versions/4.5-arm64/Resources/library/Rcpp/include' -I/opt/R/arm64/include -fPIC -falign-functions=64 -Wall -g -O2 -c RcppExports.cpp -o RcppExports.o clang++ -arch arm64 -std=gnu++17 -I"/Library/Frameworks/R.framework/Resources/include" -DNDEBUG -I'/Library/Frameworks/R.framework/Versions/4.5-arm64/Resources/library/Rcpp/include' -I/opt/R/arm64/include -fPIC -falign-functions=64 -Wall -g -O2 -c progressBar.cpp -o progressBar.o clang++ -arch arm64 -std=gnu++17 -I"/Library/Frameworks/R.framework/Resources/include" -DNDEBUG -I'/Library/Frameworks/R.framework/Versions/4.5-arm64/Resources/library/Rcpp/include' -I/opt/R/arm64/include -fPIC -falign-functions=64 -Wall -g -O2 -c psiFastCalc.cpp -o psiFastCalc.o clang++ -arch arm64 -std=gnu++17 -I"/Library/Frameworks/R.framework/Resources/include" -DNDEBUG -I'/Library/Frameworks/R.framework/Versions/4.5-arm64/Resources/library/Rcpp/include' -I/opt/R/arm64/include -fPIC -falign-functions=64 -Wall -g -O2 -c vastToolsParser.cpp -o vastToolsParser.o clang++ -arch arm64 -std=gnu++17 -dynamiclib -Wl,-headerpad_max_install_names -undefined dynamic_lookup -L/Library/Frameworks/R.framework/Resources/lib -L/opt/R/arm64/lib -o psichomics.so RcppExports.o progressBar.o psiFastCalc.o vastToolsParser.o -F/Library/Frameworks/R.framework/.. -framework R installing to /Library/Frameworks/R.framework/Versions/4.5-arm64/Resources/library/00LOCK-psichomics/00new/psichomics/libs ** R ** inst ** byte-compile and prepare package for lazy loading Creating a generic function for ‘colSums’ from package ‘base’ in package ‘psichomics’ ** help *** installing help indices *** copying figures ** building package indices ** installing vignettes ** testing if installed package can be loaded from temporary location ** checking absolute paths in shared objects and dynamic libraries ** testing if installed package can be loaded from final location ** testing if installed package keeps a record of temporary installation path * DONE (psichomics)
psichomics.Rcheck/tests/spelling.Rout
R version 4.5.0 RC (2025-04-04 r88126) -- "How About a Twenty-Six"
Copyright (C) 2025 The R Foundation for Statistical Computing
Platform: aarch64-apple-darwin20
R is free software and comes with ABSOLUTELY NO WARRANTY.
You are welcome to redistribute it under certain conditions.
Type 'license()' or 'licence()' for distribution details.
R is a collaborative project with many contributors.
Type 'contributors()' for more information and
'citation()' on how to cite R or R packages in publications.
Type 'demo()' for some demos, 'help()' for on-line help, or
'help.start()' for an HTML browser interface to help.
Type 'q()' to quit R.
> if(requireNamespace('spelling', quietly = TRUE))
+ spelling::spell_check_test(vignettes = TRUE, error = FALSE,
+ skip_on_cran = TRUE)
NULL
>
> proc.time()
user system elapsed
0.069 0.021 0.087
psichomics.Rcheck/tests/testthat.Rout
R version 4.5.0 RC (2025-04-04 r88126) -- "How About a Twenty-Six"
Copyright (C) 2025 The R Foundation for Statistical Computing
Platform: aarch64-apple-darwin20
R is free software and comes with ABSOLUTELY NO WARRANTY.
You are welcome to redistribute it under certain conditions.
Type 'license()' or 'licence()' for distribution details.
R is a collaborative project with many contributors.
Type 'contributors()' for more information and
'citation()' on how to cite R or R packages in publications.
Type 'demo()' for some demos, 'help()' for on-line help, or
'help.start()' for an HTML browser interface to help.
Type 'q()' to quit R.
> library(testthat)
> library(psichomics)
Loading required package: shiny
Loading required package: shinyBS
Setting options('download.file.method.GEOquery'='auto')
Setting options('GEOquery.inmemory.gpl'=FALSE)
psichomics 1.34.0: start the visual interface by running psichomics()
Full documentation and tutorials at https://nuno-agostinho.github.io/psichomics
>
> test_check("psichomics")
| | 0%
|======== | 20%
|================ | 40%
|======================== | 60%
|================================ | 80%
|========================================| 100%
| | 0%
|======== | 20%
|================ | 40%
|======================== | 60%
|================================ | 80%
|========================================| 100%
| | 0%
|======== | 20%
|================ | 40%
|======================== | 60%
|================================ | 80%
|========================================| 100%
| | 0%
|======== | 20%
|================ | 40%
|======================== | 60%
|================================ | 80%
|========================================| 100%
Retrieving rMATS annotation...
Parsing rMATS annotation...
Retrieving rMATS annotation...
Parsing rMATS annotation...
Retrieving MISO annotation...
Parsing MISO annotation...
| | 0%
|======== | 20%
|================ | 40%
|======================== | 60%
|================================ | 80%
|========================================| 100%
| | 0%
|======== | 20%
|================ | 40%
|======================== | 60%
|================================ | 80%
|========================================| 100%
| | 0%
|======== | 20%
|================ | 40%
|======================== | 60%
|================================ | 80%
|========================================| 100%
| | 0%
|======== | 20%
|================ | 40%
|======================== | 60%
|================================ | 80%
|========================================| 100%
| | 0%
|======== | 20%
|================ | 40%
|======================== | 60%
|================================ | 80%
|========================================| 100%
| | 0%
|======== | 20%
|================ | 40%
|======================== | 60%
|================================ | 80%
|========================================| 100%
| | 0%
|======== | 20%
|================ | 40%
|======================== | 60%
|================================ | 80%
|========================================| 100%
| | 0%
|======== | 20%
|================ | 40%
|======================== | 60%
|================================ | 80%
|========================================| 100%
Retrieving SUPPA annotation...
Parsing SUPPA annotation...
Retrieving VAST-TOOLS annotation...
Parsing VAST-TOOLS annotation...
ALT3
ALT5
COMBI
EXSK
IR
MERGE3m
MIC
MULTI
[ FAIL 0 | WARN 0 | SKIP 4 | PASS 1418 ]
══ Skipped tests (4) ═══════════════════════════════════════════════════════════
• Couldn't resolve host name (1): 'testGeneInfo.R:99:5'
• On Bioconductor (2): 'testDiscardLowCoveragePSIs.R:62:5',
'testGeneInfo.R:50:5'
• On CRAN (1): 'testSRAloading.R:4:5'
[ FAIL 0 | WARN 0 | SKIP 4 | PASS 1418 ]
>
> proc.time()
user system elapsed
9.193 0.547 11.381
psichomics.Rcheck/psichomics-Ex.timings
| name | user | system | elapsed | |
| addObjectAttrs | 0 | 0 | 0 | |
| assignValuePerSubject | 0.005 | 0.003 | 0.009 | |
| blendColours | 0 | 0 | 0 | |
| calculateLoadingsContribution | 0.003 | 0.001 | 0.003 | |
| convertGeneIdentifiers | 6.971 | 0.520 | 9.518 | |
| correlateGEandAS | 0.005 | 0.002 | 0.007 | |
| createGroupByAttribute | 0.001 | 0.000 | 0.001 | |
| createJunctionsTemplate | 0 | 0 | 0 | |
| customRowMeans | 0.001 | 0.000 | 0.000 | |
| diffAnalyses | 0.022 | 0.002 | 0.025 | |
| downloadFiles | 0 | 0 | 0 | |
| ensemblToUniprot | 0.008 | 0.001 | 0.674 | |
| filterGeneExpr | 0.002 | 0.000 | 0.003 | |
| filterGroups | 0.001 | 0.000 | 0.000 | |
| filterPSI | 0.004 | 0.001 | 0.005 | |
| getAttributesTime | 0.001 | 0.000 | 0.001 | |
| getDownloadsFolder | 0 | 0 | 0 | |
| getFirebrowseDateFormat | 0.000 | 0.000 | 0.001 | |
| getGeneList | 0.002 | 0.001 | 0.002 | |
| getGtexDataTypes | 0 | 0 | 0 | |
| getGtexTissues | 0 | 0 | 0 | |
| getNumerics | 0.001 | 0.000 | 0.001 | |
| getSampleFromSubject | 0 | 0 | 0 | |
| getSplicingEventFromGenes | 0.002 | 0.001 | 0.001 | |
| getSplicingEventTypes | 0 | 0 | 0 | |
| getSubjectFromSample | 0 | 0 | 0 | |
| getTCGAdataTypes | 0.010 | 0.002 | 0.338 | |
| getValidEvents | 0.001 | 0.000 | 0.001 | |
| groupPerElem | 0.001 | 0.000 | 0.000 | |
| hchart.survfit | 0.081 | 0.038 | 0.129 | |
| isFirebrowseUp | 0.002 | 0.001 | 0.015 | |
| labelBasedOnCutoff | 0.001 | 0.000 | 0.001 | |
| leveneTest | 0.002 | 0.000 | 0.002 | |
| listAllAnnotations | 1.137 | 0.107 | 1.359 | |
| listSplicingAnnotations | 6.081 | 0.516 | 7.251 | |
| loadAnnotation | 1.500 | 0.148 | 1.750 | |
| loadGtexData | 0 | 0 | 0 | |
| loadLocalFiles | 0 | 0 | 0 | |
| loadSRAproject | 0 | 0 | 0 | |
| loadTCGAdata | 0.005 | 0.001 | 0.028 | |
| missingDataModal | 0 | 0 | 0 | |
| normaliseGeneExpression | 0.014 | 0.001 | 0.015 | |
| optimalSurvivalCutoff | 0.035 | 0.000 | 0.036 | |
| parseCategoricalGroups | 0 | 0 | 0 | |
| parseFirebrowseMetadata | 0.014 | 0.002 | 0.098 | |
| parseMatsEvent | 0.001 | 0.000 | 0.002 | |
| parseMatsGeneric | 0.005 | 0.001 | 0.005 | |
| parseMisoAnnotation | 0.037 | 0.005 | 0.044 | |
| parseMisoEvent | 0.001 | 0.000 | 0.001 | |
| parseMisoEventID | 0.001 | 0.001 | 0.003 | |
| parseMisoGeneric | 0.008 | 0.000 | 0.008 | |
| parseMisoId | 0.001 | 0.000 | 0.000 | |
| parseSplicingEvent | 0.001 | 0.000 | 0.002 | |
| parseSuppaEvent | 0.001 | 0.000 | 0.001 | |
| parseSuppaGeneric | 0.005 | 0.001 | 0.005 | |
| parseTcgaSampleInfo | 0.002 | 0.000 | 0.002 | |
| parseUrlsFromFirebrowseResponse | 0.009 | 0.001 | 0.096 | |
| parseVastToolsEvent | 0.002 | 0.000 | 0.002 | |
| parseVastToolsSE | 0.005 | 0.001 | 0.005 | |
| performICA | 0.002 | 0.001 | 0.002 | |
| performPCA | 0 | 0 | 0 | |
| plot.GEandAScorrelation | 0.171 | 0.005 | 0.187 | |
| plotDistribution | 0.222 | 0.024 | 0.259 | |
| plotGeneExprPerSample | 0.025 | 0.013 | 0.039 | |
| plotGroupIndependence | 0.067 | 0.002 | 0.071 | |
| plotICA | 0.034 | 0.005 | 0.042 | |
| plotLibrarySize | 0.057 | 0.011 | 0.082 | |
| plotPCA | 0.072 | 0.047 | 0.119 | |
| plotPCAvariance | 0.013 | 0.011 | 0.024 | |
| plotProtein | 0.186 | 0.026 | 1.242 | |
| plotRowStats | 0.155 | 0.004 | 0.159 | |
| plotSingleICA | 0.056 | 0.038 | 0.102 | |
| plotSplicingEvent | 0.013 | 0.001 | 0.014 | |
| plotSurvivalCurves | 0.026 | 0.011 | 0.038 | |
| plotSurvivalPvaluesByCutoff | 0.148 | 0.012 | 0.171 | |
| plotTranscripts | 0.008 | 0.001 | 0.697 | |
| prepareAnnotationFromEvents | 0.049 | 0.002 | 0.056 | |
| prepareFirebrowseArchives | 0 | 0 | 0 | |
| prepareJunctionQuantSTAR | 0 | 0 | 0 | |
| prepareSRAmetadata | 0 | 0 | 0 | |
| processSurvTerms | 0.003 | 0.001 | 0.003 | |
| psichomics | 0 | 0 | 0 | |
| quantifySplicing | 0.004 | 0.002 | 0.005 | |
| queryEnsembl | 0.009 | 0.001 | 0.433 | |
| queryEnsemblByGene | 0.034 | 0.006 | 2.609 | |
| queryFirebrowseData | 0.014 | 0.001 | 0.212 | |
| queryPubMed | 0.010 | 0.002 | 0.485 | |
| queryUniprot | 0.025 | 0.001 | 0.454 | |
| readFile | 0.001 | 0.000 | 0.001 | |
| renameDuplicated | 0.000 | 0.000 | 0.001 | |
| renderBoxplot | 0.026 | 0.012 | 0.037 | |
| survdiffTerms | 0.003 | 0.000 | 0.003 | |
| survfit.survTerms | 0.009 | 0.000 | 0.010 | |
| testGroupIndependence | 0.001 | 0.000 | 0.001 | |
| testSurvival | 0.007 | 0.000 | 0.007 | |
| textSuggestions | 0.000 | 0.001 | 0.000 | |
| trimWhitespace | 0.001 | 0.000 | 0.001 | |