| Back to Multiple platform build/check report for BioC 3.21: simplified long |
|
This page was generated on 2025-10-16 11:39 -0400 (Thu, 16 Oct 2025).
| Hostname | OS | Arch (*) | R version | Installed pkgs |
|---|---|---|---|---|
| nebbiolo1 | Linux (Ubuntu 24.04.3 LTS) | x86_64 | 4.5.1 (2025-06-13) -- "Great Square Root" | 4833 |
| merida1 | macOS 12.7.6 Monterey | x86_64 | 4.5.1 RC (2025-06-05 r88288) -- "Great Square Root" | 4614 |
| kjohnson1 | macOS 13.7.5 Ventura | arm64 | 4.5.1 Patched (2025-06-14 r88325) -- "Great Square Root" | 4555 |
| kunpeng2 | Linux (openEuler 24.03 LTS) | aarch64 | R Under development (unstable) (2025-02-19 r87757) -- "Unsuffered Consequences" | 4586 |
| Click on any hostname to see more info about the system (e.g. compilers) (*) as reported by 'uname -p', except on Windows and Mac OS X | ||||
| Package 1552/2341 | Hostname | OS / Arch | INSTALL | BUILD | CHECK | BUILD BIN | ||||||||
| peakPantheR 1.22.1 (landing page) Arnaud Wolfer
| nebbiolo1 | Linux (Ubuntu 24.04.3 LTS) / x86_64 | OK | OK | OK | |||||||||
| merida1 | macOS 12.7.6 Monterey / x86_64 | OK | OK | OK | OK | |||||||||
| kjohnson1 | macOS 13.7.5 Ventura / arm64 | OK | OK | ERROR | OK | |||||||||
| kunpeng2 | Linux (openEuler 24.03 LTS) / aarch64 | OK | OK | ERROR | ||||||||||
|
To the developers/maintainers of the peakPantheR package: - Allow up to 24 hours (and sometimes 48 hours) for your latest push to git@git.bioconductor.org:packages/peakPantheR.git to reflect on this report. See Troubleshooting Build Report for more information. - Use the following Renviron settings to reproduce errors and warnings. - If 'R CMD check' started to fail recently on the Linux builder(s) over a missing dependency, add the missing dependency to 'Suggests:' in your DESCRIPTION file. See Renviron.bioc for more information. |
| Package: peakPantheR |
| Version: 1.22.1 |
| Command: /Library/Frameworks/R.framework/Resources/bin/R CMD check --install=check:peakPantheR.install-out.txt --library=/Library/Frameworks/R.framework/Resources/library --no-vignettes --timings peakPantheR_1.22.1.tar.gz |
| StartedAt: 2025-10-14 08:03:50 -0400 (Tue, 14 Oct 2025) |
| EndedAt: 2025-10-14 08:38:29 -0400 (Tue, 14 Oct 2025) |
| EllapsedTime: 2078.8 seconds |
| RetCode: 0 |
| Status: OK |
| CheckDir: peakPantheR.Rcheck |
| Warnings: 0 |
##############################################################################
##############################################################################
###
### Running command:
###
### /Library/Frameworks/R.framework/Resources/bin/R CMD check --install=check:peakPantheR.install-out.txt --library=/Library/Frameworks/R.framework/Resources/library --no-vignettes --timings peakPantheR_1.22.1.tar.gz
###
##############################################################################
##############################################################################
* using log directory ‘/Users/biocbuild/bbs-3.21-bioc/meat/peakPantheR.Rcheck’
* using R version 4.5.1 RC (2025-06-05 r88288)
* using platform: x86_64-apple-darwin20
* R was compiled by
Apple clang version 14.0.0 (clang-1400.0.29.202)
GNU Fortran (GCC) 14.2.0
* running under: macOS Monterey 12.7.6
* using session charset: UTF-8
* using option ‘--no-vignettes’
* checking for file ‘peakPantheR/DESCRIPTION’ ... OK
* this is package ‘peakPantheR’ version ‘1.22.1’
* package encoding: UTF-8
* checking package namespace information ... OK
* checking package dependencies ... OK
* checking if this is a source package ... OK
* checking if there is a namespace ... OK
* checking for hidden files and directories ... OK
* checking for portable file names ... OK
* checking for sufficient/correct file permissions ... OK
* checking whether package ‘peakPantheR’ can be installed ... OK
* checking installed package size ... OK
* checking package directory ... OK
* checking ‘build’ directory ... OK
* checking DESCRIPTION meta-information ... OK
* checking top-level files ... OK
* checking for left-over files ... OK
* checking index information ... OK
* checking package subdirectories ... OK
* checking code files for non-ASCII characters ... OK
* checking R files for syntax errors ... OK
* checking whether the package can be loaded ... OK
* checking whether the package can be loaded with stated dependencies ... OK
* checking whether the package can be unloaded cleanly ... OK
* checking whether the namespace can be loaded with stated dependencies ... OK
* checking whether the namespace can be unloaded cleanly ... OK
* checking whether startup messages can be suppressed ... OK
* checking dependencies in R code ... OK
* checking S3 generic/method consistency ... OK
* checking replacement functions ... OK
* checking foreign function calls ... OK
* checking R code for possible problems ... OK
* checking Rd files ... OK
* checking Rd metadata ... OK
* checking Rd cross-references ... OK
* checking for missing documentation entries ... OK
* checking for code/documentation mismatches ... OK
* checking Rd \usage sections ... OK
* checking Rd contents ... OK
* checking for unstated dependencies in examples ... OK
* checking files in ‘vignettes’ ... OK
* checking examples ... OK
Examples with CPU (user + system) or elapsed time > 5s
user system elapsed
peakPantheR_ROIStatistics 30.879 0.373 32.161
EICs-peakPantheRAnnotation-method 21.646 1.091 22.831
peakPantheR_parallelAnnotation 19.240 0.119 19.469
outputAnnotationDiagnostic-peakPantheRAnnotation-method 18.094 0.163 18.380
outputAnnotationResult-peakPantheRAnnotation-method 17.647 0.122 17.860
retentionTimeCorrection-peakPantheRAnnotation-method 11.763 0.061 11.838
peakPantheR_singleFileSearch 6.123 0.055 6.199
peakPantheR_quickEIC 5.434 0.040 5.479
* checking for unstated dependencies in ‘tests’ ... OK
* checking tests ...
Running ‘testthat.R’
OK
* checking for unstated dependencies in vignettes ... OK
* checking package vignettes ... OK
* checking running R code from vignettes ... SKIPPED
* checking re-building of vignette outputs ... SKIPPED
* checking PDF version of manual ... OK
* DONE
Status: OK
peakPantheR.Rcheck/00install.out
############################################################################## ############################################################################## ### ### Running command: ### ### /Library/Frameworks/R.framework/Resources/bin/R CMD INSTALL peakPantheR ### ############################################################################## ############################################################################## * installing to library ‘/Library/Frameworks/R.framework/Versions/4.5-x86_64/Resources/library’ * installing *source* package ‘peakPantheR’ ... ** this is package ‘peakPantheR’ version ‘1.22.1’ ** using staged installation ** R ** inst ** byte-compile and prepare package for lazy loading ** help *** installing help indices *** copying figures ** building package indices ** installing vignettes ** testing if installed package can be loaded from temporary location ** testing if installed package can be loaded from final location ** testing if installed package keeps a record of temporary installation path * DONE (peakPantheR)
peakPantheR.Rcheck/tests/testthat.Rout
R version 4.5.1 RC (2025-06-05 r88288) -- "Great Square Root"
Copyright (C) 2025 The R Foundation for Statistical Computing
Platform: x86_64-apple-darwin20
R is free software and comes with ABSOLUTELY NO WARRANTY.
You are welcome to redistribute it under certain conditions.
Type 'license()' or 'licence()' for distribution details.
R is a collaborative project with many contributors.
Type 'contributors()' for more information and
'citation()' on how to cite R or R packages in publications.
Type 'demo()' for some demos, 'help()' for on-line help, or
'help.start()' for an HTML browser interface to help.
Type 'q()' to quit R.
> library(testthat)
> library(peakPantheR)
This is peakPantheR version 1.22.1
>
> test_check("peakPantheR")
2025-10-14 08:17:09.739 R[99885:7165893] XType: com.apple.fonts is not accessible.
2025-10-14 08:17:09.740 R[99885:7165893] XType: XTFontStaticRegistry is enabled.
2025-10-14 08:17:54.689 R[17935:7211147] XType: com.apple.fonts is not accessible.
2025-10-14 08:17:54.689 R[17935:7211147] XType: XTFontStaticRegistry is enabled.
2025-10-14 08:18:20.242 R[20065:7214841] XType: com.apple.fonts is not accessible.
2025-10-14 08:18:20.242 R[20065:7214841] XType: XTFontStaticRegistry is enabled.
2025-10-14 08:25:15.270 R[34774:7254422] XType: com.apple.fonts is not accessible.
2025-10-14 08:25:15.270 R[34774:7254422] XType: XTFontStaticRegistry is enabled.
[ FAIL 0 | WARN 0 | SKIP 0 | PASS 1480 ]
Warning messages:
1: In .Internal(gc(verbose, reset, full)) :
closing unused connection 10 (/private/tmp/Rtmp0ymxZS/notValidXML.mzML)
2: In .Internal(gc(verbose, reset, full)) :
closing unused connection 9 (/private/tmp/Rtmp0ymxZS/notValidXML.mzML)
3: In .Internal(gc(verbose, reset, full)) :
closing unused connection 8 (/private/tmp/Rtmp0ymxZS/notValidXML.mzML)
4: In .Internal(gc(verbose, reset, full)) :
closing unused connection 7 (/private/tmp/Rtmp0ymxZS/notValidXML.mzML)
5: In .Internal(gc(verbose, reset, full)) :
closing unused connection 6 (/Library/Frameworks/R.framework/Versions/4.5-x86_64/Resources/library/peakPantheR/extdata/test_fakemzML.mzML)
6: In .Internal(gc(verbose, reset, full)) :
closing unused connection 5 (/Library/Frameworks/R.framework/Versions/4.5-x86_64/Resources/library/peakPantheR/extdata/test_fakemzML.mzML)
>
> proc.time()
user system elapsed
1181.144 9.803 1756.367
peakPantheR.Rcheck/peakPantheR-Ex.timings
| name | user | system | elapsed | |
| EICs-peakPantheRAnnotation-method | 21.646 | 1.091 | 22.831 | |
| FIR-peakPantheRAnnotation-method | 0.054 | 0.004 | 0.057 | |
| ROI-peakPantheRAnnotation-method | 0.039 | 0.003 | 0.041 | |
| TIC-peakPantheRAnnotation-method | 0.037 | 0.002 | 0.039 | |
| acquisitionTime-peakPantheRAnnotation-method | 0.038 | 0.002 | 0.041 | |
| annotationDiagnosticPlots-peakPantheRAnnotation-method | 0.035 | 0.003 | 0.038 | |
| annotationParamsDiagnostic-peakPantheRAnnotation-method | 0.036 | 0.002 | 0.042 | |
| annotationTable-peakPantheRAnnotation-method | 0.040 | 0.003 | 0.042 | |
| annotation_diagnostic_multiplot_UI_helper | 0.343 | 0.026 | 0.369 | |
| annotation_fit_summary_UI_helper | 0.018 | 0.004 | 0.021 | |
| annotation_showMethod_UI_helper | 0.009 | 0.002 | 0.012 | |
| annotation_showText_UI_helper | 0.001 | 0.002 | 0.002 | |
| cpdID-peakPantheRAnnotation-method | 0.031 | 0.003 | 0.035 | |
| cpdMetadata-peakPantheRAnnotation-method | 0.038 | 0.004 | 0.044 | |
| cpdName-peakPantheRAnnotation-method | 0.029 | 0.004 | 0.032 | |
| dataPoints-peakPantheRAnnotation-method | 0.035 | 0.004 | 0.038 | |
| filename-peakPantheRAnnotation-method | 0.036 | 0.004 | 0.042 | |
| filepath-peakPantheRAnnotation-method | 0.036 | 0.005 | 0.041 | |
| initialise_annotation_from_files_UI_helper | 0.029 | 0.006 | 0.035 | |
| isAnnotated-peakPantheRAnnotation-method | 0.035 | 0.004 | 0.039 | |
| load_annotation_from_file_UI_helper | 0.014 | 0.005 | 0.018 | |
| nbCompounds-peakPantheRAnnotation-method | 0.034 | 0.004 | 0.038 | |
| nbSamples-peakPantheRAnnotation-method | 0.033 | 0.004 | 0.037 | |
| outputAnnotationDiagnostic-peakPantheRAnnotation-method | 18.094 | 0.163 | 18.380 | |
| outputAnnotationFeatureMetadata_UI_helper | 0.011 | 0.001 | 0.011 | |
| outputAnnotationParamsCSV-peakPantheRAnnotation-method | 0.050 | 0.002 | 0.051 | |
| outputAnnotationResult-peakPantheRAnnotation-method | 17.647 | 0.122 | 17.860 | |
| outputAnnotationSpectraMetadata_UI_helper | 0.012 | 0.001 | 0.013 | |
| peakFit-peakPantheRAnnotation-method | 0.035 | 0.003 | 0.037 | |
| peakPantheRAnnotation | 0.056 | 0.005 | 0.061 | |
| peakPantheR_ROIStatistics | 30.879 | 0.373 | 32.161 | |
| peakPantheR_loadAnnotationParamsCSV | 0.012 | 0.002 | 0.015 | |
| peakPantheR_parallelAnnotation | 19.240 | 0.119 | 19.469 | |
| peakPantheR_plotEICFit | 1.260 | 0.008 | 1.270 | |
| peakPantheR_plotPeakwidth | 2.144 | 0.053 | 2.200 | |
| peakPantheR_quickEIC | 5.434 | 0.040 | 5.479 | |
| peakPantheR_singleFileSearch | 6.123 | 0.055 | 6.199 | |
| peakPantheR_start_GUI | 0.000 | 0.000 | 0.001 | |
| peakTables-peakPantheRAnnotation-method | 0.035 | 0.004 | 0.039 | |
| resetAnnotation-peakPantheRAnnotation-method | 0.044 | 0.004 | 0.049 | |
| resetFIR-peakPantheRAnnotation-method | 0.010 | 0.002 | 0.011 | |
| retentionTimeCorrection-peakPantheRAnnotation-method | 11.763 | 0.061 | 11.838 | |
| spectraMetadata-peakPantheRAnnotation-method | 0.033 | 0.003 | 0.036 | |
| spectraPaths_and_metadata_UI_helper | 0.004 | 0.003 | 0.007 | |
| spectra_metadata_colourScheme_UI_helper | 0.010 | 0.001 | 0.012 | |
| uROI-peakPantheRAnnotation-method | 0.039 | 0.003 | 0.043 | |
| uROIExist-peakPantheRAnnotation-method | 0.032 | 0.002 | 0.033 | |
| useFIR-peakPantheRAnnotation-method | 0.031 | 0.003 | 0.033 | |
| useUROI-peakPantheRAnnotation-method | 0.032 | 0.003 | 0.035 | |