| Back to Multiple platform build/check report for BioC 3.21: simplified long |
|
This page was generated on 2025-10-16 11:38 -0400 (Thu, 16 Oct 2025).
| Hostname | OS | Arch (*) | R version | Installed pkgs |
|---|---|---|---|---|
| nebbiolo1 | Linux (Ubuntu 24.04.3 LTS) | x86_64 | 4.5.1 (2025-06-13) -- "Great Square Root" | 4833 |
| merida1 | macOS 12.7.6 Monterey | x86_64 | 4.5.1 RC (2025-06-05 r88288) -- "Great Square Root" | 4614 |
| kjohnson1 | macOS 13.7.5 Ventura | arm64 | 4.5.1 Patched (2025-06-14 r88325) -- "Great Square Root" | 4555 |
| kunpeng2 | Linux (openEuler 24.03 LTS) | aarch64 | R Under development (unstable) (2025-02-19 r87757) -- "Unsuffered Consequences" | 4586 |
| Click on any hostname to see more info about the system (e.g. compilers) (*) as reported by 'uname -p', except on Windows and Mac OS X | ||||
| Package 1507/2341 | Hostname | OS / Arch | INSTALL | BUILD | CHECK | BUILD BIN | ||||||||
| orthos 1.6.2 (landing page) Panagiotis Papasaikas
| nebbiolo1 | Linux (Ubuntu 24.04.3 LTS) / x86_64 | OK | OK | OK | |||||||||
| merida1 | macOS 12.7.6 Monterey / x86_64 | OK | OK | OK | OK | |||||||||
| kjohnson1 | macOS 13.7.5 Ventura / arm64 | OK | OK | OK | OK | |||||||||
| kunpeng2 | Linux (openEuler 24.03 LTS) / aarch64 | ERROR | ERROR | skipped | ||||||||||
|
To the developers/maintainers of the orthos package: - Allow up to 24 hours (and sometimes 48 hours) for your latest push to git@git.bioconductor.org:packages/orthos.git to reflect on this report. See Troubleshooting Build Report for more information. - Use the following Renviron settings to reproduce errors and warnings. - If 'R CMD check' started to fail recently on the Linux builder(s) over a missing dependency, add the missing dependency to 'Suggests:' in your DESCRIPTION file. See Renviron.bioc for more information. |
| Package: orthos |
| Version: 1.6.2 |
| Command: /home/biocbuild/bbs-3.21-bioc/R/bin/R CMD check --install=check:orthos.install-out.txt --library=/home/biocbuild/bbs-3.21-bioc/R/site-library --timings orthos_1.6.2.tar.gz |
| StartedAt: 2025-10-16 01:54:47 -0400 (Thu, 16 Oct 2025) |
| EndedAt: 2025-10-16 02:12:05 -0400 (Thu, 16 Oct 2025) |
| EllapsedTime: 1038.0 seconds |
| RetCode: 0 |
| Status: OK |
| CheckDir: orthos.Rcheck |
| Warnings: 0 |
##############################################################################
##############################################################################
###
### Running command:
###
### /home/biocbuild/bbs-3.21-bioc/R/bin/R CMD check --install=check:orthos.install-out.txt --library=/home/biocbuild/bbs-3.21-bioc/R/site-library --timings orthos_1.6.2.tar.gz
###
##############################################################################
##############################################################################
* using log directory ‘/home/biocbuild/bbs-3.21-bioc/meat/orthos.Rcheck’
* using R version 4.5.1 (2025-06-13)
* using platform: x86_64-pc-linux-gnu
* R was compiled by
gcc (Ubuntu 13.3.0-6ubuntu2~24.04) 13.3.0
GNU Fortran (Ubuntu 13.3.0-6ubuntu2~24.04) 13.3.0
* running under: Ubuntu 24.04.3 LTS
* using session charset: UTF-8
* checking for file ‘orthos/DESCRIPTION’ ... OK
* checking extension type ... Package
* this is package ‘orthos’ version ‘1.6.2’
* package encoding: UTF-8
* checking package namespace information ... OK
* checking package dependencies ... INFO
Imports includes 21 non-default packages.
Importing from so many packages makes the package vulnerable to any of
them becoming unavailable. Move as many as possible to Suggests and
use conditionally.
* checking if this is a source package ... OK
* checking if there is a namespace ... OK
* checking for hidden files and directories ... OK
* checking for portable file names ... OK
* checking for sufficient/correct file permissions ... OK
* checking whether package ‘orthos’ can be installed ... NOTE
Found the following notes/warnings:
Non-staged installation was used
See ‘/home/biocbuild/bbs-3.21-bioc/meat/orthos.Rcheck/00install.out’ for details.
* checking installed package size ... OK
* checking package directory ... OK
* checking ‘build’ directory ... OK
* checking DESCRIPTION meta-information ... OK
* checking top-level files ... OK
* checking for left-over files ... OK
* checking index information ... OK
* checking package subdirectories ... OK
* checking code files for non-ASCII characters ... OK
* checking R files for syntax errors ... OK
* checking whether the package can be loaded ... OK
* checking whether the package can be loaded with stated dependencies ... OK
* checking whether the package can be unloaded cleanly ... OK
* checking whether the namespace can be loaded with stated dependencies ... OK
* checking whether the namespace can be unloaded cleanly ... OK
* checking loading without being on the library search path ... OK
* checking whether startup messages can be suppressed ... OK
* checking dependencies in R code ... OK
* checking S3 generic/method consistency ... OK
* checking replacement functions ... OK
* checking foreign function calls ... OK
* checking R code for possible problems ... OK
* checking Rd files ... OK
* checking Rd metadata ... OK
* checking Rd cross-references ... OK
* checking for missing documentation entries ... OK
* checking for code/documentation mismatches ... OK
* checking Rd \usage sections ... OK
* checking Rd contents ... OK
* checking for unstated dependencies in examples ... OK
* checking line endings in shell scripts ... OK
* checking files in ‘vignettes’ ... OK
* checking examples ... OK
Examples with CPU (user + system) or elapsed time > 5s
user system elapsed
queryWithContrasts 63.548 38.169 67.059
decomposeVar 65.078 28.822 152.297
plotQueryResultsViolin 62.456 26.491 64.742
plotQueryResultsManh 48.777 17.148 48.235
loadContrastDatabase 6.025 1.074 11.651
* checking for unstated dependencies in ‘tests’ ... OK
* checking tests ...
Running ‘testthat.R’
OK
* checking for unstated dependencies in vignettes ... OK
* checking package vignettes ... OK
* checking re-building of vignette outputs ... OK
* checking PDF version of manual ... OK
* DONE
Status: 1 NOTE
See
‘/home/biocbuild/bbs-3.21-bioc/meat/orthos.Rcheck/00check.log’
for details.
orthos.Rcheck/00install.out
############################################################################## ############################################################################## ### ### Running command: ### ### /home/biocbuild/bbs-3.21-bioc/R/bin/R CMD INSTALL orthos ### ############################################################################## ############################################################################## * installing to library ‘/home/biocbuild/bbs-3.21-bioc/R/site-library’ * installing *source* package ‘orthos’ ... ** this is package ‘orthos’ version ‘1.6.2’ ** using non-staged installation via StagedInstall field ** R ** inst ** byte-compile and prepare package for lazy loading ** help *** installing help indices ** building package indices ** installing vignettes ** testing if installed package can be loaded * DONE (orthos)
orthos.Rcheck/tests/testthat.Rout
R version 4.5.1 (2025-06-13) -- "Great Square Root"
Copyright (C) 2025 The R Foundation for Statistical Computing
Platform: x86_64-pc-linux-gnu
R is free software and comes with ABSOLUTELY NO WARRANTY.
You are welcome to redistribute it under certain conditions.
Type 'license()' or 'licence()' for distribution details.
R is a collaborative project with many contributors.
Type 'contributors()' for more information and
'citation()' on how to cite R or R packages in publications.
Type 'demo()' for some demos, 'help()' for on-line help, or
'help.start()' for an HTML browser interface to help.
Type 'q()' to quit R.
> # This file is part of the standard setup for testthat.
> # It is recommended that you do not modify it.
> #
> # Where should you do additional test configuration?
> # Learn more about the roles of various files in:
> # * https://r-pkgs.org/tests.html
> # * https://testthat.r-lib.org/reference/test_package.html#special-files
>
> library(testthat)
> library(orthos)
Loading required package: SummarizedExperiment
Loading required package: MatrixGenerics
Loading required package: matrixStats
Attaching package: 'MatrixGenerics'
The following objects are masked from 'package:matrixStats':
colAlls, colAnyNAs, colAnys, colAvgsPerRowSet, colCollapse,
colCounts, colCummaxs, colCummins, colCumprods, colCumsums,
colDiffs, colIQRDiffs, colIQRs, colLogSumExps, colMadDiffs,
colMads, colMaxs, colMeans2, colMedians, colMins, colOrderStats,
colProds, colQuantiles, colRanges, colRanks, colSdDiffs, colSds,
colSums2, colTabulates, colVarDiffs, colVars, colWeightedMads,
colWeightedMeans, colWeightedMedians, colWeightedSds,
colWeightedVars, rowAlls, rowAnyNAs, rowAnys, rowAvgsPerColSet,
rowCollapse, rowCounts, rowCummaxs, rowCummins, rowCumprods,
rowCumsums, rowDiffs, rowIQRDiffs, rowIQRs, rowLogSumExps,
rowMadDiffs, rowMads, rowMaxs, rowMeans2, rowMedians, rowMins,
rowOrderStats, rowProds, rowQuantiles, rowRanges, rowRanks,
rowSdDiffs, rowSds, rowSums2, rowTabulates, rowVarDiffs, rowVars,
rowWeightedMads, rowWeightedMeans, rowWeightedMedians,
rowWeightedSds, rowWeightedVars
Loading required package: GenomicRanges
Loading required package: stats4
Loading required package: BiocGenerics
Loading required package: generics
Attaching package: 'generics'
The following objects are masked from 'package:base':
as.difftime, as.factor, as.ordered, intersect, is.element, setdiff,
setequal, union
Attaching package: 'BiocGenerics'
The following objects are masked from 'package:stats':
IQR, mad, sd, var, xtabs
The following objects are masked from 'package:base':
Filter, Find, Map, Position, Reduce, anyDuplicated, aperm, append,
as.data.frame, basename, cbind, colnames, dirname, do.call,
duplicated, eval, evalq, get, grep, grepl, is.unsorted, lapply,
mapply, match, mget, order, paste, pmax, pmax.int, pmin, pmin.int,
rank, rbind, rownames, sapply, saveRDS, table, tapply, unique,
unsplit, which.max, which.min
Loading required package: S4Vectors
Attaching package: 'S4Vectors'
The following object is masked from 'package:utils':
findMatches
The following objects are masked from 'package:base':
I, expand.grid, unname
Loading required package: IRanges
Loading required package: GenomeInfoDb
Loading required package: Biobase
Welcome to Bioconductor
Vignettes contain introductory material; view with
'browseVignettes()'. To cite Bioconductor, see
'citation("Biobase")', and for packages 'citation("pkgname")'.
Attaching package: 'Biobase'
The following object is masked from 'package:MatrixGenerics':
rowMedians
The following objects are masked from 'package:matrixStats':
anyMissing, rowMedians
>
> test_check("orthos")
demo_decomposed_contrasts_mouse_rds already present in cache at: /home/biocbuild/.cache/R/ExperimentHub/mouse_v212_NDF_c100_DEMOse.rds
updating resource /home/biocbuild/.cache/R/ExperimentHub/mouse_v212_NDF_c100_DEMOse.rds
demo_decomposed_contrasts_mouse_hdf5 already present in cache at: /home/biocbuild/.cache/R/ExperimentHub/mouse_v212_NDF_c100_DEMOassays.h5
updating resource /home/biocbuild/.cache/R/ExperimentHub/mouse_v212_NDF_c100_DEMOassays.h5
demo_decomposed_contrasts_human_rds already present in cache at: /home/biocbuild/.cache/R/ExperimentHub/human_v212_NDF_c100_DEMOse.rds
updating resource /home/biocbuild/.cache/R/ExperimentHub/human_v212_NDF_c100_DEMOse.rds
demo_decomposed_contrasts_human_hdf5 already present in cache at: /home/biocbuild/.cache/R/ExperimentHub/human_v212_NDF_c100_DEMOassays.h5
updating resource /home/biocbuild/.cache/R/ExperimentHub/human_v212_NDF_c100_DEMOassays.h5
demo_decomposed_contrasts_mouse_rds already present in cache at: /home/biocbuild/.cache/R/ExperimentHub/mouse_v212_NDF_c100_DEMOse.rds
updating resource /home/biocbuild/.cache/R/ExperimentHub/mouse_v212_NDF_c100_DEMOse.rds
demo_decomposed_contrasts_mouse_hdf5 already present in cache at: /home/biocbuild/.cache/R/ExperimentHub/mouse_v212_NDF_c100_DEMOassays.h5
updating resource /home/biocbuild/.cache/R/ExperimentHub/mouse_v212_NDF_c100_DEMOassays.h5
demo_decomposed_contrasts_human_rds already present in cache at: /home/biocbuild/.cache/R/ExperimentHub/human_v212_NDF_c100_DEMOse.rds
updating resource /home/biocbuild/.cache/R/ExperimentHub/human_v212_NDF_c100_DEMOse.rds
demo_decomposed_contrasts_human_hdf5 already present in cache at: /home/biocbuild/.cache/R/ExperimentHub/human_v212_NDF_c100_DEMOassays.h5
updating resource /home/biocbuild/.cache/R/ExperimentHub/human_v212_NDF_c100_DEMOassays.h5
demo_decomposed_contrasts_mouse_rds already present in cache at: /home/biocbuild/.cache/R/ExperimentHub/mouse_v212_NDF_c100_DEMOse.rds
updating resource /home/biocbuild/.cache/R/ExperimentHub/mouse_v212_NDF_c100_DEMOse.rds
demo_decomposed_contrasts_mouse_hdf5 already present in cache at: /home/biocbuild/.cache/R/ExperimentHub/mouse_v212_NDF_c100_DEMOassays.h5
updating resource /home/biocbuild/.cache/R/ExperimentHub/mouse_v212_NDF_c100_DEMOassays.h5
demo_decomposed_contrasts_human_rds already present in cache at: /home/biocbuild/.cache/R/ExperimentHub/human_v212_NDF_c100_DEMOse.rds
updating resource /home/biocbuild/.cache/R/ExperimentHub/human_v212_NDF_c100_DEMOse.rds
demo_decomposed_contrasts_human_hdf5 already present in cache at: /home/biocbuild/.cache/R/ExperimentHub/human_v212_NDF_c100_DEMOassays.h5
updating resource /home/biocbuild/.cache/R/ExperimentHub/human_v212_NDF_c100_DEMOassays.h5
2025-10-16 02:06:59.763358: I tensorflow/core/util/port.cc:153] oneDNN custom operations are on. You may see slightly different numerical results due to floating-point round-off errors from different computation orders. To turn them off, set the environment variable `TF_ENABLE_ONEDNN_OPTS=0`.
2025-10-16 02:06:59.764779: I external/local_xla/xla/tsl/cuda/cudart_stub.cc:32] Could not find cuda drivers on your machine, GPU will not be used.
2025-10-16 02:06:59.769875: I external/local_xla/xla/tsl/cuda/cudart_stub.cc:32] Could not find cuda drivers on your machine, GPU will not be used.
2025-10-16 02:06:59.784303: E external/local_xla/xla/stream_executor/cuda/cuda_fft.cc:467] Unable to register cuFFT factory: Attempting to register factory for plugin cuFFT when one has already been registered
WARNING: All log messages before absl::InitializeLog() is called are written to STDERR
E0000 00:00:1760594819.805589 2418835 cuda_dnn.cc:8579] Unable to register cuDNN factory: Attempting to register factory for plugin cuDNN when one has already been registered
E0000 00:00:1760594819.811794 2418835 cuda_blas.cc:1407] Unable to register cuBLAS factory: Attempting to register factory for plugin cuBLAS when one has already been registered
W0000 00:00:1760594819.827574 2418835 computation_placer.cc:177] computation placer already registered. Please check linkage and avoid linking the same target more than once.
W0000 00:00:1760594819.827658 2418835 computation_placer.cc:177] computation placer already registered. Please check linkage and avoid linking the same target more than once.
W0000 00:00:1760594819.827666 2418835 computation_placer.cc:177] computation placer already registered. Please check linkage and avoid linking the same target more than once.
W0000 00:00:1760594819.827694 2418835 computation_placer.cc:177] computation placer already registered. Please check linkage and avoid linking the same target more than once.
2025-10-16 02:06:59.833117: I tensorflow/core/platform/cpu_feature_guard.cc:210] This TensorFlow binary is optimized to use available CPU instructions in performance-critical operations.
To enable the following instructions: AVX2 AVX512F AVX512_VNNI FMA, in other operations, rebuild TensorFlow with the appropriate compiler flags.
Traceback (most recent call last):
File "/home/biocbuild/.cache/R/basilisk/1.20.0/orthos/1.6.2/orthos/lib/python3.12/site-packages/tensorflow/python/pywrap_tensorflow.py", line 27, in <module>
import ssl
File "/home/biocbuild/bbs-3.21-bioc/R/site-library/reticulate/python/rpytools/loader.py", line 122, in _find_and_load_hook
return _run_hook(name, _hook)
^^^^^^^^^^^^^^^^^^^^^^
File "/home/biocbuild/bbs-3.21-bioc/R/site-library/reticulate/python/rpytools/loader.py", line 96, in _run_hook
module = hook()
^^^^^^
File "/home/biocbuild/bbs-3.21-bioc/R/site-library/reticulate/python/rpytools/loader.py", line 120, in _hook
return _find_and_load(name, import_)
^^^^^^^^^^^^^^^^^^^^^^^^^^^^^
File "/home/biocbuild/.cache/R/basilisk/1.20.0/orthos/1.6.2/orthos/lib/python3.12/ssl.py", line 100, in <module>
import _ssl # if we can't import it, let the error propagate
^^^^^^^^^^^
File "/home/biocbuild/bbs-3.21-bioc/R/site-library/reticulate/python/rpytools/loader.py", line 122, in _find_and_load_hook
return _run_hook(name, _hook)
^^^^^^^^^^^^^^^^^^^^^^
File "/home/biocbuild/bbs-3.21-bioc/R/site-library/reticulate/python/rpytools/loader.py", line 96, in _run_hook
module = hook()
^^^^^^
File "/home/biocbuild/bbs-3.21-bioc/R/site-library/reticulate/python/rpytools/loader.py", line 120, in _hook
return _find_and_load(name, import_)
^^^^^^^^^^^^^^^^^^^^^^^^^^^^^
ImportError: /usr/lib/x86_64-linux-gnu/libcrypto.so.3: version `OPENSSL_3.3.0' not found (required by /home/biocbuild/.cache/R/basilisk/1.20.0/orthos/1.6.2/orthos/lib/python3.12/lib-dynload/_ssl.cpython-312-x86_64-linux-gnu.so)
Warning: Failed to load ssl module. Continuing without ssl support.
see ?orthosData and browseVignettes('orthosData') for documentation
loading from cache
require("keras")
2025-10-16 02:07:05.661964: E external/local_xla/xla/stream_executor/cuda/cuda_platform.cc:51] failed call to cuInit: INTERNAL: CUDA error: Failed call to cuInit: CUDA_ERROR_NO_DEVICE: no CUDA-capable device is detected
WARNING:tensorflow:No training configuration found in the save file, so the model was *not* compiled. Compile it manually.
1/1 [==============================] - ETA: 0s
1/1 [==============================] - 0s 150ms/step
see ?orthosData and browseVignettes('orthosData') for documentation
loading from cache
WARNING:tensorflow:No training configuration found in the save file, so the model was *not* compiled. Compile it manually.
see ?orthosData and browseVignettes('orthosData') for documentation
loading from cache
WARNING:tensorflow:No training configuration found in the save file, so the model was *not* compiled. Compile it manually.
1/1 [==============================] - ETA: 0s
1/1 [==============================] - 0s 95ms/step
1/1 [==============================] - ETA: 0s
1/1 [==============================] - 0s 66ms/step
see ?orthosData and browseVignettes('orthosData') for documentation
loading from cache
WARNING:tensorflow:No training configuration found in the save file, so the model was *not* compiled. Compile it manually.
1/1 [==============================] - ETA: 0s
1/1 [==============================] - 0s 69ms/step
see ?orthosData and browseVignettes('orthosData') for documentation
loading from cache
WARNING:tensorflow:No training configuration found in the save file, so the model was *not* compiled. Compile it manually.
see ?orthosData and browseVignettes('orthosData') for documentation
loading from cache
WARNING:tensorflow:No training configuration found in the save file, so the model was *not* compiled. Compile it manually.
WARNING:tensorflow:5 out of the last 5 calls to <function Model.make_predict_function.<locals>.predict_function at 0x7e293c57c360> triggered tf.function retracing. Tracing is expensive and the excessive number of tracings could be due to (1) creating @tf.function repeatedly in a loop, (2) passing tensors with different shapes, (3) passing Python objects instead of tensors. For (1), please define your @tf.function outside of the loop. For (2), @tf.function has reduce_retracing=True option that can avoid unnecessary retracing. For (3), please refer to https://www.tensorflow.org/guide/function#controlling_retracing and https://www.tensorflow.org/api_docs/python/tf/function for more details.
1/1 [==============================] - ETA: 0s
1/1 [==============================] - 0s 92ms/step
WARNING:tensorflow:6 out of the last 6 calls to <function Model.make_predict_function.<locals>.predict_function at 0x7e293c57dda0> triggered tf.function retracing. Tracing is expensive and the excessive number of tracings could be due to (1) creating @tf.function repeatedly in a loop, (2) passing tensors with different shapes, (3) passing Python objects instead of tensors. For (1), please define your @tf.function outside of the loop. For (2), @tf.function has reduce_retracing=True option that can avoid unnecessary retracing. For (3), please refer to https://www.tensorflow.org/guide/function#controlling_retracing and https://www.tensorflow.org/api_docs/python/tf/function for more details.
1/1 [==============================] - ETA: 0s
1/1 [==============================] - 0s 68ms/step
Checking input...
demo_decomposed_contrasts_human_rds already present in cache at: /home/biocbuild/.cache/R/ExperimentHub/human_v212_NDF_c100_DEMOse.rds
updating resource /home/biocbuild/.cache/R/ExperimentHub/human_v212_NDF_c100_DEMOse.rds
demo_decomposed_contrasts_human_hdf5 already present in cache at: /home/biocbuild/.cache/R/ExperimentHub/human_v212_NDF_c100_DEMOassays.h5
updating resource /home/biocbuild/.cache/R/ExperimentHub/human_v212_NDF_c100_DEMOassays.h5
Detecting feature ids-type...
Feature ids-type detected: GENE_SYMBOL
18051/18051 provided input features mapped against a total of 20411 model features.
2360 missing features will be set to 0.
--> Missing features corresponding to non/lowly expressed genes in your context(s) are of no consequence.
--> The model is robust to small fractions (<10%) of missing genes that are expressed in your context(s).
--> Increased numbers of missing expressed genes in your input might result in model performance decline.
Preparing input...
Encoding context...
see ?orthosData and browseVignettes('orthosData') for documentation
loading from cache
WARNING:tensorflow:No training configuration found in the save file, so the model was *not* compiled. Compile it manually.
1/1 [==============================] - ETA: 0s
1/1 [==============================] - 0s 63ms/step
Encoding and decoding contrasts...
see ?orthosData and browseVignettes('orthosData') for documentation
loading from cache
WARNING:tensorflow:No training configuration found in the save file, so the model was *not* compiled. Compile it manually.
see ?orthosData and browseVignettes('orthosData') for documentation
loading from cache
WARNING:tensorflow:No training configuration found in the save file, so the model was *not* compiled. Compile it manually.
1/1 [==============================] - ETA: 0s
1/1 [==============================] - 0s 88ms/step
1/1 [==============================] - ETA: 0s
1/1 [==============================] - 0s 62ms/step
Preparing output...
Done!
Checking input...
demo_decomposed_contrasts_mouse_rds already present in cache at: /home/biocbuild/.cache/R/ExperimentHub/mouse_v212_NDF_c100_DEMOse.rds
updating resource /home/biocbuild/.cache/R/ExperimentHub/mouse_v212_NDF_c100_DEMOse.rds
demo_decomposed_contrasts_mouse_hdf5 already present in cache at: /home/biocbuild/.cache/R/ExperimentHub/mouse_v212_NDF_c100_DEMOassays.h5
updating resource /home/biocbuild/.cache/R/ExperimentHub/mouse_v212_NDF_c100_DEMOassays.h5
Detecting feature ids-type...
Feature ids-type detected: GENE_SYMBOL
19774/19776 provided input features mapped against a total of 20339 model features.
565 missing features will be set to 0.
--> Missing features corresponding to non/lowly expressed genes in your context(s) are of no consequence.
--> The model is robust to small fractions (<10%) of missing genes that are expressed in your context(s).
--> Increased numbers of missing expressed genes in your input might result in model performance decline.
Preparing input...
Encoding context...
see ?orthosData and browseVignettes('orthosData') for documentation
loading from cache
WARNING:tensorflow:No training configuration found in the save file, so the model was *not* compiled. Compile it manually.
1/1 [==============================] - ETA: 0s
1/1 [==============================] - 0s 68ms/step
Encoding and decoding contrasts...
see ?orthosData and browseVignettes('orthosData') for documentation
loading from cache
WARNING:tensorflow:No training configuration found in the save file, so the model was *not* compiled. Compile it manually.
see ?orthosData and browseVignettes('orthosData') for documentation
loading from cache
WARNING:tensorflow:No training configuration found in the save file, so the model was *not* compiled. Compile it manually.
1/1 [==============================] - ETA: 0s
1/1 [==============================] - 0s 91ms/step
1/1 [==============================] - ETA: 0s
1/1 [==============================] - 0s 70ms/step
Preparing output...
Done!
demo_decomposed_contrasts_human_rds already present in cache at: /home/biocbuild/.cache/R/ExperimentHub/human_v212_NDF_c100_DEMOse.rds
updating resource /home/biocbuild/.cache/R/ExperimentHub/human_v212_NDF_c100_DEMOse.rds
demo_decomposed_contrasts_human_hdf5 already present in cache at: /home/biocbuild/.cache/R/ExperimentHub/human_v212_NDF_c100_DEMOassays.h5
updating resource /home/biocbuild/.cache/R/ExperimentHub/human_v212_NDF_c100_DEMOassays.h5
demo_decomposed_contrasts_mouse_rds already present in cache at: /home/biocbuild/.cache/R/ExperimentHub/mouse_v212_NDF_c100_DEMOse.rds
updating resource /home/biocbuild/.cache/R/ExperimentHub/mouse_v212_NDF_c100_DEMOse.rds
demo_decomposed_contrasts_mouse_hdf5 already present in cache at: /home/biocbuild/.cache/R/ExperimentHub/mouse_v212_NDF_c100_DEMOassays.h5
updating resource /home/biocbuild/.cache/R/ExperimentHub/mouse_v212_NDF_c100_DEMOassays.h5
demo_decomposed_contrasts_human_rds already present in cache at: /home/biocbuild/.cache/R/ExperimentHub/human_v212_NDF_c100_DEMOse.rds
updating resource /home/biocbuild/.cache/R/ExperimentHub/human_v212_NDF_c100_DEMOse.rds
demo_decomposed_contrasts_human_hdf5 already present in cache at: /home/biocbuild/.cache/R/ExperimentHub/human_v212_NDF_c100_DEMOassays.h5
updating resource /home/biocbuild/.cache/R/ExperimentHub/human_v212_NDF_c100_DEMOassays.h5
see ?orthosData and browseVignettes('orthosData') for documentation
loading from cache
WARNING:tensorflow:No training configuration found in the save file, so the model was *not* compiled. Compile it manually.
1/1 [==============================] - ETA: 0s
1/1 [==============================] - 0s 75ms/step
see ?orthosData and browseVignettes('orthosData') for documentation
loading from cache
WARNING:tensorflow:No training configuration found in the save file, so the model was *not* compiled. Compile it manually.
see ?orthosData and browseVignettes('orthosData') for documentation
loading from cache
WARNING:tensorflow:No training configuration found in the save file, so the model was *not* compiled. Compile it manually.
1/1 [==============================] - ETA: 0s
1/1 [==============================] - 0s 79ms/step
1/1 [==============================] - ETA: 0s
1/1 [==============================] - 0s 76ms/step
demo_decomposed_contrasts_human_rds already present in cache at: /home/biocbuild/.cache/R/ExperimentHub/human_v212_NDF_c100_DEMOse.rds
updating resource /home/biocbuild/.cache/R/ExperimentHub/human_v212_NDF_c100_DEMOse.rds
demo_decomposed_contrasts_human_hdf5 already present in cache at: /home/biocbuild/.cache/R/ExperimentHub/human_v212_NDF_c100_DEMOassays.h5
updating resource /home/biocbuild/.cache/R/ExperimentHub/human_v212_NDF_c100_DEMOassays.h5
provided contrast: INPUT_CONTRASTS
provided contrast: DECODED_CONTRASTS
provided contrast: RESIDUAL_CONTRASTS
Loading contrast database...
demo_decomposed_contrasts_human_rds already present in cache at: /home/biocbuild/.cache/R/ExperimentHub/human_v212_NDF_c100_DEMOse.rds
updating resource /home/biocbuild/.cache/R/ExperimentHub/human_v212_NDF_c100_DEMOse.rds
demo_decomposed_contrasts_human_hdf5 already present in cache at: /home/biocbuild/.cache/R/ExperimentHub/human_v212_NDF_c100_DEMOassays.h5
updating resource /home/biocbuild/.cache/R/ExperimentHub/human_v212_NDF_c100_DEMOassays.h5
Thresholding genes...
Querying contrast database with INPUT_CONTRASTS...
|
| | 0%
|
|=================================== | 50%
|
|======================================================================| 100%
Querying contrast database with DECODED_CONTRASTS...
|
| | 0%
|
|=================================== | 50%
|
|======================================================================| 100%
Querying contrast database with RESIDUAL_CONTRASTS...
|
| | 0%
|
|=================================== | 50%
|
|======================================================================| 100%
Compiling query statistics...
Done!
[ FAIL 0 | WARN 0 | SKIP 1 | PASS 229 ]
══ Skipped tests (1) ═══════════════════════════════════════════════════════════
• cannot test `mustWork` when data is available (1): 'test-decomposeVar.R:66:5'
[ FAIL 0 | WARN 0 | SKIP 1 | PASS 229 ]
>
> proc.time()
user system elapsed
153.253 49.185 216.429
orthos.Rcheck/orthos-Ex.timings
| name | user | system | elapsed | |
| decomposeVar | 65.078 | 28.822 | 152.297 | |
| loadContrastDatabase | 6.025 | 1.074 | 11.651 | |
| plotQueryResultsManh | 48.777 | 17.148 | 48.235 | |
| plotQueryResultsViolin | 62.456 | 26.491 | 64.742 | |
| queryWithContrasts | 63.548 | 38.169 | 67.059 | |
| testOrthosEnv | 0.006 | 0.004 | 0.010 | |