| Back to Multiple platform build/check report for BioC 3.21: simplified long |
|
This page was generated on 2025-08-11 11:42 -0400 (Mon, 11 Aug 2025).
| Hostname | OS | Arch (*) | R version | Installed pkgs |
|---|---|---|---|---|
| nebbiolo1 | Linux (Ubuntu 24.04.2 LTS) | x86_64 | 4.5.1 (2025-06-13) -- "Great Square Root" | 4823 |
| palomino7 | Windows Server 2022 Datacenter | x64 | 4.5.1 (2025-06-13 ucrt) -- "Great Square Root" | 4565 |
| merida1 | macOS 12.7.5 Monterey | x86_64 | 4.5.1 RC (2025-06-05 r88288) -- "Great Square Root" | 4603 |
| kjohnson1 | macOS 13.6.6 Ventura | arm64 | 4.5.1 Patched (2025-06-14 r88325) -- "Great Square Root" | 4544 |
| kunpeng2 | Linux (openEuler 24.03 LTS) | aarch64 | R Under development (unstable) (2025-02-19 r87757) -- "Unsuffered Consequences" | 4579 |
| Click on any hostname to see more info about the system (e.g. compilers) (*) as reported by 'uname -p', except on Windows and Mac OS X | ||||
| Package 1492/2341 | Hostname | OS / Arch | INSTALL | BUILD | CHECK | BUILD BIN | ||||||||
| ontoProc 2.2.3 (landing page) Vincent Carey
| nebbiolo1 | Linux (Ubuntu 24.04.2 LTS) / x86_64 | OK | ERROR | skipped | |||||||||
| palomino7 | Windows Server 2022 Datacenter / x64 | OK | OK | OK | OK | |||||||||
| merida1 | macOS 12.7.5 Monterey / x86_64 | OK | OK | OK | OK | |||||||||
| kjohnson1 | macOS 13.6.6 Ventura / arm64 | OK | OK | OK | OK | |||||||||
| kunpeng2 | Linux (openEuler 24.03 LTS) / aarch64 | OK | OK | OK | ||||||||||
|
To the developers/maintainers of the ontoProc package: - Allow up to 24 hours (and sometimes 48 hours) for your latest push to git@git.bioconductor.org:packages/ontoProc.git to reflect on this report. See Troubleshooting Build Report for more information. - Use the following Renviron settings to reproduce errors and warnings. - If 'R CMD check' started to fail recently on the Linux builder(s) over a missing dependency, add the missing dependency to 'Suggests:' in your DESCRIPTION file. See Renviron.bioc for more information. |
| Package: ontoProc |
| Version: 2.2.3 |
| Command: E:\biocbuild\bbs-3.21-bioc\R\bin\R.exe CMD check --no-multiarch --install=check:ontoProc.install-out.txt --library=E:\biocbuild\bbs-3.21-bioc\R\library --no-vignettes --timings ontoProc_2.2.3.tar.gz |
| StartedAt: 2025-08-08 04:40:33 -0400 (Fri, 08 Aug 2025) |
| EndedAt: 2025-08-08 04:54:02 -0400 (Fri, 08 Aug 2025) |
| EllapsedTime: 809.3 seconds |
| RetCode: 0 |
| Status: OK |
| CheckDir: ontoProc.Rcheck |
| Warnings: 0 |
##############################################################################
##############################################################################
###
### Running command:
###
### E:\biocbuild\bbs-3.21-bioc\R\bin\R.exe CMD check --no-multiarch --install=check:ontoProc.install-out.txt --library=E:\biocbuild\bbs-3.21-bioc\R\library --no-vignettes --timings ontoProc_2.2.3.tar.gz
###
##############################################################################
##############################################################################
* using log directory 'E:/biocbuild/bbs-3.21-bioc/meat/ontoProc.Rcheck'
* using R version 4.5.1 (2025-06-13 ucrt)
* using platform: x86_64-w64-mingw32
* R was compiled by
gcc.exe (GCC) 14.2.0
GNU Fortran (GCC) 14.2.0
* running under: Windows Server 2022 x64 (build 20348)
* using session charset: UTF-8
* using option '--no-vignettes'
* checking for file 'ontoProc/DESCRIPTION' ... OK
* this is package 'ontoProc' version '2.2.3'
* package encoding: UTF-8
* checking package namespace information ... OK
* checking package dependencies ... OK
* checking if this is a source package ... OK
* checking if there is a namespace ... OK
* checking for hidden files and directories ... OK
* checking for portable file names ... OK
* checking whether package 'ontoProc' can be installed ... OK
* checking installed package size ... INFO
installed size is 10.4Mb
sub-directories of 1Mb or more:
app 1.9Mb
data 1.8Mb
ontoRda 2.8Mb
owl 3.3Mb
* checking package directory ... OK
* checking 'build' directory ... OK
* checking DESCRIPTION meta-information ... OK
* checking top-level files ... OK
* checking for left-over files ... OK
* checking index information ... OK
* checking package subdirectories ... OK
* checking code files for non-ASCII characters ... OK
* checking R files for syntax errors ... OK
* checking whether the package can be loaded ... OK
* checking whether the package can be loaded with stated dependencies ... OK
* checking whether the package can be unloaded cleanly ... OK
* checking whether the namespace can be loaded with stated dependencies ... OK
* checking whether the namespace can be unloaded cleanly ... OK
* checking dependencies in R code ... NOTE
':::' call which should be '::': 'ontologyPlot:::remove_uninformative_terms'
See the note in ?`:::` about the use of this operator.
* checking S3 generic/method consistency ... OK
* checking replacement functions ... OK
* checking foreign function calls ... OK
* checking R code for possible problems ... NOTE
CLfeat : prupdate: no visible binding for global variable 'PROSYM'
CLfeat : prupdate: no visible binding for global variable 'PRID'
CLfeat : prupdate: no visible binding for global variable 'SYMBOL'
ctmarks : server: no visible binding for global variable 'text'
ctmarks : server: no visible binding for global variable 'packDesc2022'
ctmarks : server: no visible binding for global variable 'packDesc2021'
ctmarks: no visible binding for global variable 'cumu'
dropStop: no visible binding for global variable 'stopWords'
getOnto: no visible binding for global variable 'rdatadateadded'
getOnto: no visible binding for global variable 'title'
getOnto: no visible binding for global variable 'description'
ldfToTerm: no visible binding for global variable 'PROSYM'
sym2CellOnto: no visible binding for global variable 'PROSYM'
sym2CellOnto: no visible binding for global variable 'SYMBOL'
Undefined global functions or variables:
PRID PROSYM SYMBOL cumu description packDesc2021 packDesc2022
rdatadateadded stopWords text title
Consider adding
importFrom("graphics", "text", "title")
to your NAMESPACE file.
* checking Rd files ... OK
* checking Rd metadata ... OK
* checking Rd cross-references ... NOTE
Found the following Rd file(s) with Rd \link{} targets missing package
anchors:
findCommonAncestors.Rd: graph, DataFrame-class, List-class
Please provide package anchors for all Rd \link{} targets not in the
package itself and the base packages.
* checking for missing documentation entries ... OK
* checking for code/documentation mismatches ... OK
* checking Rd \usage sections ... NOTE
S3 methods shown with full name in Rd file 'plot.owlents.Rd':
'plot.owlents'
The \usage entries for S3 methods should use the \method markup and not
their full name.
See chapter 'Writing R documentation files' in the 'Writing R
Extensions' manual.
* checking Rd contents ... OK
* checking for unstated dependencies in examples ... OK
* checking contents of 'data' directory ... OK
* checking data for non-ASCII characters ... OK
* checking data for ASCII and uncompressed saves ... OK
* checking files in 'vignettes' ... OK
* checking examples ... OK
Examples with CPU (user + system) or elapsed time > 5s
user system elapsed
sym2CellOnto 45.60 2.03 51.89
CLfeats 32.83 2.67 37.22
siblings_TAG 29.44 2.56 34.36
getLeavesFromTerm 20.47 0.82 21.64
fastGrep 19.33 0.90 26.02
nomenCheckup 15.09 1.03 16.69
cleanCLOnames 13.58 0.92 14.86
common_classes 12.44 1.46 15.37
selectFromMap 12.75 1.08 15.35
secLevGen 12.19 0.88 14.09
make_graphNEL_from_ontology_plot 10.92 0.84 13.45
findCommonAncestors 10.37 0.99 12.51
getOnto 10.36 0.97 12.02
liberalMap 10.34 0.87 11.56
mapOneNaive 10.49 0.69 12.89
onto_plot2 10.39 0.77 11.30
ontoDiff 9.28 1.22 10.90
TermSet-class 9.69 0.76 10.75
ancestors 0.67 0.78 7.25
search_labels 1.00 0.08 57.09
bioregistry_ols_resources 0.06 0.03 51.06
* checking for unstated dependencies in 'tests' ... OK
* checking tests ...
Running 'test.R'
OK
* checking for unstated dependencies in vignettes ... OK
* checking package vignettes ... OK
* checking running R code from vignettes ... SKIPPED
* checking re-building of vignette outputs ... SKIPPED
* checking PDF version of manual ... OK
* DONE
Status: 4 NOTEs
See
'E:/biocbuild/bbs-3.21-bioc/meat/ontoProc.Rcheck/00check.log'
for details.
ontoProc.Rcheck/00install.out
############################################################################## ############################################################################## ### ### Running command: ### ### E:\biocbuild\bbs-3.21-bioc\R\bin\R.exe CMD INSTALL ontoProc ### ############################################################################## ############################################################################## * installing to library 'E:/biocbuild/bbs-3.21-bioc/R/library' * installing *source* package 'ontoProc' ... ** this is package 'ontoProc' version '2.2.3' ** using staged installation ** R ** data ** inst ** byte-compile and prepare package for lazy loading ** help *** installing help indices ** building package indices ** installing vignettes ** testing if installed package can be loaded from temporary location ** testing if installed package can be loaded from final location ** testing if installed package keeps a record of temporary installation path * DONE (ontoProc)
ontoProc.Rcheck/tests/test.Rout
R version 4.5.1 (2025-06-13 ucrt) -- "Great Square Root"
Copyright (C) 2025 The R Foundation for Statistical Computing
Platform: x86_64-w64-mingw32/x64
R is free software and comes with ABSOLUTELY NO WARRANTY.
You are welcome to redistribute it under certain conditions.
Type 'license()' or 'licence()' for distribution details.
R is a collaborative project with many contributors.
Type 'contributors()' for more information and
'citation()' on how to cite R or R packages in publications.
Type 'demo()' for some demos, 'help()' for on-line help, or
'help.start()' for an HTML browser interface to help.
Type 'q()' to quit R.
>
> library(ontoProc)
Loading required package: ontologyIndex
> library(testthat)
>
> test_check("ontoProc")
[ FAIL 0 | WARN 0 | SKIP 0 | PASS 12 ]
>
>
> proc.time()
user system elapsed
74.54 5.07 81.54
ontoProc.Rcheck/ontoProc-Ex.timings
| name | user | system | elapsed | |
| CLfeats | 32.83 | 2.67 | 37.22 | |
| PROSYM | 0.24 | 0.02 | 0.25 | |
| TermSet-class | 9.69 | 0.76 | 10.75 | |
| allGOterms | 0.09 | 0.05 | 0.14 | |
| ancestors | 0.67 | 0.78 | 7.25 | |
| ancestors_names | 0.00 | 0.02 | 0.02 | |
| bioregistry_ols_resources | 0.06 | 0.03 | 51.06 | |
| cellTypeToGO | 1.99 | 0.09 | 2.08 | |
| children_names | 0.01 | 0.00 | 0.02 | |
| cleanCLOnames | 13.58 | 0.92 | 14.86 | |
| common_classes | 12.44 | 1.46 | 15.37 | |
| ctmarks | 0 | 0 | 0 | |
| cyclicSigset | 0.02 | 0.00 | 0.02 | |
| demoApp | 0 | 0 | 0 | |
| dropStop | 0.01 | 0.00 | 0.01 | |
| fastGrep | 19.33 | 0.90 | 26.02 | |
| findCommonAncestors | 10.37 | 0.99 | 12.51 | |
| getLeavesFromTerm | 20.47 | 0.82 | 21.64 | |
| getOnto | 10.36 | 0.97 | 12.02 | |
| humrna | 0.00 | 0.02 | 0.01 | |
| labels.owlents | 0.42 | 0.01 | 0.50 | |
| ldfToTerms | 3.58 | 0.15 | 3.77 | |
| liberalMap | 10.34 | 0.87 | 11.56 | |
| makeSelectInput | 0 | 0 | 0 | |
| make_graphNEL_from_ontology_plot | 10.92 | 0.84 | 13.45 | |
| mapOneNaive | 10.49 | 0.69 | 12.89 | |
| minicorpus | 0 | 0 | 0 | |
| nomenCheckup | 15.09 | 1.03 | 16.69 | |
| ontoDiff | 9.28 | 1.22 | 10.90 | |
| onto_plot2 | 10.39 | 0.77 | 11.30 | |
| onto_roots | 0 | 0 | 0 | |
| owl2cache | 0.05 | 0.00 | 0.05 | |
| packDesc2019 | 0 | 0 | 0 | |
| packDesc2021 | 0.00 | 0.01 | 0.01 | |
| packDesc2022 | 0 | 0 | 0 | |
| packDesc2023 | 0 | 0 | 0 | |
| parents | 0.00 | 0.02 | 0.01 | |
| plot.owlents | 0.28 | 0.00 | 0.28 | |
| quickOnto | 0.50 | 0.01 | 0.54 | |
| recognizedPredicates | 0 | 0 | 0 | |
| search_labels | 1.00 | 0.08 | 57.09 | |
| secLevGen | 12.19 | 0.88 | 14.09 | |
| selectFromMap | 12.75 | 1.08 | 15.35 | |
| setup_entities | 0.02 | 0.00 | 0.01 | |
| setup_entities2 | 0.53 | 0.06 | 0.75 | |
| seur3kTab | 0.00 | 0.00 | 0.11 | |
| siblings_TAG | 29.44 | 2.56 | 34.36 | |
| stopWords | 0 | 0 | 0 | |
| subclasses | 0.00 | 0.02 | 0.02 | |
| sym2CellOnto | 45.60 | 2.03 | 51.89 | |
| valid_ontonames | 0 | 0 | 0 | |