| Back to Multiple platform build/check report for BioC 3.21: simplified long |
|
This page was generated on 2025-08-18 11:42 -0400 (Mon, 18 Aug 2025).
| Hostname | OS | Arch (*) | R version | Installed pkgs |
|---|---|---|---|---|
| nebbiolo1 | Linux (Ubuntu 24.04.3 LTS) | x86_64 | 4.5.1 (2025-06-13) -- "Great Square Root" | 4824 |
| palomino7 | Windows Server 2022 Datacenter | x64 | 4.5.1 (2025-06-13 ucrt) -- "Great Square Root" | 4566 |
| merida1 | macOS 12.7.5 Monterey | x86_64 | 4.5.1 RC (2025-06-05 r88288) -- "Great Square Root" | 4604 |
| kjohnson1 | macOS 13.6.6 Ventura | arm64 | 4.5.1 Patched (2025-06-14 r88325) -- "Great Square Root" | 4545 |
| kunpeng2 | Linux (openEuler 24.03 LTS) | aarch64 | R Under development (unstable) (2025-02-19 r87757) -- "Unsuffered Consequences" | 4579 |
| Click on any hostname to see more info about the system (e.g. compilers) (*) as reported by 'uname -p', except on Windows and Mac OS X | ||||
| Package 1256/2341 | Hostname | OS / Arch | INSTALL | BUILD | CHECK | BUILD BIN | ||||||||
| methylKit 1.34.0 (landing page) Altuna Akalin
| nebbiolo1 | Linux (Ubuntu 24.04.3 LTS) / x86_64 | OK | OK | OK | |||||||||
| palomino7 | Windows Server 2022 Datacenter / x64 | OK | OK | OK | OK | |||||||||
| merida1 | macOS 12.7.5 Monterey / x86_64 | OK | OK | OK | OK | |||||||||
| kjohnson1 | macOS 13.6.6 Ventura / arm64 | OK | OK | OK | OK | |||||||||
| kunpeng2 | Linux (openEuler 24.03 LTS) / aarch64 | OK | OK | OK | ||||||||||
|
To the developers/maintainers of the methylKit package: - Allow up to 24 hours (and sometimes 48 hours) for your latest push to git@git.bioconductor.org:packages/methylKit.git to reflect on this report. See Troubleshooting Build Report for more information. - Use the following Renviron settings to reproduce errors and warnings. - If 'R CMD check' started to fail recently on the Linux builder(s) over a missing dependency, add the missing dependency to 'Suggests:' in your DESCRIPTION file. See Renviron.bioc for more information. |
| Package: methylKit |
| Version: 1.34.0 |
| Command: E:\biocbuild\bbs-3.21-bioc\R\bin\R.exe CMD check --no-multiarch --install=check:methylKit.install-out.txt --library=E:\biocbuild\bbs-3.21-bioc\R\library --no-vignettes --timings methylKit_1.34.0.tar.gz |
| StartedAt: 2025-08-15 04:01:24 -0400 (Fri, 15 Aug 2025) |
| EndedAt: 2025-08-15 04:10:24 -0400 (Fri, 15 Aug 2025) |
| EllapsedTime: 539.8 seconds |
| RetCode: 0 |
| Status: OK |
| CheckDir: methylKit.Rcheck |
| Warnings: 0 |
##############################################################################
##############################################################################
###
### Running command:
###
### E:\biocbuild\bbs-3.21-bioc\R\bin\R.exe CMD check --no-multiarch --install=check:methylKit.install-out.txt --library=E:\biocbuild\bbs-3.21-bioc\R\library --no-vignettes --timings methylKit_1.34.0.tar.gz
###
##############################################################################
##############################################################################
* using log directory 'E:/biocbuild/bbs-3.21-bioc/meat/methylKit.Rcheck'
* using R version 4.5.1 (2025-06-13 ucrt)
* using platform: x86_64-w64-mingw32
* R was compiled by
gcc.exe (GCC) 14.2.0
GNU Fortran (GCC) 14.2.0
* running under: Windows Server 2022 x64 (build 20348)
* using session charset: UTF-8
* using option '--no-vignettes'
* checking for file 'methylKit/DESCRIPTION' ... OK
* checking extension type ... Package
* this is package 'methylKit' version '1.34.0'
* checking package namespace information ... OK
* checking package dependencies ... OK
* checking if this is a source package ... OK
* checking if there is a namespace ... OK
* checking for hidden files and directories ... OK
* checking for portable file names ... OK
* checking whether package 'methylKit' can be installed ... OK
* used C++ compiler: 'G__~1.EXE (GCC) 14.2.0'
* checking installed package size ... INFO
installed size is 14.6Mb
sub-directories of 1Mb or more:
R 1.4Mb
libs 11.8Mb
* checking package directory ... OK
* checking 'build' directory ... OK
* checking DESCRIPTION meta-information ... OK
* checking top-level files ... OK
* checking for left-over files ... OK
* checking index information ... OK
* checking package subdirectories ... OK
* checking code files for non-ASCII characters ... OK
* checking R files for syntax errors ... OK
* checking whether the package can be loaded ... OK
* checking whether the package can be loaded with stated dependencies ... OK
* checking whether the package can be unloaded cleanly ... OK
* checking whether the namespace can be loaded with stated dependencies ... OK
* checking whether the namespace can be unloaded cleanly ... OK
* checking dependencies in R code ... NOTE
Namespace in Imports field not imported from: 'KernSmooth'
All declared Imports should be used.
* checking S3 generic/method consistency ... OK
* checking replacement functions ... OK
* checking foreign function calls ... OK
* checking R code for possible problems ... OK
* checking Rd files ... OK
* checking Rd metadata ... OK
* checking Rd cross-references ... NOTE
Found the following Rd file(s) with Rd \link{} targets missing package
anchors:
methSeg.Rd: Mclust
regionCounts.Rd: GRanges, GRangesList
selectByOverlap-methods.Rd: GRanges
Please provide package anchors for all Rd \link{} targets not in the
package itself and the base packages.
* checking for missing documentation entries ... OK
* checking for code/documentation mismatches ... OK
* checking Rd \usage sections ... OK
* checking Rd contents ... OK
* checking for unstated dependencies in examples ... OK
* checking contents of 'data' directory ... OK
* checking data for non-ASCII characters ... OK
* checking data for ASCII and uncompressed saves ... OK
* checking line endings in C/C++/Fortran sources/headers ... OK
* checking line endings in Makefiles ... OK
* checking compilation flags in Makevars ... OK
* checking for GNU extensions in Makefiles ... INFO
GNU make is a SystemRequirements.
* checking for portable use of $(BLAS_LIBS) and $(LAPACK_LIBS) ... OK
* checking use of PKG_*FLAGS in Makefiles ... OK
* checking compiled code ... NOTE
Note: information on .o files for x64 is not available
File 'E:/biocbuild/bbs-3.21-bioc/R/library/methylKit/libs/x64/methylKit.dll':
Found '_assert', possibly from 'assert' (C)
Found '_exit', possibly from '_exit' (C)
Found 'abort', possibly from 'abort' (C), 'runtime' (Fortran)
Found 'exit', possibly from 'exit' (C), 'stop' (Fortran)
Compiled code should not call entry points which might terminate R nor
write to stdout/stderr instead of to the console, nor use Fortran I/O
nor system RNGs nor [v]sprintf. The detected symbols are linked into
the code but might come from libraries and not actually be called.
See 'Writing portable packages' in the 'Writing R Extensions' manual.
* checking files in 'vignettes' ... OK
* checking examples ... OK
Examples with CPU (user + system) or elapsed time > 5s
user system elapsed
calculateDiffMeth-methods 6.01 0.18 6.18
* checking for unstated dependencies in 'tests' ... OK
* checking tests ...
Running 'testthat.R'
OK
* checking for unstated dependencies in vignettes ... OK
* checking package vignettes ... OK
* checking running R code from vignettes ... SKIPPED
* checking re-building of vignette outputs ... SKIPPED
* checking PDF version of manual ... OK
* DONE
Status: 3 NOTEs
See
'E:/biocbuild/bbs-3.21-bioc/meat/methylKit.Rcheck/00check.log'
for details.
methylKit.Rcheck/00install.out
############################################################################## ############################################################################## ### ### Running command: ### ### E:\biocbuild\bbs-3.21-bioc\R\bin\R.exe CMD INSTALL methylKit ### ############################################################################## ############################################################################## * installing to library 'E:/biocbuild/bbs-3.21-bioc/R/library' * installing *source* package 'methylKit' ... ** this is package 'methylKit' version '1.34.0' ** using staged installation ** libs using C++ compiler: 'G__~1.EXE (GCC) 14.2.0' g++ -std=gnu++17 -I"E:/biocbuild/bbs-3.21-bioc/R/include" -DNDEBUG -D_FILE_OFFSET_BITS=64 -I'E:/biocbuild/bbs-3.21-bioc/R/library/Rcpp/include' -I'E:/biocbuild/bbs-3.21-bioc/R/library/Rhtslib/include' -I"C:/rtools45/x86_64-w64-mingw32.static.posix/include" -O2 -Wall -mfpmath=sse -msse2 -mstackrealign -c RcppExports.cpp -o RcppExports.o g++ -std=gnu++17 -I"E:/biocbuild/bbs-3.21-bioc/R/include" -DNDEBUG -D_FILE_OFFSET_BITS=64 -I'E:/biocbuild/bbs-3.21-bioc/R/library/Rcpp/include' -I'E:/biocbuild/bbs-3.21-bioc/R/library/Rhtslib/include' -I"C:/rtools45/x86_64-w64-mingw32.static.posix/include" -O2 -Wall -mfpmath=sse -msse2 -mstackrealign -c methCall.cpp -o methCall.o g++ -std=gnu++17 -shared -s -static-libgcc -o methylKit.dll tmp.def RcppExports.o methCall.o E:/biocbuild/bbs-3.21-bioc/R/library/Rhtslib/usrlib/x64/libhts.a -lm -lbz2 -llzma -lcurl -lnghttp2 -lpsl -lbrotlidec -lbrotlicommon -lbcrypt -lidn2 -lunistring -liconv -lssl -lcrypto -lz -lcrypt32 -lwsock32 -lwldap32 -lssh2 -lgcrypt -lgpg-error -lws2_32 -lzstd -lregex -LC:/rtools45/x86_64-w64-mingw32.static.posix/lib/x64 -LC:/rtools45/x86_64-w64-mingw32.static.posix/lib -LE:/biocbuild/bbs-3.21-bioc/R/bin/x64 -lR installing to E:/biocbuild/bbs-3.21-bioc/R/library/00LOCK-methylKit/00new/methylKit/libs/x64 ** R ** data ** inst ** byte-compile and prepare package for lazy loading ** help *** installing help indices ** building package indices ** installing vignettes ** testing if installed package can be loaded from temporary location ** testing if installed package can be loaded from final location ** testing if installed package keeps a record of temporary installation path * DONE (methylKit)
methylKit.Rcheck/tests/testthat.Rout
R version 4.5.1 (2025-06-13 ucrt) -- "Great Square Root"
Copyright (C) 2025 The R Foundation for Statistical Computing
Platform: x86_64-w64-mingw32/x64
R is free software and comes with ABSOLUTELY NO WARRANTY.
You are welcome to redistribute it under certain conditions.
Type 'license()' or 'licence()' for distribution details.
R is a collaborative project with many contributors.
Type 'contributors()' for more information and
'citation()' on how to cite R or R packages in publications.
Type 'demo()' for some demos, 'help()' for on-line help, or
'help.start()' for an HTML browser interface to help.
Type 'q()' to quit R.
> library(testthat)
> library(methylKit)
Loading required package: GenomicRanges
Loading required package: stats4
Loading required package: BiocGenerics
Loading required package: generics
Attaching package: 'generics'
The following objects are masked from 'package:base':
as.difftime, as.factor, as.ordered, intersect, is.element, setdiff,
setequal, union
Attaching package: 'BiocGenerics'
The following objects are masked from 'package:stats':
IQR, mad, sd, var, xtabs
The following objects are masked from 'package:base':
Filter, Find, Map, Position, Reduce, anyDuplicated, aperm, append,
as.data.frame, basename, cbind, colnames, dirname, do.call,
duplicated, eval, evalq, get, grep, grepl, is.unsorted, lapply,
mapply, match, mget, order, paste, pmax, pmax.int, pmin, pmin.int,
rank, rbind, rownames, sapply, saveRDS, table, tapply, unique,
unsplit, which.max, which.min
Loading required package: S4Vectors
Attaching package: 'S4Vectors'
The following object is masked from 'package:utils':
findMatches
The following objects are masked from 'package:base':
I, expand.grid, unname
Loading required package: IRanges
Attaching package: 'IRanges'
The following object is masked from 'package:grDevices':
windows
Loading required package: GenomeInfoDb
>
>
>
> test_check("methylKit")
Using internal DSS code...
Using internal DSS code...
[ FAIL 0 | WARN 0 | SKIP 0 | PASS 253 ]
>
> proc.time()
user system elapsed
93.00 4.56 118.09
methylKit.Rcheck/methylKit-Ex.timings
| name | user | system | elapsed | |
| PCASamples-methods | 0.02 | 0.03 | 0.05 | |
| adjustMethylC | 0.10 | 0.01 | 0.11 | |
| assocComp-methods | 0.01 | 0.00 | 0.02 | |
| bedgraph-methods | 0.03 | 0.03 | 0.06 | |
| calculateDiffMeth-methods | 6.01 | 0.18 | 6.18 | |
| calculateDiffMethDSS-methods | 0.52 | 0.00 | 0.52 | |
| clusterSamples-methods | 0.05 | 0.00 | 0.05 | |
| dataSim-methods | 0.01 | 0.00 | 0.01 | |
| diffMethPerChr-methods | 0.02 | 0.01 | 0.03 | |
| extract-methods | 0.03 | 0.02 | 0.05 | |
| filterByCoverage-methods | 0.06 | 0.01 | 0.12 | |
| getAssembly-methods | 0 | 0 | 0 | |
| getContext-methods | 0.00 | 0.01 | 0.02 | |
| getCorrelation-methods | 0.06 | 0.00 | 0.14 | |
| getCoverageStats-methods | 0.01 | 0.00 | 0.02 | |
| getDBPath-methods | 0.07 | 0.02 | 0.15 | |
| getData-methods | 0.03 | 0.00 | 0.04 | |
| getMethylDiff-methods | 0.03 | 0.00 | 0.03 | |
| getMethylationStats-methods | 0.03 | 0.00 | 0.03 | |
| getSampleID-methods | 0.02 | 0.00 | 0.01 | |
| getTreatment-methods | 0.01 | 0.01 | 0.03 | |
| makeMethylDB-methods | 0 | 0 | 0 | |
| methRead-methods | 0.44 | 0.04 | 0.79 | |
| methSeg | 0 | 0 | 0 | |
| methylBase-class | 0.03 | 0.01 | 0.04 | |
| methylBaseDB-class | 0.09 | 0.00 | 0.14 | |
| methylDiff-class | 0.04 | 0.00 | 0.03 | |
| methylDiffDB-class | 1.87 | 0.05 | 1.97 | |
| methylRaw-class | 0.09 | 0.00 | 0.10 | |
| methylRawDB-class | 0.10 | 0.00 | 0.14 | |
| methylRawList-class | 0.01 | 0.00 | 0.01 | |
| methylRawListDB-class | 0.19 | 0.06 | 0.39 | |
| normalizeCoverage-methods | 0.20 | 0.03 | 0.46 | |
| percMethylation-methods | 0.04 | 0.02 | 0.04 | |
| pool-methods | 0.04 | 0.00 | 0.05 | |
| processBismarkAln-methods | 0.10 | 0.01 | 0.13 | |
| readMethylDB-methods | 0 | 0 | 0 | |
| reconstruct-methods | 0.03 | 0.00 | 0.03 | |
| regionCounts | 0.39 | 0.02 | 0.40 | |
| removeComp-methods | 0.05 | 0.00 | 0.05 | |
| reorganize-methods | 0.17 | 0.00 | 0.19 | |
| select-methods | 0.12 | 0.00 | 0.19 | |
| selectByOverlap-methods | 3.61 | 0.08 | 3.98 | |
| show-methods | 0.03 | 0.01 | 0.05 | |
| tileMethylCounts-methods | 0.57 | 0.00 | 0.56 | |
| unite-methods | 0.09 | 0.00 | 0.11 | |