| Back to Multiple platform build/check report for BioC 3.21: simplified long |
|
This page was generated on 2025-04-22 13:16 -0400 (Tue, 22 Apr 2025).
| Hostname | OS | Arch (*) | R version | Installed pkgs |
|---|---|---|---|---|
| nebbiolo1 | Linux (Ubuntu 24.04.1 LTS) | x86_64 | 4.5.0 RC (2025-04-04 r88126) -- "How About a Twenty-Six" | 4831 |
| palomino7 | Windows Server 2022 Datacenter | x64 | 4.5.0 RC (2025-04-04 r88126 ucrt) -- "How About a Twenty-Six" | 4573 |
| lconway | macOS 12.7.1 Monterey | x86_64 | 4.5.0 RC (2025-04-04 r88126) -- "How About a Twenty-Six" | 4599 |
| kjohnson3 | macOS 13.7.1 Ventura | arm64 | 4.5.0 RC (2025-04-04 r88126) -- "How About a Twenty-Six" | 4553 |
| kunpeng2 | Linux (openEuler 24.03 LTS) | aarch64 | R Under development (unstable) (2025-02-19 r87757) -- "Unsuffered Consequences" | 4570 |
| Click on any hostname to see more info about the system (e.g. compilers) (*) as reported by 'uname -p', except on Windows and Mac OS X | ||||
| Package 1178/2341 | Hostname | OS / Arch | INSTALL | BUILD | CHECK | BUILD BIN | ||||||||
| martini 1.28.0 (landing page) Hector Climente-Gonzalez
| nebbiolo1 | Linux (Ubuntu 24.04.1 LTS) / x86_64 | OK | OK | OK | |||||||||
| palomino7 | Windows Server 2022 Datacenter / x64 | OK | OK | OK | OK | |||||||||
| lconway | macOS 12.7.1 Monterey / x86_64 | OK | OK | OK | OK | |||||||||
| kjohnson3 | macOS 13.7.1 Ventura / arm64 | OK | OK | OK | OK | |||||||||
| kunpeng2 | Linux (openEuler 24.03 LTS) / aarch64 | OK | OK | WARNINGS | ||||||||||
|
To the developers/maintainers of the martini package: - Allow up to 24 hours (and sometimes 48 hours) for your latest push to git@git.bioconductor.org:packages/martini.git to reflect on this report. See Troubleshooting Build Report for more information. - Use the following Renviron settings to reproduce errors and warnings. - If 'R CMD check' started to fail recently on the Linux builder(s) over a missing dependency, add the missing dependency to 'Suggests:' in your DESCRIPTION file. See Renviron.bioc for more information. |
| Package: martini |
| Version: 1.28.0 |
| Command: /Library/Frameworks/R.framework/Resources/bin/R CMD check --install=check:martini.install-out.txt --library=/Library/Frameworks/R.framework/Resources/library --no-vignettes --timings martini_1.28.0.tar.gz |
| StartedAt: 2025-04-21 21:38:33 -0400 (Mon, 21 Apr 2025) |
| EndedAt: 2025-04-21 21:42:40 -0400 (Mon, 21 Apr 2025) |
| EllapsedTime: 247.1 seconds |
| RetCode: 0 |
| Status: OK |
| CheckDir: martini.Rcheck |
| Warnings: 0 |
##############################################################################
##############################################################################
###
### Running command:
###
### /Library/Frameworks/R.framework/Resources/bin/R CMD check --install=check:martini.install-out.txt --library=/Library/Frameworks/R.framework/Resources/library --no-vignettes --timings martini_1.28.0.tar.gz
###
##############################################################################
##############################################################################
* using log directory ‘/Users/biocbuild/bbs-3.21-bioc/meat/martini.Rcheck’
* using R version 4.5.0 RC (2025-04-04 r88126)
* using platform: x86_64-apple-darwin20
* R was compiled by
Apple clang version 14.0.0 (clang-1400.0.29.202)
GNU Fortran (GCC) 14.2.0
* running under: macOS Monterey 12.7.6
* using session charset: UTF-8
* using option ‘--no-vignettes’
* checking for file ‘martini/DESCRIPTION’ ... OK
* checking extension type ... Package
* this is package ‘martini’ version ‘1.28.0’
* package encoding: UTF-8
* checking package namespace information ... OK
* checking package dependencies ... OK
* checking if this is a source package ... OK
* checking if there is a namespace ... OK
* checking for hidden files and directories ... OK
* checking for portable file names ... OK
* checking for sufficient/correct file permissions ... OK
* checking whether package ‘martini’ can be installed ... OK
* used C++ compiler: ‘Apple clang version 14.0.0 (clang-1400.0.29.202)’
* used SDK: ‘MacOSX11.3.sdk’
* checking installed package size ... OK
* checking package directory ... OK
* checking ‘build’ directory ... OK
* checking DESCRIPTION meta-information ... OK
* checking top-level files ... OK
* checking for left-over files ... OK
* checking index information ... OK
* checking package subdirectories ... OK
* checking code files for non-ASCII characters ... OK
* checking R files for syntax errors ... OK
* checking whether the package can be loaded ... OK
* checking whether the package can be loaded with stated dependencies ... OK
* checking whether the package can be unloaded cleanly ... OK
* checking whether the namespace can be loaded with stated dependencies ... OK
* checking whether the namespace can be unloaded cleanly ... OK
* checking dependencies in R code ... OK
* checking S3 generic/method consistency ... OK
* checking replacement functions ... OK
* checking foreign function calls ... OK
* checking R code for possible problems ... NOTE
get_GI_network: no visible binding for global variable ‘gene1’
get_GI_network: no visible binding for global variable ‘gene2’
get_GM_network: no visible binding for global variable ‘gene’
group_snps: no visible binding for global variable ‘.’
Undefined global functions or variables:
. gene gene1 gene2
* checking Rd files ... OK
* checking Rd metadata ... OK
* checking Rd cross-references ... OK
* checking for missing documentation entries ... OK
* checking for code/documentation mismatches ... OK
* checking Rd \usage sections ... NOTE
Documented arguments not in \usage in Rd file 'organism_id2name.Rd':
‘organism’
Functions with \usage entries need to have the appropriate \alias
entries, and all their arguments documented.
The \usage entries must correspond to syntactically valid R code.
See chapter ‘Writing R documentation files’ in the ‘Writing R
Extensions’ manual.
* checking Rd contents ... OK
* checking for unstated dependencies in examples ... OK
* checking contents of ‘data’ directory ... OK
* checking data for non-ASCII characters ... OK
* checking LazyData ... OK
* checking data for ASCII and uncompressed saves ... OK
* checking line endings in C/C++/Fortran sources/headers ... OK
* checking line endings in Makefiles ... OK
* checking compilation flags in Makevars ... OK
* checking for GNU extensions in Makefiles ... OK
* checking for portable use of $(BLAS_LIBS) and $(LAPACK_LIBS) ... OK
* checking use of PKG_*FLAGS in Makefiles ... OK
* checking compiled code ... NOTE
Note: information on .o files is not available
File ‘/Library/Frameworks/R.framework/Versions/4.5-x86_64/Resources/library/martini/libs/martini.so’:
Found ‘_exit’, possibly from ‘exit’ (C)
Compiled code should not call entry points which might terminate R nor
write to stdout/stderr instead of to the console, nor use Fortran I/O
nor system RNGs nor [v]sprintf. The detected symbols are linked into
the code but might come from libraries and not actually be called.
See ‘Writing portable packages’ in the ‘Writing R Extensions’ manual.
* checking files in ‘vignettes’ ... OK
* checking examples ... OK
* checking for unstated dependencies in ‘tests’ ... OK
* checking tests ...
Running ‘testthat.R’
OK
* checking for unstated dependencies in vignettes ... OK
* checking package vignettes ... OK
* checking running R code from vignettes ... SKIPPED
* checking re-building of vignette outputs ... SKIPPED
* checking PDF version of manual ... OK
* DONE
Status: 3 NOTEs
See
‘/Users/biocbuild/bbs-3.21-bioc/meat/martini.Rcheck/00check.log’
for details.
martini.Rcheck/00install.out
############################################################################## ############################################################################## ### ### Running command: ### ### /Library/Frameworks/R.framework/Resources/bin/R CMD INSTALL martini ### ############################################################################## ############################################################################## * installing to library ‘/Library/Frameworks/R.framework/Versions/4.5-x86_64/Resources/library’ * installing *source* package ‘martini’ ... ** this is package ‘martini’ version ‘1.28.0’ ** using staged installation ** libs using C++ compiler: ‘Apple clang version 14.0.0 (clang-1400.0.29.202)’ using SDK: ‘MacOSX11.3.sdk’ clang++ -arch x86_64 -std=gnu++17 -I"/Library/Frameworks/R.framework/Resources/include" -DNDEBUG -I'/Library/Frameworks/R.framework/Versions/4.5-x86_64/Resources/library/Rcpp/include' -I'/Library/Frameworks/R.framework/Versions/4.5-x86_64/Resources/library/RcppEigen/include' -I/opt/R/x86_64/include -std=c++11 -D_USE_KNETFILE -D_FILE_OFFSET_BITS=64 -U_FORTIFY_SOURCE -DBGZF_CACHE -I./lib `/Library/Frameworks/R.framework/Resources/bin/Rscript -e "Rcpp:::CxxFlags()"` -DEIGEN_PERMANENTLY_DISABLE_STUPID_WARNINGS -fPIC -falign-functions=64 -Wall -g -O2 -c RcppExports.cpp -o RcppExports.o clang++ -arch x86_64 -std=gnu++17 -I"/Library/Frameworks/R.framework/Resources/include" -DNDEBUG -I'/Library/Frameworks/R.framework/Versions/4.5-x86_64/Resources/library/Rcpp/include' -I'/Library/Frameworks/R.framework/Versions/4.5-x86_64/Resources/library/RcppEigen/include' -I/opt/R/x86_64/include -std=c++11 -D_USE_KNETFILE -D_FILE_OFFSET_BITS=64 -U_FORTIFY_SOURCE -DBGZF_CACHE -I./lib `/Library/Frameworks/R.framework/Resources/bin/Rscript -e "Rcpp:::CxxFlags()"` -DEIGEN_PERMANENTLY_DISABLE_STUPID_WARNINGS -fPIC -falign-functions=64 -Wall -g -O2 -c mincut.cpp -o mincut.o clang++ -arch x86_64 -std=gnu++17 -I"/Library/Frameworks/R.framework/Resources/include" -DNDEBUG -I'/Library/Frameworks/R.framework/Versions/4.5-x86_64/Resources/library/Rcpp/include' -I'/Library/Frameworks/R.framework/Versions/4.5-x86_64/Resources/library/RcppEigen/include' -I/opt/R/x86_64/include -std=c++11 -D_USE_KNETFILE -D_FILE_OFFSET_BITS=64 -U_FORTIFY_SOURCE -DBGZF_CACHE -I./lib `/Library/Frameworks/R.framework/Resources/bin/Rscript -e "Rcpp:::CxxFlags()"` -DEIGEN_PERMANENTLY_DISABLE_STUPID_WARNINGS -fPIC -falign-functions=64 -Wall -g -O2 -c lib/maxflow/maxflow.cpp -o lib/maxflow/maxflow.o ar -crus libmaxflow.a lib/maxflow/maxflow.o cp -r lib/maxflow "/Library/Frameworks/R.framework/Versions/4.5-x86_64/Resources/library/00LOCK-martini/00new/martini/include" mkdir -p "/Library/Frameworks/R.framework/Versions/4.5-x86_64/Resources/library/00LOCK-martini/00new/martini/usrlib" cp libmaxflow.a "/Library/Frameworks/R.framework/Versions/4.5-x86_64/Resources/library/00LOCK-martini/00new/martini/usrlib" clang++ -arch x86_64 -std=gnu++17 -dynamiclib -Wl,-headerpad_max_install_names -undefined dynamic_lookup -L/Library/Frameworks/R.framework/Resources/lib -L/opt/R/x86_64/lib -o martini.so RcppExports.o mincut.o -pthread /Library/Frameworks/R.framework/Versions/4.5-x86_64/Resources/library/00LOCK-martini/00new/martini/usrlib/libmaxflow.a -pthread -F/Library/Frameworks/R.framework/.. -framework R installing to /Library/Frameworks/R.framework/Versions/4.5-x86_64/Resources/library/00LOCK-martini/00new/martini/libs ** R ** data *** moving datasets to lazyload DB ** inst ** byte-compile and prepare package for lazy loading ** help *** installing help indices ** building package indices ** installing vignettes ** testing if installed package can be loaded from temporary location ** checking absolute paths in shared objects and dynamic libraries ** testing if installed package can be loaded from final location ** testing if installed package keeps a record of temporary installation path * DONE (martini)
martini.Rcheck/tests/testthat.Rout
R version 4.5.0 RC (2025-04-04 r88126) -- "How About a Twenty-Six"
Copyright (C) 2025 The R Foundation for Statistical Computing
Platform: x86_64-apple-darwin20
R is free software and comes with ABSOLUTELY NO WARRANTY.
You are welcome to redistribute it under certain conditions.
Type 'license()' or 'licence()' for distribution details.
R is a collaborative project with many contributors.
Type 'contributors()' for more information and
'citation()' on how to cite R or R packages in publications.
Type 'demo()' for some demos, 'help()' for on-line help, or
'help.start()' for an HTML browser interface to help.
Type 'q()' to quit R.
> library(testthat)
> library(martini)
> library(igraph)
Attaching package: 'igraph'
The following object is masked from 'package:testthat':
compare
The following objects are masked from 'package:stats':
decompose, spectrum
The following object is masked from 'package:base':
union
>
> test_check("martini")
trying URL 'https://stringdb-downloads.org/download/protein.links.v11.5/9606.protein.links.v11.5.txt.gz'
Content type 'application/octet-stream' length 72718210 bytes (69.3 MB)
==================================================
downloaded 69.3 MB
[ FAIL 0 | WARN 4 | SKIP 4 | PASS 232 ]
══ Skipped tests (4) ═══════════════════════════════════════════════════════════
• On Bioconductor (3): 'test_connect_biomart.R:1:1', 'test_get_gxg.R:1:1',
'test_snp2ensembl.R:1:1'
• empty test (1): 'test_plot_ideogram.R:3:1'
[ FAIL 0 | WARN 4 | SKIP 4 | PASS 232 ]
>
> proc.time()
user system elapsed
85.113 3.812 171.239
martini.Rcheck/martini-Ex.timings
| name | user | system | elapsed | |
| check_installed | 0.000 | 0.000 | 0.001 | |
| get_GI_network | 0.050 | 0.005 | 0.054 | |
| get_GM_network | 0.021 | 0.002 | 0.023 | |
| get_GS_network | 0.008 | 0.001 | 0.009 | |
| get_grid | 0.003 | 0.001 | 0.003 | |
| get_gxg_biogrid | 0.001 | 0.000 | 0.001 | |
| get_gxg_string | 0 | 0 | 0 | |
| get_snp_modules | 0.000 | 0.000 | 0.001 | |
| is_coherent | 0.003 | 0.000 | 0.003 | |
| ldweight_edges | 0.122 | 0.006 | 0.129 | |
| mget_gxg_biogrid | 0.000 | 0.001 | 0.000 | |
| mget_gxg_string | 0.001 | 0.000 | 0.000 | |
| minigwas | 0.019 | 0.008 | 0.027 | |
| minippi | 0.002 | 0.001 | 0.004 | |
| minisnpMapping | 0.002 | 0.001 | 0.003 | |
| scones | 0.056 | 0.003 | 0.061 | |
| scones.cv | 0.188 | 0.007 | 0.199 | |
| scones.cv_ | 0.100 | 0.004 | 0.105 | |
| scones_ | 0.041 | 0.003 | 0.044 | |
| search_cones | 0.001 | 0.000 | 0.000 | |
| sigmod | 0.047 | 0.003 | 0.051 | |
| sigmod.cv | 0.159 | 0.005 | 0.166 | |
| sigmod.cv_ | 0.108 | 0.004 | 0.112 | |
| sigmod_ | 0.044 | 0.003 | 0.048 | |
| simulate_causal_snps | 0.039 | 0.003 | 0.042 | |
| simulate_phenotype | 0.047 | 0.008 | 0.057 | |
| subnet | 0.050 | 0.004 | 0.054 | |
| subvert | 0.030 | 0.002 | 0.033 | |