| Back to Multiple platform build/check report for BioC 3.21: simplified long |
|
This page was generated on 2025-10-16 11:38 -0400 (Thu, 16 Oct 2025).
| Hostname | OS | Arch (*) | R version | Installed pkgs |
|---|---|---|---|---|
| nebbiolo1 | Linux (Ubuntu 24.04.3 LTS) | x86_64 | 4.5.1 (2025-06-13) -- "Great Square Root" | 4833 |
| merida1 | macOS 12.7.6 Monterey | x86_64 | 4.5.1 RC (2025-06-05 r88288) -- "Great Square Root" | 4614 |
| kjohnson1 | macOS 13.7.5 Ventura | arm64 | 4.5.1 Patched (2025-06-14 r88325) -- "Great Square Root" | 4555 |
| kunpeng2 | Linux (openEuler 24.03 LTS) | aarch64 | R Under development (unstable) (2025-02-19 r87757) -- "Unsuffered Consequences" | 4586 |
| Click on any hostname to see more info about the system (e.g. compilers) (*) as reported by 'uname -p', except on Windows and Mac OS X | ||||
| Package 1126/2341 | Hostname | OS / Arch | INSTALL | BUILD | CHECK | BUILD BIN | ||||||||
| limpa 1.0.6 (landing page) Gordon Smyth
| nebbiolo1 | Linux (Ubuntu 24.04.3 LTS) / x86_64 | OK | OK | OK | |||||||||
| merida1 | macOS 12.7.6 Monterey / x86_64 | OK | OK | OK | OK | |||||||||
| kjohnson1 | macOS 13.7.5 Ventura / arm64 | OK | OK | OK | OK | |||||||||
| kunpeng2 | Linux (openEuler 24.03 LTS) / aarch64 | OK | OK | OK | ||||||||||
|
To the developers/maintainers of the limpa package: - Allow up to 24 hours (and sometimes 48 hours) for your latest push to git@git.bioconductor.org:packages/limpa.git to reflect on this report. See Troubleshooting Build Report for more information. - Use the following Renviron settings to reproduce errors and warnings. - If 'R CMD check' started to fail recently on the Linux builder(s) over a missing dependency, add the missing dependency to 'Suggests:' in your DESCRIPTION file. See Renviron.bioc for more information. |
| Package: limpa |
| Version: 1.0.6 |
| Command: /home/biocbuild/bbs-3.21-bioc/R/bin/R CMD check --install=check:limpa.install-out.txt --library=/home/biocbuild/bbs-3.21-bioc/R/site-library --timings limpa_1.0.6.tar.gz |
| StartedAt: 2025-10-16 00:33:05 -0400 (Thu, 16 Oct 2025) |
| EndedAt: 2025-10-16 00:33:37 -0400 (Thu, 16 Oct 2025) |
| EllapsedTime: 32.0 seconds |
| RetCode: 0 |
| Status: OK |
| CheckDir: limpa.Rcheck |
| Warnings: 0 |
##############################################################################
##############################################################################
###
### Running command:
###
### /home/biocbuild/bbs-3.21-bioc/R/bin/R CMD check --install=check:limpa.install-out.txt --library=/home/biocbuild/bbs-3.21-bioc/R/site-library --timings limpa_1.0.6.tar.gz
###
##############################################################################
##############################################################################
* using log directory ‘/home/biocbuild/bbs-3.21-bioc/meat/limpa.Rcheck’
* using R version 4.5.1 (2025-06-13)
* using platform: x86_64-pc-linux-gnu
* R was compiled by
gcc (Ubuntu 13.3.0-6ubuntu2~24.04) 13.3.0
GNU Fortran (Ubuntu 13.3.0-6ubuntu2~24.04) 13.3.0
* running under: Ubuntu 24.04.3 LTS
* using session charset: UTF-8
* checking for file ‘limpa/DESCRIPTION’ ... OK
* this is package ‘limpa’ version ‘1.0.6’
* checking package namespace information ... OK
* checking package dependencies ... OK
* checking if this is a source package ... OK
* checking if there is a namespace ... OK
* checking for hidden files and directories ... OK
* checking for portable file names ... OK
* checking for sufficient/correct file permissions ... OK
* checking whether package ‘limpa’ can be installed ... OK
* checking installed package size ... OK
* checking package directory ... OK
* checking ‘build’ directory ... OK
* checking DESCRIPTION meta-information ... OK
* checking top-level files ... OK
* checking for left-over files ... OK
* checking index information ... OK
* checking package subdirectories ... OK
* checking code files for non-ASCII characters ... OK
* checking R files for syntax errors ... OK
* checking whether the package can be loaded ... OK
* checking whether the package can be loaded with stated dependencies ... OK
* checking whether the package can be unloaded cleanly ... OK
* checking whether the namespace can be loaded with stated dependencies ... OK
* checking whether the namespace can be unloaded cleanly ... OK
* checking loading without being on the library search path ... OK
* checking dependencies in R code ... OK
* checking S3 generic/method consistency ... OK
* checking replacement functions ... OK
* checking foreign function calls ... OK
* checking R code for possible problems ... OK
* checking Rd files ... OK
* checking Rd metadata ... OK
* checking Rd cross-references ... NOTE
Found the following Rd file(s) with Rd \link{} targets missing package
anchors:
dpcQuant.Rd: EList-class
voomaLmFitWithImputation.Rd: vooma, lmFit
Please provide package anchors for all Rd \link{} targets not in the
package itself and the base packages.
* checking for missing documentation entries ... OK
* checking for code/documentation mismatches ... OK
* checking Rd \usage sections ... OK
* checking Rd contents ... NOTE
Argument items with no description in Rd file 'readDIANN.Rd':
‘run.column’ ‘precursor.column’ ‘qty.column’ ‘extra.columns’
* checking for unstated dependencies in examples ... OK
* checking files in ‘vignettes’ ... OK
* checking examples ... OK
* checking for unstated dependencies in ‘tests’ ... OK
* checking tests ...
Running ‘limpa-Tests.R’
Comparing ‘limpa-Tests.Rout’ to ‘limpa-Tests.Rout.save’ ... OK
OK
* checking for unstated dependencies in vignettes ... OK
* checking package vignettes ... OK
* checking re-building of vignette outputs ... OK
* checking PDF version of manual ... OK
* DONE
Status: 2 NOTEs
See
‘/home/biocbuild/bbs-3.21-bioc/meat/limpa.Rcheck/00check.log’
for details.
limpa.Rcheck/00install.out
############################################################################## ############################################################################## ### ### Running command: ### ### /home/biocbuild/bbs-3.21-bioc/R/bin/R CMD INSTALL limpa ### ############################################################################## ############################################################################## * installing to library ‘/home/biocbuild/bbs-3.21-bioc/R/site-library’ * installing *source* package ‘limpa’ ... ** this is package ‘limpa’ version ‘1.0.6’ ** using staged installation ** R ** inst ** byte-compile and prepare package for lazy loading ** help *** installing help indices ** building package indices ** installing vignettes ** testing if installed package can be loaded from temporary location ** testing if installed package can be loaded from final location ** testing if installed package keeps a record of temporary installation path * DONE (limpa)
limpa.Rcheck/tests/limpa-Tests.Rout
R version 4.5.1 (2025-06-13) -- "Great Square Root"
Copyright (C) 2025 The R Foundation for Statistical Computing
Platform: x86_64-pc-linux-gnu
R is free software and comes with ABSOLUTELY NO WARRANTY.
You are welcome to redistribute it under certain conditions.
Type 'license()' or 'licence()' for distribution details.
R is a collaborative project with many contributors.
Type 'contributors()' for more information and
'citation()' on how to cite R or R packages in publications.
Type 'demo()' for some demos, 'help()' for on-line help, or
'help.start()' for an HTML browser interface to help.
Type 'q()' to quit R.
> library(limpa)
Loading required package: limma
> options(warnPartialMatchArgs=TRUE,warnPartialMatchAttr=TRUE,warnPartialMatchDollar=TRUE,width=120)
>
> set.seed(0); u <- runif(100)
>
> y.peptide <- simProteinDataSet()
> names(y.peptide)
[1] "E" "genes" "targets" "other"
> colSums(is.na(y.peptide$E))
S1 S2 S3 S4 S5 S6 S7 S8 S9 S10
35 48 43 36 44 44 38 41 35 47
> summary(y.peptide$E[,1])
Min. 1st Qu. Median Mean 3rd Qu. Max. NA's
2.160 5.548 7.025 6.711 8.586 9.717 35
> names(y.peptide)
[1] "E" "genes" "targets" "other"
>
> dpcfit <- dpc(y.peptide)
1 peptides are completely missing in all samples.
> dpcfit$dpc
beta0 beta1
-4.2061461 0.8003111
>
> y.protein <- dpcQuant(y.peptide,protein.id="Protein",dpcfit)
Estimating hyperparameters ...
Quantifying proteins ...
Proteins: 25 Peptides: 100
> summary(y.protein$E[,1])
Min. 1st Qu. Median Mean 3rd Qu. Max.
2.601 4.097 5.933 5.980 7.824 9.118
>
> Group <- factor(y.peptide$targets$Group)
> design <- model.matrix(~Group)
> fit <- dpcDE(y.protein, design, plot=FALSE)
> summary(fit$coefficients)
(Intercept) Group2
Min. :1.933 Min. :-1.08953
1st Qu.:3.701 1st Qu.:-0.16402
Median :5.845 Median :-0.07588
Mean :5.843 Mean : 0.04373
3rd Qu.:7.990 3rd Qu.: 0.24114
Max. :9.427 Max. : 1.11731
> summary(fit$sigma)
Min. 1st Qu. Median Mean 3rd Qu. Max.
0.3688 0.8261 0.9631 0.9871 1.1006 1.8352
>
> proc.time()
user system elapsed
0.543 0.044 0.575
limpa.Rcheck/tests/limpa-Tests.Rout.save
R version 4.5.0 (2025-04-11 ucrt) -- "How About a Twenty-Six"
Copyright (C) 2025 The R Foundation for Statistical Computing
Platform: x86_64-w64-mingw32/x64
R is free software and comes with ABSOLUTELY NO WARRANTY.
You are welcome to redistribute it under certain conditions.
Type 'license()' or 'licence()' for distribution details.
R is a collaborative project with many contributors.
Type 'contributors()' for more information and
'citation()' on how to cite R or R packages in publications.
Type 'demo()' for some demos, 'help()' for on-line help, or
'help.start()' for an HTML browser interface to help.
Type 'q()' to quit R.
> library(limpa)
Loading required package: limma
> options(warnPartialMatchArgs=TRUE,warnPartialMatchAttr=TRUE,warnPartialMatchDollar=TRUE,width=120)
>
> set.seed(0); u <- runif(100)
>
> y.peptide <- simProteinDataSet()
> names(y.peptide)
[1] "E" "genes" "targets" "other"
> colSums(is.na(y.peptide$E))
S1 S2 S3 S4 S5 S6 S7 S8 S9 S10
35 48 43 36 44 44 38 41 35 47
> summary(y.peptide$E[,1])
Min. 1st Qu. Median Mean 3rd Qu. Max. NA's
2.160 5.548 7.025 6.711 8.586 9.717 35
> names(y.peptide)
[1] "E" "genes" "targets" "other"
>
> dpcfit <- dpc(y.peptide)
1 peptides are completely missing in all samples.
> dpcfit$dpc
beta0 beta1
-4.2061461 0.8003111
>
> y.protein <- dpcQuant(y.peptide,protein.id="Protein",dpcfit)
Estimating hyperparameters ...
Quantifying proteins ...
Proteins: 25 Peptides: 100
> summary(y.protein$E[,1])
Min. 1st Qu. Median Mean 3rd Qu. Max.
2.601 4.097 5.933 5.980 7.824 9.118
>
> Group <- factor(y.peptide$targets$Group)
> design <- model.matrix(~Group)
> fit <- dpcDE(y.protein, design, plot=FALSE)
> summary(fit$coefficients)
(Intercept) Group2
Min. :1.933 Min. :-1.08953
1st Qu.:3.701 1st Qu.:-0.16402
Median :5.845 Median :-0.07588
Mean :5.843 Mean : 0.04373
3rd Qu.:7.990 3rd Qu.: 0.24114
Max. :9.427 Max. : 1.11731
> summary(fit$sigma)
Min. 1st Qu. Median Mean 3rd Qu. Max.
0.3688 0.8261 0.9631 0.9871 1.1006 1.8352
>
> proc.time()
user system elapsed
0.34 0.10 0.54
limpa.Rcheck/limpa-Ex.timings
| name | user | system | elapsed | |
| completeMomentsON | 0.000 | 0.000 | 0.001 | |
| dpc | 0.032 | 0.001 | 0.033 | |
| dpcCN | 0.145 | 0.001 | 0.146 | |
| dpcDE | 0.120 | 0.001 | 0.121 | |
| dpcQuant | 0.061 | 0.000 | 0.062 | |
| dtbinom | 0.000 | 0.000 | 0.001 | |
| estimateDPCIntercept | 0.002 | 0.000 | 0.004 | |
| fitZTLogit | 0.014 | 0.000 | 0.014 | |
| imputeByExpTilt | 0.001 | 0.000 | 0.001 | |
| observedMomentsCN | 0.001 | 0.000 | 0.001 | |
| peptide2Protein | 0.003 | 0.001 | 0.004 | |
| peptide2Proteins | 0.007 | 0.000 | 0.008 | |
| plotDPC | 0.021 | 0.000 | 0.021 | |
| plotMDSUsingSEs | 0 | 0 | 0 | |
| plotPeptides | 0.004 | 0.001 | 0.005 | |
| plotProtein | 0.14 | 0.00 | 0.14 | |
| proteinResVarFromCompletePeptideData | 0.002 | 0.000 | 0.001 | |
| pztbinomSameSizeLogitPBothTails | 0.000 | 0.000 | 0.001 | |
| readDIANN | 0 | 0 | 0 | |
| readSpectronaut | 0.001 | 0.000 | 0.000 | |
| removeNARows | 0.000 | 0.000 | 0.001 | |
| simCompleteDataON | 0.003 | 0.000 | 0.004 | |
| simProteinDataSet | 0.004 | 0.001 | 0.005 | |
| voomaLmFitWithImputation | 0.112 | 0.002 | 0.114 | |