| Back to Multiple platform build/check report for BioC 3.21: simplified long |
|
This page was generated on 2025-10-16 11:41 -0400 (Thu, 16 Oct 2025).
| Hostname | OS | Arch (*) | R version | Installed pkgs |
|---|---|---|---|---|
| nebbiolo1 | Linux (Ubuntu 24.04.3 LTS) | x86_64 | 4.5.1 (2025-06-13) -- "Great Square Root" | 4833 |
| merida1 | macOS 12.7.6 Monterey | x86_64 | 4.5.1 RC (2025-06-05 r88288) -- "Great Square Root" | 4614 |
| kjohnson1 | macOS 13.7.5 Ventura | arm64 | 4.5.1 Patched (2025-06-14 r88325) -- "Great Square Root" | 4555 |
| kunpeng2 | Linux (openEuler 24.03 LTS) | aarch64 | R Under development (unstable) (2025-02-19 r87757) -- "Unsuffered Consequences" | 4586 |
| Click on any hostname to see more info about the system (e.g. compilers) (*) as reported by 'uname -p', except on Windows and Mac OS X | ||||
| Package 1097/2341 | Hostname | OS / Arch | INSTALL | BUILD | CHECK | BUILD BIN | ||||||||
| karyoploteR 1.34.2 (landing page) Bernat Gel
| nebbiolo1 | Linux (Ubuntu 24.04.3 LTS) / x86_64 | OK | OK | OK | |||||||||
| merida1 | macOS 12.7.6 Monterey / x86_64 | OK | OK | OK | OK | |||||||||
| kjohnson1 | macOS 13.7.5 Ventura / arm64 | OK | OK | OK | OK | |||||||||
| kunpeng2 | Linux (openEuler 24.03 LTS) / aarch64 | OK | OK | OK | ||||||||||
|
To the developers/maintainers of the karyoploteR package: - Allow up to 24 hours (and sometimes 48 hours) for your latest push to git@git.bioconductor.org:packages/karyoploteR.git to reflect on this report. See Troubleshooting Build Report for more information. - Use the following Renviron settings to reproduce errors and warnings. - If 'R CMD check' started to fail recently on the Linux builder(s) over a missing dependency, add the missing dependency to 'Suggests:' in your DESCRIPTION file. See Renviron.bioc for more information. - See Martin Grigorov's blog post for how to debug Linux ARM64 related issues on a x86_64 host. |
| Package: karyoploteR |
| Version: 1.34.2 |
| Command: /home/biocbuild/R/R/bin/R CMD check --install=check:karyoploteR.install-out.txt --library=/home/biocbuild/R/R/site-library --no-vignettes --timings karyoploteR_1.34.2.tar.gz |
| StartedAt: 2025-10-14 10:33:21 -0000 (Tue, 14 Oct 2025) |
| EndedAt: 2025-10-14 10:44:34 -0000 (Tue, 14 Oct 2025) |
| EllapsedTime: 672.6 seconds |
| RetCode: 0 |
| Status: OK |
| CheckDir: karyoploteR.Rcheck |
| Warnings: 0 |
##############################################################################
##############################################################################
###
### Running command:
###
### /home/biocbuild/R/R/bin/R CMD check --install=check:karyoploteR.install-out.txt --library=/home/biocbuild/R/R/site-library --no-vignettes --timings karyoploteR_1.34.2.tar.gz
###
##############################################################################
##############################################################################
* using log directory ‘/home/biocbuild/bbs-3.21-bioc/meat/karyoploteR.Rcheck’
* using R Under development (unstable) (2025-02-19 r87757)
* using platform: aarch64-unknown-linux-gnu
* R was compiled by
aarch64-unknown-linux-gnu-gcc (GCC) 14.2.0
GNU Fortran (GCC) 14.2.0
* running under: openEuler 24.03 (LTS-SP1)
* using session charset: UTF-8
* using option ‘--no-vignettes’
* checking for file ‘karyoploteR/DESCRIPTION’ ... OK
* checking extension type ... Package
* this is package ‘karyoploteR’ version ‘1.34.2’
* package encoding: UTF-8
* checking package namespace information ... OK
* checking package dependencies ... OK
* checking if this is a source package ... OK
* checking if there is a namespace ... OK
* checking for hidden files and directories ... OK
* checking for portable file names ... OK
* checking for sufficient/correct file permissions ... OK
* checking whether package ‘karyoploteR’ can be installed ... OK
* checking installed package size ... OK
* checking package directory ... OK
* checking ‘build’ directory ... OK
* checking DESCRIPTION meta-information ... NOTE
Packages listed in more than one of Depends, Imports, Suggests, Enhances:
‘regioneR’ ‘GenomicRanges’
A package should be listed in only one of these fields.
* checking top-level files ... OK
* checking for left-over files ... OK
* checking index information ... OK
* checking package subdirectories ... NOTE
Problems with news in ‘NEWS’:
Cannot process chunk/lines:
NEW FEATURES
Cannot process chunk/lines:
SIGNIFICANT USER-VISIBLE CHANGES
Cannot process chunk/lines:
NEW FEATURES
Cannot process chunk/lines:
SIGNIFICANT USER-VISIBLE CHANGES
* checking code files for non-ASCII characters ... OK
* checking R files for syntax errors ... OK
* checking whether the package can be loaded ... OK
* checking whether the package can be loaded with stated dependencies ... OK
* checking whether the package can be unloaded cleanly ... OK
* checking whether the namespace can be loaded with stated dependencies ... OK
* checking whether the namespace can be unloaded cleanly ... OK
* checking loading without being on the library search path ... OK
* checking whether startup messages can be suppressed ... OK
* checking dependencies in R code ... OK
* checking S3 generic/method consistency ... OK
* checking replacement functions ... OK
* checking foreign function calls ... OK
* checking R code for possible problems ... OK
* checking Rd files ... NOTE
checkRd: (-1) kpPlotBAMCoverage.Rd:48: Lost braces
48 | There's more information at the \url{https://bernatgel.github.io/karyoploter_tutorial/}{karyoploteR tutorial}.
| ^
checkRd: (-1) kpPlotBAMDensity.Rd:48: Lost braces
48 | There's more information at the \url{https://bernatgel.github.io/karyoploter_tutorial/}{karyoploteR tutorial}.
| ^
checkRd: (-1) kpPlotCoverage.Rd:46: Lost braces
46 | There's more information at the \url{https://bernatgel.github.io/karyoploter_tutorial/}{karyoploteR tutorial}.
| ^
checkRd: (-1) kpPlotDensity.Rd:42: Lost braces
42 | There's more information at the \url{https://bernatgel.github.io/karyoploter_tutorial/}{karyoploteR tutorial}.
| ^
checkRd: (-1) kpPlotManhattan.Rd:80: Lost braces
80 | There's more information at the \url{https://bernatgel.github.io/karyoploter_tutorial/}{karyoploteR tutorial}.
| ^
checkRd: (-1) kpPlotMarkers.Rd:81: Lost braces
81 | There's more information at the \url{https://bernatgel.github.io/karyoploter_tutorial/}{karyoploteR tutorial}.
| ^
checkRd: (-1) kpPlotRainfall.Rd:47: Lost braces
47 | There's more information at the \url{https://bernatgel.github.io/karyoploter_tutorial/}{karyoploteR tutorial}.
| ^
checkRd: (-1) kpPoints.Rd:54: Lost braces
54 | There's more information at the \url{https://bernatgel.github.io/karyoploter_tutorial/}{karyoploteR tutorial}.
| ^
checkRd: (-1) kpRect.Rd:55: Lost braces
55 | There's more information at the \url{https://bernatgel.github.io/karyoploter_tutorial/}{karyoploteR tutorial}.
| ^
checkRd: (-1) plotKaryotype.Rd:61: Lost braces
61 | There's more information at the \url{https://bernatgel.github.io/karyoploter_tutorial/}{karyoploteR tutorial}.
| ^
* checking Rd metadata ... OK
* checking Rd cross-references ... NOTE
Found the following Rd file(s) with Rd \link{} targets missing package
anchors:
getCytobands.Rd: GenomicRanges, memoise, forget
kpPlotBAMCoverage.Rd: bamsignals
kpPlotBAMDensity.Rd: Rsamtools
kpPlotBigWig.Rd: BigWigFile
Please provide package anchors for all Rd \link{} targets not in the
package itself and the base packages.
* checking for missing documentation entries ... OK
* checking for code/documentation mismatches ... OK
* checking Rd \usage sections ... OK
* checking Rd contents ... OK
* checking for unstated dependencies in examples ... OK
* checking R/sysdata.rda ... OK
* checking files in ‘vignettes’ ... OK
* checking examples ... OK
Examples with CPU (user + system) or elapsed time > 5s
user system elapsed
kpPlotDensity 47.320 2.628 50.296
kpPlotGenes 29.320 0.200 29.617
mergeTranscripts 23.295 0.048 23.399
kpPlotHorizon 21.753 0.176 21.993
kpPlotRegions 16.840 0.064 16.952
kpPlotTranscripts 9.556 0.060 9.642
kpPlotBAMCoverage 9.213 0.247 9.476
kpPlotManhattan 5.861 0.067 5.941
* checking for unstated dependencies in ‘tests’ ... OK
* checking tests ...
Running ‘testthat.R’
OK
* checking for unstated dependencies in vignettes ... OK
* checking package vignettes ... OK
* checking running R code from vignettes ... SKIPPED
* checking re-building of vignette outputs ... SKIPPED
* checking PDF version of manual ... OK
* DONE
Status: 4 NOTEs
See
‘/home/biocbuild/bbs-3.21-bioc/meat/karyoploteR.Rcheck/00check.log’
for details.
karyoploteR.Rcheck/00install.out
############################################################################## ############################################################################## ### ### Running command: ### ### /home/biocbuild/R/R/bin/R CMD INSTALL karyoploteR ### ############################################################################## ############################################################################## * installing to library ‘/home/biocbuild/R/R-devel_2025-02-19/site-library’ * installing *source* package ‘karyoploteR’ ... ** this is package ‘karyoploteR’ version ‘1.34.2’ ** using staged installation ** R ** inst ** byte-compile and prepare package for lazy loading ** help *** installing help indices ** building package indices ** installing vignettes ** testing if installed package can be loaded from temporary location ** testing if installed package can be loaded from final location ** testing if installed package keeps a record of temporary installation path * DONE (karyoploteR)
karyoploteR.Rcheck/tests/testthat.Rout
R Under development (unstable) (2025-02-19 r87757) -- "Unsuffered Consequences"
Copyright (C) 2025 The R Foundation for Statistical Computing
Platform: aarch64-unknown-linux-gnu
R is free software and comes with ABSOLUTELY NO WARRANTY.
You are welcome to redistribute it under certain conditions.
Type 'license()' or 'licence()' for distribution details.
R is a collaborative project with many contributors.
Type 'contributors()' for more information and
'citation()' on how to cite R or R packages in publications.
Type 'demo()' for some demos, 'help()' for on-line help, or
'help.start()' for an HTML browser interface to help.
Type 'q()' to quit R.
> library(testthat)
> library(karyoploteR)
Loading required package: regioneR
Loading required package: GenomicRanges
Loading required package: stats4
Loading required package: BiocGenerics
Loading required package: generics
Attaching package: 'generics'
The following objects are masked from 'package:base':
as.difftime, as.factor, as.ordered, intersect, is.element, setdiff,
setequal, union
Attaching package: 'BiocGenerics'
The following objects are masked from 'package:stats':
IQR, mad, sd, var, xtabs
The following objects are masked from 'package:base':
Filter, Find, Map, Position, Reduce, anyDuplicated, aperm, append,
as.data.frame, basename, cbind, colnames, dirname, do.call,
duplicated, eval, evalq, get, grep, grepl, is.unsorted, lapply,
mapply, match, mget, order, paste, pmax, pmax.int, pmin, pmin.int,
rank, rbind, rownames, sapply, saveRDS, table, tapply, unique,
unsplit, which.max, which.min
Loading required package: S4Vectors
Attaching package: 'S4Vectors'
The following object is masked from 'package:utils':
findMatches
The following objects are masked from 'package:base':
I, expand.grid, unname
Loading required package: IRanges
Loading required package: GenomeInfoDb
>
> test_check("karyoploteR")
[ FAIL 0 | WARN 0 | SKIP 3 | PASS 177 ]
══ Skipped tests (3) ═══════════════════════════════════════════════════════════
• empty test (3): 'test_plotKaryotype.R:27:1', 'test_plotKaryotype.R:34:1',
'test_plotKaryotype.R:44:1'
[ FAIL 0 | WARN 0 | SKIP 3 | PASS 177 ]
>
> proc.time()
user system elapsed
23.782 1.507 25.342
karyoploteR.Rcheck/karyoploteR-Ex.timings
| name | user | system | elapsed | |
| addGeneNames | 4.017 | 0.188 | 4.213 | |
| autotrack | 0.001 | 0.000 | 0.001 | |
| colByCategory | 0.003 | 0.000 | 0.003 | |
| colByChr | 0.809 | 0.036 | 0.847 | |
| colByRegion | 2.683 | 0.159 | 2.848 | |
| colByValue | 0.257 | 0.004 | 0.261 | |
| darker | 0.002 | 0.000 | 0.001 | |
| filterParams | 0 | 0 | 0 | |
| findIntersections | 0.170 | 0.000 | 0.171 | |
| getChromosomeNamesBoundingBox | 0.066 | 0.000 | 0.066 | |
| getColorSchemas | 0.002 | 0.000 | 0.002 | |
| getCytobandColors | 0.001 | 0.000 | 0.001 | |
| getCytobands | 0.003 | 0.000 | 0.003 | |
| getDataPanelBoundingBox | 0.068 | 0.000 | 0.068 | |
| getDefaultPlotParams | 0.099 | 0.004 | 0.102 | |
| getMainTitleBoundingBox | 0.052 | 0.000 | 0.052 | |
| getTextSize | 0.111 | 0.004 | 0.114 | |
| getVariantsColors | 0.001 | 0.000 | 0.001 | |
| horizonColors | 0.004 | 0.000 | 0.005 | |
| is.color | 0.000 | 0.000 | 0.001 | |
| kpAbline | 1.299 | 0.072 | 1.385 | |
| kpAddBaseNumbers | 0.521 | 0.000 | 0.523 | |
| kpAddChromosomeNames | 0.049 | 0.000 | 0.050 | |
| kpAddChromosomeSeparators | 0.684 | 0.004 | 0.689 | |
| kpAddColorRect | 0.214 | 0.000 | 0.214 | |
| kpAddCytobandLabels | 0.530 | 0.004 | 0.536 | |
| kpAddCytobands | 0.048 | 0.000 | 0.049 | |
| kpAddCytobandsAsLine | 0.098 | 0.000 | 0.099 | |
| kpAddLabels | 0.644 | 0.000 | 0.646 | |
| kpAddMainTitle | 0.042 | 0.004 | 0.047 | |
| kpArea | 0.460 | 0.000 | 0.461 | |
| kpArrows | 0.809 | 0.024 | 0.835 | |
| kpAxis | 0.417 | 0.004 | 0.423 | |
| kpBars | 0.254 | 0.004 | 0.259 | |
| kpDataBackground | 0.325 | 0.004 | 0.330 | |
| kpHeatmap | 0.193 | 0.000 | 0.193 | |
| kpLines | 0.424 | 0.008 | 0.433 | |
| kpPlotBAMCoverage | 9.213 | 0.247 | 9.476 | |
| kpPlotBAMDensity | 1.855 | 0.066 | 1.924 | |
| kpPlotBigWig | 1.222 | 0.008 | 1.235 | |
| kpPlotCoverage | 0.640 | 0.012 | 0.653 | |
| kpPlotDensity | 47.320 | 2.628 | 50.296 | |
| kpPlotGenes | 29.320 | 0.200 | 29.617 | |
| kpPlotHorizon | 21.753 | 0.176 | 21.993 | |
| kpPlotLinks | 1.446 | 0.000 | 1.451 | |
| kpPlotLoess | 0.09 | 0.00 | 0.09 | |
| kpPlotManhattan | 5.861 | 0.067 | 5.941 | |
| kpPlotMarkers | 2.429 | 0.004 | 2.439 | |
| kpPlotNames | 0.157 | 0.000 | 0.157 | |
| kpPlotRainfall | 1.048 | 0.000 | 1.050 | |
| kpPlotRegions | 16.840 | 0.064 | 16.952 | |
| kpPlotRibbon | 0.122 | 0.004 | 0.126 | |
| kpPlotTranscripts | 9.556 | 0.060 | 9.642 | |
| kpPoints | 0.382 | 0.000 | 0.384 | |
| kpPolygon | 0.316 | 0.003 | 0.321 | |
| kpRect | 1.120 | 0.004 | 1.127 | |
| kpSegments | 0.772 | 0.004 | 0.779 | |
| kpText | 0.422 | 0.008 | 0.432 | |
| lighter | 0.001 | 0.000 | 0.001 | |
| makeGenesDataFromTxDb | 4.119 | 0.032 | 4.162 | |
| mergeTranscripts | 23.295 | 0.048 | 23.399 | |
| plotDefaultPlotParams | 0.217 | 0.000 | 0.217 | |
| plotKaryotype | 1.429 | 0.000 | 1.431 | |
| plotPalettes | 0.016 | 0.004 | 0.021 | |
| prepareParameters2 | 0.047 | 0.000 | 0.048 | |
| prepareParameters4 | 0.047 | 0.003 | 0.050 | |
| processClipping | 0.046 | 0.004 | 0.050 | |
| transparent | 0.001 | 0.000 | 0.000 | |