Back to Multiple platform build/check report for BioC 3.21:   simplified   long
ABCDEFGH[I]JKLMNOPQRSTUVWXYZ

This page was generated on 2025-10-16 11:39 -0400 (Thu, 16 Oct 2025).

HostnameOSArch (*)R versionInstalled pkgs
nebbiolo1Linux (Ubuntu 24.04.3 LTS)x86_644.5.1 (2025-06-13) -- "Great Square Root" 4833
merida1macOS 12.7.6 Montereyx86_644.5.1 RC (2025-06-05 r88288) -- "Great Square Root" 4614
kjohnson1macOS 13.7.5 Venturaarm644.5.1 Patched (2025-06-14 r88325) -- "Great Square Root" 4555
kunpeng2Linux (openEuler 24.03 LTS)aarch64R Under development (unstable) (2025-02-19 r87757) -- "Unsuffered Consequences" 4586
Click on any hostname to see more info about the system (e.g. compilers)      (*) as reported by 'uname -p', except on Windows and Mac OS X

Package 1046/2341HostnameOS / ArchINSTALLBUILDCHECKBUILD BIN
iNETgrate 1.6.0  (landing page)
Habil Zare
Snapshot Date: 2025-10-13 13:40 -0400 (Mon, 13 Oct 2025)
git_url: https://git.bioconductor.org/packages/iNETgrate
git_branch: RELEASE_3_21
git_last_commit: 299831c
git_last_commit_date: 2025-04-15 13:16:57 -0400 (Tue, 15 Apr 2025)
nebbiolo1Linux (Ubuntu 24.04.3 LTS) / x86_64  OK    OK    OK  UNNEEDED, same version is already published
merida1macOS 12.7.6 Monterey / x86_64  OK    OK    OK    OK  UNNEEDED, same version is already published
kjohnson1macOS 13.7.5 Ventura / arm64  OK    OK    OK    OK  UNNEEDED, same version is already published
kunpeng2Linux (openEuler 24.03 LTS) / aarch64  OK    OK    OK  


CHECK results for iNETgrate on merida1

To the developers/maintainers of the iNETgrate package:
- Allow up to 24 hours (and sometimes 48 hours) for your latest push to git@git.bioconductor.org:packages/iNETgrate.git to reflect on this report. See Troubleshooting Build Report for more information.
- Use the following Renviron settings to reproduce errors and warnings.
- If 'R CMD check' started to fail recently on the Linux builder(s) over a missing dependency, add the missing dependency to 'Suggests:' in your DESCRIPTION file. See Renviron.bioc for more information.

raw results


Summary

Package: iNETgrate
Version: 1.6.0
Command: /Library/Frameworks/R.framework/Resources/bin/R CMD check --install=check:iNETgrate.install-out.txt --library=/Library/Frameworks/R.framework/Resources/library --no-vignettes --timings iNETgrate_1.6.0.tar.gz
StartedAt: 2025-10-14 05:21:24 -0400 (Tue, 14 Oct 2025)
EndedAt: 2025-10-14 05:47:02 -0400 (Tue, 14 Oct 2025)
EllapsedTime: 1538.2 seconds
RetCode: 0
Status:   OK  
CheckDir: iNETgrate.Rcheck
Warnings: 0

Command output

##############################################################################
##############################################################################
###
### Running command:
###
###   /Library/Frameworks/R.framework/Resources/bin/R CMD check --install=check:iNETgrate.install-out.txt --library=/Library/Frameworks/R.framework/Resources/library --no-vignettes --timings iNETgrate_1.6.0.tar.gz
###
##############################################################################
##############################################################################


* using log directory ‘/Users/biocbuild/bbs-3.21-bioc/meat/iNETgrate.Rcheck’
* using R version 4.5.1 RC (2025-06-05 r88288)
* using platform: x86_64-apple-darwin20
* R was compiled by
    Apple clang version 14.0.0 (clang-1400.0.29.202)
    GNU Fortran (GCC) 14.2.0
* running under: macOS Monterey 12.7.6
* using session charset: UTF-8
* using option ‘--no-vignettes’
* checking for file ‘iNETgrate/DESCRIPTION’ ... OK
* checking extension type ... Package
* this is package ‘iNETgrate’ version ‘1.6.0’
* checking package namespace information ... OK
* checking package dependencies ... OK
* checking if this is a source package ... OK
* checking if there is a namespace ... OK
* checking for hidden files and directories ... OK
* checking for portable file names ... OK
* checking for sufficient/correct file permissions ... OK
* checking whether package ‘iNETgrate’ can be installed ... OK
* checking installed package size ... OK
* checking package directory ... OK
* checking ‘build’ directory ... OK
* checking DESCRIPTION meta-information ... OK
* checking top-level files ... OK
* checking for left-over files ... OK
* checking index information ... OK
* checking package subdirectories ... OK
* checking code files for non-ASCII characters ... OK
* checking R files for syntax errors ... OK
* checking whether the package can be loaded ... OK
* checking whether the package can be loaded with stated dependencies ... OK
* checking whether the package can be unloaded cleanly ... OK
* checking whether the namespace can be loaded with stated dependencies ... OK
* checking whether the namespace can be unloaded cleanly ... OK
* checking dependencies in R code ... OK
* checking S3 generic/method consistency ... OK
* checking replacement functions ... OK
* checking foreign function calls ... OK
* checking R code for possible problems ... OK
* checking Rd files ... OK
* checking Rd metadata ... OK
* checking Rd cross-references ... OK
* checking for missing documentation entries ... OK
* checking for code/documentation mismatches ... OK
* checking Rd \usage sections ... OK
* checking Rd contents ... OK
* checking for unstated dependencies in examples ... OK
* checking contents of ‘data’ directory ... OK
* checking data for non-ASCII characters ... OK
* checking data for ASCII and uncompressed saves ... OK
* checking sizes of PDF files under ‘inst/doc’ ... OK
* checking files in ‘vignettes’ ... OK
* checking examples ... OK
Examples with CPU (user + system) or elapsed time > 5s
                     user system elapsed
iNETgrate         201.245  4.294 214.197
toyComputEloci    109.787  3.725 122.869
toyEigengenes      81.925  0.599  88.427
computEigengenes   76.933  0.414  82.353
analyzeSurvival    59.878  0.896  66.946
makeNetwork        53.153  0.188  56.028
computEigenloci    32.597  1.520  34.629
cleanAllData       19.769  0.959  22.724
distanceToTss       6.756  0.198   7.155
accelFailAnalysis   5.968  0.659   6.813
sampleData          1.773  3.135   5.236
* checking for unstated dependencies in vignettes ... OK
* checking package vignettes ... OK
* checking running R code from vignettes ... SKIPPED
* checking re-building of vignette outputs ... SKIPPED
* checking PDF version of manual ... OK
* DONE

Status: OK


Installation output

iNETgrate.Rcheck/00install.out

##############################################################################
##############################################################################
###
### Running command:
###
###   /Library/Frameworks/R.framework/Resources/bin/R CMD INSTALL iNETgrate
###
##############################################################################
##############################################################################


* installing to library ‘/Library/Frameworks/R.framework/Versions/4.5-x86_64/Resources/library’
* installing *source* package ‘iNETgrate’ ...
** this is package ‘iNETgrate’ version ‘1.6.0’
** using staged installation
** R
** data
** inst
** byte-compile and prepare package for lazy loading
** help
*** installing help indices
** building package indices
** installing vignettes
** testing if installed package can be loaded from temporary location
** testing if installed package can be loaded from final location
** testing if installed package keeps a record of temporary installation path
* DONE (iNETgrate)

Tests output


Example timings

iNETgrate.Rcheck/iNETgrate-Ex.timings

nameusersystemelapsed
accelFailAnalysis5.9680.6596.813
analyzeSurvival59.878 0.89666.946
bestInetgrator0.4220.1680.727
cleanAllData19.769 0.95922.724
computEigengenes76.933 0.41482.353
computEigenloci32.597 1.52034.629
computeInetgrator0.4200.1160.544
computeUnion2.3550.0572.475
coxAnalysis2.2220.0252.297
createLocusGene0.2050.0110.217
distanceToTss6.7560.1987.155
downloaData000
electGenes3.0530.0903.197
filterLowCor0.7260.0370.771
findAliveCutoff0.1820.0200.278
findCore2.2160.0302.282
findTcgaDuplicates0.3050.0120.317
iNETgrate-package0.4100.1140.529
iNETgrate201.245 4.294214.197
inferEigengenes0.4280.1130.589
makeNetwork53.153 0.18856.028
plotKM0.3350.0450.428
plotLociNum0.3620.0250.394
plotLociTss0.0390.0090.049
prepareSurvival0.2170.0140.240
preprocessDnam1.6570.0721.869
sample2pat0.2700.0130.291
sampleData1.7733.1355.236
toyCleanedAml0.1490.0120.162
toyComputEloci109.787 3.725122.869
toyEigengenes81.925 0.59988.427
toyRawAml0.2090.0130.241