| Back to Multiple platform build/check report for BioC 3.21: simplified long | 
 | 
This page was generated on 2025-04-22 13:16 -0400 (Tue, 22 Apr 2025).
| Hostname | OS | Arch (*) | R version | Installed pkgs | 
|---|---|---|---|---|
| nebbiolo1 | Linux (Ubuntu 24.04.1 LTS) | x86_64 | 4.5.0 RC (2025-04-04 r88126) -- "How About a Twenty-Six" | 4831 | 
| palomino7 | Windows Server 2022 Datacenter | x64 | 4.5.0 RC (2025-04-04 r88126 ucrt) -- "How About a Twenty-Six" | 4573 | 
| lconway | macOS 12.7.1 Monterey | x86_64 | 4.5.0 RC (2025-04-04 r88126) -- "How About a Twenty-Six" | 4599 | 
| kjohnson3 | macOS 13.7.1 Ventura | arm64 | 4.5.0 RC (2025-04-04 r88126) -- "How About a Twenty-Six" | 4553 | 
| kunpeng2 | Linux (openEuler 24.03 LTS) | aarch64 | R Under development (unstable) (2025-02-19 r87757) -- "Unsuffered Consequences" | 4570 | 
| Click on any hostname to see more info about the system (e.g. compilers) (*) as reported by 'uname -p', except on Windows and Mac OS X | ||||
| Package 958/2341 | Hostname | OS / Arch | INSTALL | BUILD | CHECK | BUILD BIN | ||||||||
| heatmaps 1.32.0  (landing page) Malcolm Perry 
 | nebbiolo1 | Linux (Ubuntu 24.04.1 LTS) / x86_64 | OK | OK | OK |  | ||||||||
| palomino7 | Windows Server 2022 Datacenter / x64 | OK | OK | OK | OK |  | ||||||||
| lconway | macOS 12.7.1 Monterey / x86_64 | OK | OK | OK | OK |  | ||||||||
| kjohnson3 | macOS 13.7.1 Ventura / arm64 | OK | OK | OK | OK |  | ||||||||
| kunpeng2 | Linux (openEuler 24.03 LTS) / aarch64 | OK | OK | OK | ||||||||||
| To the developers/maintainers of the heatmaps package: - Allow up to 24 hours (and sometimes 48 hours) for your latest push to git@git.bioconductor.org:packages/heatmaps.git to reflect on this report. See Troubleshooting Build Report for more information. - Use the following Renviron settings to reproduce errors and warnings. - If 'R CMD check' started to fail recently on the Linux builder(s) over a missing dependency, add the missing dependency to 'Suggests:' in your DESCRIPTION file. See Renviron.bioc for more information. | 
| Package: heatmaps | 
| Version: 1.32.0 | 
| Command: /Library/Frameworks/R.framework/Resources/bin/R CMD check --install=check:heatmaps.install-out.txt --library=/Library/Frameworks/R.framework/Resources/library --no-vignettes --timings heatmaps_1.32.0.tar.gz | 
| StartedAt: 2025-04-21 21:12:22 -0400 (Mon, 21 Apr 2025) | 
| EndedAt: 2025-04-21 21:14:38 -0400 (Mon, 21 Apr 2025) | 
| EllapsedTime: 136.6 seconds | 
| RetCode: 0 | 
| Status: OK | 
| CheckDir: heatmaps.Rcheck | 
| Warnings: 0 | 
##############################################################################
##############################################################################
###
### Running command:
###
###   /Library/Frameworks/R.framework/Resources/bin/R CMD check --install=check:heatmaps.install-out.txt --library=/Library/Frameworks/R.framework/Resources/library --no-vignettes --timings heatmaps_1.32.0.tar.gz
###
##############################################################################
##############################################################################
* using log directory ‘/Users/biocbuild/bbs-3.21-bioc/meat/heatmaps.Rcheck’
* using R version 4.5.0 RC (2025-04-04 r88126)
* using platform: x86_64-apple-darwin20
* R was compiled by
    Apple clang version 14.0.0 (clang-1400.0.29.202)
    GNU Fortran (GCC) 14.2.0
* running under: macOS Monterey 12.7.6
* using session charset: UTF-8
* using option ‘--no-vignettes’
* checking for file ‘heatmaps/DESCRIPTION’ ... OK
* this is package ‘heatmaps’ version ‘1.32.0’
* checking package namespace information ... OK
* checking package dependencies ... OK
* checking if this is a source package ... OK
* checking if there is a namespace ... OK
* checking for hidden files and directories ... OK
* checking for portable file names ... OK
* checking for sufficient/correct file permissions ... OK
* checking whether package ‘heatmaps’ can be installed ... OK
* checking installed package size ... INFO
  installed size is  7.4Mb
  sub-directories of 1Mb or more:
    extdata   6.9Mb
* checking package directory ... OK
* checking ‘build’ directory ... OK
* checking DESCRIPTION meta-information ... OK
* checking top-level files ... OK
* checking for left-over files ... OK
* checking index information ... OK
* checking package subdirectories ... OK
* checking code files for non-ASCII characters ... OK
* checking R files for syntax errors ... OK
* checking whether the package can be loaded ... OK
* checking whether the package can be loaded with stated dependencies ... OK
* checking whether the package can be unloaded cleanly ... OK
* checking whether the namespace can be loaded with stated dependencies ... OK
* checking whether the namespace can be unloaded cleanly ... OK
* checking dependencies in R code ... OK
* checking S3 generic/method consistency ... OK
* checking replacement functions ... OK
* checking foreign function calls ... OK
* checking R code for possible problems ... NOTE
makeGaussian2D: no visible binding for global variable ‘dnorm’
Undefined global functions or variables:
  dnorm
Consider adding
  importFrom("stats", "dnorm")
to your NAMESPACE file.
* checking Rd files ... OK
* checking Rd metadata ... OK
* checking Rd cross-references ... OK
* checking for missing documentation entries ... OK
* checking for code/documentation mismatches ... OK
* checking Rd \usage sections ... OK
* checking Rd contents ... OK
* checking for unstated dependencies in examples ... OK
* checking contents of ‘data’ directory ... OK
* checking data for non-ASCII characters ... OK
* checking data for ASCII and uncompressed saves ... OK
* checking files in ‘vignettes’ ... OK
* checking examples ... OK
* checking for unstated dependencies in ‘tests’ ... OK
* checking tests ...
  Running ‘testthat.R’
 OK
* checking for unstated dependencies in vignettes ... OK
* checking package vignettes ... OK
* checking running R code from vignettes ... SKIPPED
* checking re-building of vignette outputs ... SKIPPED
* checking PDF version of manual ... OK
* DONE
Status: 1 NOTE
See
  ‘/Users/biocbuild/bbs-3.21-bioc/meat/heatmaps.Rcheck/00check.log’
for details.
heatmaps.Rcheck/00install.out
############################################################################## ############################################################################## ### ### Running command: ### ### /Library/Frameworks/R.framework/Resources/bin/R CMD INSTALL heatmaps ### ############################################################################## ############################################################################## * installing to library ‘/Library/Frameworks/R.framework/Versions/4.5-x86_64/Resources/library’ * installing *source* package ‘heatmaps’ ... ** this is package ‘heatmaps’ version ‘1.32.0’ ** using staged installation ** R ** data ** inst ** byte-compile and prepare package for lazy loading Creating a new generic function for ‘scale’ in package ‘heatmaps’ ** help *** installing help indices ** building package indices ** installing vignettes ** testing if installed package can be loaded from temporary location ** testing if installed package can be loaded from final location ** testing if installed package keeps a record of temporary installation path * DONE (heatmaps)
heatmaps.Rcheck/tests/testthat.Rout
R version 4.5.0 RC (2025-04-04 r88126) -- "How About a Twenty-Six"
Copyright (C) 2025 The R Foundation for Statistical Computing
Platform: x86_64-apple-darwin20
R is free software and comes with ABSOLUTELY NO WARRANTY.
You are welcome to redistribute it under certain conditions.
Type 'license()' or 'licence()' for distribution details.
R is a collaborative project with many contributors.
Type 'contributors()' for more information and
'citation()' on how to cite R or R packages in publications.
Type 'demo()' for some demos, 'help()' for on-line help, or
'help.start()' for an HTML browser interface to help.
Type 'q()' to quit R.
> library(testthat)
> library(heatmaps)
Attaching package: 'heatmaps'
The following object is masked from 'package:base':
    scale
> 
> test_check("heatmaps")
[ FAIL 0 | WARN 0 | SKIP 0 | PASS 22 ]
> 
> proc.time()
   user  system elapsed 
  5.545   0.361   5.938 
heatmaps.Rcheck/heatmaps-Ex.timings
| name | user | system | elapsed | |
| CoverageHeatmap | 0.263 | 0.008 | 0.273 | |
| Heatmap-class | 0.011 | 0.002 | 0.013 | |
| Heatmap | 0.008 | 0.001 | 0.010 | |
| PWMScanHeatmap | 0.031 | 0.003 | 0.034 | |
| PatternHeatmap | 0.047 | 0.003 | 0.049 | |
| coords | 0.395 | 0.004 | 0.401 | |
| default_color | 0.005 | 0.000 | 0.005 | |
| getScale | 0.001 | 0.000 | 0.000 | |
| heatmapOptions | 0.001 | 0.001 | 0.000 | |
| image | 0.010 | 0.001 | 0.011 | |
| label | 0.007 | 0.001 | 0.008 | |
| metadata | 0.007 | 0.001 | 0.008 | |
| nseq | 0.007 | 0.001 | 0.009 | |
| plotHeatmap | 0.026 | 0.003 | 0.028 | |
| plotHeatmapList | 0.064 | 0.009 | 0.074 | |
| plotHeatmapMeta | 0.035 | 0.003 | 0.039 | |
| plotPatternDensityMap | 0.204 | 0.022 | 0.228 | |
| plot_clusters | 0.056 | 0.003 | 0.060 | |
| plot_legend | 0.012 | 0.002 | 0.015 | |
| scale | 0.007 | 0.001 | 0.009 | |
| smoothHeatmap | 0.053 | 0.016 | 0.071 | |
| xm | 0.010 | 0.002 | 0.012 | |
| ym | 0.009 | 0.004 | 0.013 | |