| Back to Multiple platform build/check report for BioC 3.21: simplified long |
|
This page was generated on 2025-04-22 13:18 -0400 (Tue, 22 Apr 2025).
| Hostname | OS | Arch (*) | R version | Installed pkgs |
|---|---|---|---|---|
| nebbiolo1 | Linux (Ubuntu 24.04.1 LTS) | x86_64 | 4.5.0 RC (2025-04-04 r88126) -- "How About a Twenty-Six" | 4831 |
| palomino7 | Windows Server 2022 Datacenter | x64 | 4.5.0 RC (2025-04-04 r88126 ucrt) -- "How About a Twenty-Six" | 4573 |
| lconway | macOS 12.7.1 Monterey | x86_64 | 4.5.0 RC (2025-04-04 r88126) -- "How About a Twenty-Six" | 4599 |
| kjohnson3 | macOS 13.7.1 Ventura | arm64 | 4.5.0 RC (2025-04-04 r88126) -- "How About a Twenty-Six" | 4553 |
| kunpeng2 | Linux (openEuler 24.03 LTS) | aarch64 | R Under development (unstable) (2025-02-19 r87757) -- "Unsuffered Consequences" | 4570 |
| Click on any hostname to see more info about the system (e.g. compilers) (*) as reported by 'uname -p', except on Windows and Mac OS X | ||||
| Package 887/2341 | Hostname | OS / Arch | INSTALL | BUILD | CHECK | BUILD BIN | ||||||||
| glmSparseNet 1.26.0 (landing page) André Veríssimo
| nebbiolo1 | Linux (Ubuntu 24.04.1 LTS) / x86_64 | OK | OK | OK | |||||||||
| palomino7 | Windows Server 2022 Datacenter / x64 | OK | OK | OK | OK | |||||||||
| lconway | macOS 12.7.1 Monterey / x86_64 | OK | OK | OK | OK | |||||||||
| kjohnson3 | macOS 13.7.1 Ventura / arm64 | OK | OK | OK | OK | |||||||||
| kunpeng2 | Linux (openEuler 24.03 LTS) / aarch64 | OK | OK | OK | ||||||||||
|
To the developers/maintainers of the glmSparseNet package: - Allow up to 24 hours (and sometimes 48 hours) for your latest push to git@git.bioconductor.org:packages/glmSparseNet.git to reflect on this report. See Troubleshooting Build Report for more information. - Use the following Renviron settings to reproduce errors and warnings. - If 'R CMD check' started to fail recently on the Linux builder(s) over a missing dependency, add the missing dependency to 'Suggests:' in your DESCRIPTION file. See Renviron.bioc for more information. |
| Package: glmSparseNet |
| Version: 1.26.0 |
| Command: /Library/Frameworks/R.framework/Resources/bin/R CMD check --install=check:glmSparseNet.install-out.txt --library=/Library/Frameworks/R.framework/Resources/library --no-vignettes --timings glmSparseNet_1.26.0.tar.gz |
| StartedAt: 2025-04-21 19:39:31 -0400 (Mon, 21 Apr 2025) |
| EndedAt: 2025-04-21 19:40:16 -0400 (Mon, 21 Apr 2025) |
| EllapsedTime: 45.5 seconds |
| RetCode: 0 |
| Status: OK |
| CheckDir: glmSparseNet.Rcheck |
| Warnings: 0 |
##############################################################################
##############################################################################
###
### Running command:
###
### /Library/Frameworks/R.framework/Resources/bin/R CMD check --install=check:glmSparseNet.install-out.txt --library=/Library/Frameworks/R.framework/Resources/library --no-vignettes --timings glmSparseNet_1.26.0.tar.gz
###
##############################################################################
##############################################################################
* using log directory ‘/Users/biocbuild/bbs-3.21-bioc/meat/glmSparseNet.Rcheck’
* using R version 4.5.0 RC (2025-04-04 r88126)
* using platform: aarch64-apple-darwin20
* R was compiled by
Apple clang version 14.0.0 (clang-1400.0.29.202)
GNU Fortran (GCC) 14.2.0
* running under: macOS Ventura 13.7.1
* using session charset: UTF-8
* using option ‘--no-vignettes’
* checking for file ‘glmSparseNet/DESCRIPTION’ ... OK
* checking extension type ... Package
* this is package ‘glmSparseNet’ version ‘1.26.0’
* package encoding: UTF-8
* checking package namespace information ... OK
* checking package dependencies ... OK
* checking if this is a source package ... OK
* checking if there is a namespace ... OK
* checking for hidden files and directories ... OK
* checking for portable file names ... OK
* checking for sufficient/correct file permissions ... OK
* checking whether package ‘glmSparseNet’ can be installed ... OK
* checking installed package size ... OK
* checking package directory ... OK
* checking ‘build’ directory ... OK
* checking DESCRIPTION meta-information ... OK
* checking top-level files ... OK
* checking for left-over files ... OK
* checking index information ... OK
* checking package subdirectories ... OK
* checking code files for non-ASCII characters ... OK
* checking R files for syntax errors ... OK
* checking whether the package can be loaded ... OK
* checking whether the package can be loaded with stated dependencies ... OK
* checking whether the package can be unloaded cleanly ... OK
* checking whether the namespace can be loaded with stated dependencies ... OK
* checking whether the namespace can be unloaded cleanly ... OK
* checking whether startup messages can be suppressed ... OK
* checking dependencies in R code ... OK
* checking S3 generic/method consistency ... OK
* checking replacement functions ... OK
* checking foreign function calls ... OK
* checking R code for possible problems ... OK
* checking Rd files ... OK
* checking Rd metadata ... OK
* checking Rd cross-references ... OK
* checking for missing documentation entries ... OK
* checking for code/documentation mismatches ... OK
* checking Rd \usage sections ... OK
* checking Rd contents ... OK
* checking for unstated dependencies in examples ... OK
* checking contents of ‘data’ directory ... OK
* checking data for non-ASCII characters ... OK
* checking data for ASCII and uncompressed saves ... OK
* checking files in ‘vignettes’ ... OK
* checking examples ... OK
Examples with CPU (user + system) or elapsed time > 5s
user system elapsed
cv.glmSparseNet 5.745 0.181 5.978
* checking for unstated dependencies in ‘tests’ ... OK
* checking tests ...
Running ‘testthat.R’
OK
* checking for unstated dependencies in vignettes ... OK
* checking package vignettes ... OK
* checking running R code from vignettes ... SKIPPED
* checking re-building of vignette outputs ... SKIPPED
* checking PDF version of manual ... OK
* DONE
Status: OK
glmSparseNet.Rcheck/00install.out
############################################################################## ############################################################################## ### ### Running command: ### ### /Library/Frameworks/R.framework/Resources/bin/R CMD INSTALL glmSparseNet ### ############################################################################## ############################################################################## * installing to library ‘/Library/Frameworks/R.framework/Versions/4.5-arm64/Resources/library’ * installing *source* package ‘glmSparseNet’ ... ** this is package ‘glmSparseNet’ version ‘1.26.0’ ** using staged installation ** R ** data ** inst ** byte-compile and prepare package for lazy loading ** help *** installing help indices *** copying figures ** building package indices ** installing vignettes ** testing if installed package can be loaded from temporary location ** testing if installed package can be loaded from final location ** testing if installed package keeps a record of temporary installation path * DONE (glmSparseNet)
glmSparseNet.Rcheck/tests/testthat.Rout
R version 4.5.0 RC (2025-04-04 r88126) -- "How About a Twenty-Six"
Copyright (C) 2025 The R Foundation for Statistical Computing
Platform: aarch64-apple-darwin20
R is free software and comes with ABSOLUTELY NO WARRANTY.
You are welcome to redistribute it under certain conditions.
Type 'license()' or 'licence()' for distribution details.
R is a collaborative project with many contributors.
Type 'contributors()' for more information and
'citation()' on how to cite R or R packages in publications.
Type 'demo()' for some demos, 'help()' for on-line help, or
'help.start()' for an HTML browser interface to help.
Type 'q()' to quit R.
> library(testthat)
> library(glmSparseNet)
>
> test_check("glmSparseNet")
[ FAIL 0 | WARN 0 | SKIP 2 | PASS 215 ]
══ Skipped tests (2) ═══════════════════════════════════════════════════════════
• empty test (2): 'test-cache.R:38:1', 'test-cache.R:62:1'
[ FAIL 0 | WARN 0 | SKIP 2 | PASS 215 ]
>
> proc.time()
user system elapsed
10.900 2.439 12.608
glmSparseNet.Rcheck/glmSparseNet-Ex.timings
| name | user | system | elapsed | |
| balancedCvFolds | 0.002 | 0.001 | 0.002 | |
| buildLambda | 0.001 | 0.000 | 0.002 | |
| buildStringNetwork | 0 | 0 | 0 | |
| cv.glmSparseNet | 5.745 | 0.181 | 5.978 | |
| degreeCor | 0.004 | 0.002 | 0.005 | |
| degreeCov | 0.001 | 0.000 | 0.001 | |
| dot-baseDir | 0 | 0 | 0 | |
| dot-biomartLoad | 0.389 | 0.031 | 0.442 | |
| dot-buildFunctionDigest | 0.000 | 0.000 | 0.001 | |
| dot-cacheCompression | 0 | 0 | 0 | |
| dot-calcPenalty | 0.002 | 0.003 | 0.005 | |
| dot-calculateResult | 0 | 0 | 0 | |
| dot-createDirectoryForCache | 0.000 | 0.000 | 0.001 | |
| dot-curlWorkaround | 0 | 0 | 0 | |
| dot-digestCache | 0 | 0 | 0 | |
| dot-runCache | 0.001 | 0.000 | 0.001 | |
| dot-saveRunCache | 0 | 0 | 0 | |
| dot-showMessage | 0 | 0 | 0 | |
| dot-writeReadme | 0.001 | 0.000 | 0.000 | |
| downloadFileLocal | 0.008 | 0.011 | 0.168 | |
| ensemblGeneNames | 0.732 | 0.058 | 3.722 | |
| geneNames | 0.271 | 0.018 | 0.291 | |
| glmSparseNet | 0.626 | 0.021 | 0.663 | |
| heuristicScale | 0 | 0 | 0 | |
| hubHeuristic | 0.001 | 0.000 | 0.000 | |
| myColors | 0 | 0 | 0 | |
| mySymbols | 0.000 | 0.001 | 0.000 | |
| networkCorParallel | 0.007 | 0.001 | 0.009 | |
| networkCovParallel | 0.002 | 0.000 | 0.002 | |
| networkOptions | 0 | 0 | 0 | |
| orphanHeuristic | 0 | 0 | 0 | |
| protein2EnsemblGeneNames | 0.709 | 0.018 | 0.737 | |
| separate2GroupsCox | 0.802 | 0.049 | 0.862 | |
| stringDBhomoSapiens | 0 | 0 | 0 | |