| Back to Multiple platform build/check report for BioC 3.21: simplified long |
|
This page was generated on 2025-08-21 11:38 -0400 (Thu, 21 Aug 2025).
| Hostname | OS | Arch (*) | R version | Installed pkgs |
|---|---|---|---|---|
| nebbiolo1 | Linux (Ubuntu 24.04.3 LTS) | x86_64 | 4.5.1 (2025-06-13) -- "Great Square Root" | 4824 |
| merida1 | macOS 12.7.5 Monterey | x86_64 | 4.5.1 RC (2025-06-05 r88288) -- "Great Square Root" | 4604 |
| kjohnson1 | macOS 13.6.6 Ventura | arm64 | 4.5.1 Patched (2025-06-14 r88325) -- "Great Square Root" | 4545 |
| kunpeng2 | Linux (openEuler 24.03 LTS) | aarch64 | R Under development (unstable) (2025-02-19 r87757) -- "Unsuffered Consequences" | 4579 |
| Click on any hostname to see more info about the system (e.g. compilers) (*) as reported by 'uname -p', except on Windows and Mac OS X | ||||
| Package 708/2341 | Hostname | OS / Arch | INSTALL | BUILD | CHECK | BUILD BIN | ||||||||
| faers 1.4.0 (landing page) Yun Peng
| nebbiolo1 | Linux (Ubuntu 24.04.3 LTS) / x86_64 | OK | OK | OK | |||||||||
| merida1 | macOS 12.7.5 Monterey / x86_64 | OK | OK | OK | OK | |||||||||
| kjohnson1 | macOS 13.6.6 Ventura / arm64 | OK | OK | OK | OK | |||||||||
| kunpeng2 | Linux (openEuler 24.03 LTS) / aarch64 | OK | OK | OK | ||||||||||
|
To the developers/maintainers of the faers package: - Allow up to 24 hours (and sometimes 48 hours) for your latest push to git@git.bioconductor.org:packages/faers.git to reflect on this report. See Troubleshooting Build Report for more information. - Use the following Renviron settings to reproduce errors and warnings. - If 'R CMD check' started to fail recently on the Linux builder(s) over a missing dependency, add the missing dependency to 'Suggests:' in your DESCRIPTION file. See Renviron.bioc for more information. |
| Package: faers |
| Version: 1.4.0 |
| Command: /home/biocbuild/bbs-3.21-bioc/R/bin/R CMD check --install=check:faers.install-out.txt --library=/home/biocbuild/bbs-3.21-bioc/R/site-library --timings faers_1.4.0.tar.gz |
| StartedAt: 2025-08-20 22:27:38 -0400 (Wed, 20 Aug 2025) |
| EndedAt: 2025-08-20 22:28:52 -0400 (Wed, 20 Aug 2025) |
| EllapsedTime: 74.2 seconds |
| RetCode: 0 |
| Status: OK |
| CheckDir: faers.Rcheck |
| Warnings: 0 |
##############################################################################
##############################################################################
###
### Running command:
###
### /home/biocbuild/bbs-3.21-bioc/R/bin/R CMD check --install=check:faers.install-out.txt --library=/home/biocbuild/bbs-3.21-bioc/R/site-library --timings faers_1.4.0.tar.gz
###
##############################################################################
##############################################################################
* using log directory ‘/home/biocbuild/bbs-3.21-bioc/meat/faers.Rcheck’
* using R version 4.5.1 (2025-06-13)
* using platform: x86_64-pc-linux-gnu
* R was compiled by
gcc (Ubuntu 13.3.0-6ubuntu2~24.04) 13.3.0
GNU Fortran (Ubuntu 13.3.0-6ubuntu2~24.04) 13.3.0
* running under: Ubuntu 24.04.3 LTS
* using session charset: UTF-8
* checking for file ‘faers/DESCRIPTION’ ... OK
* this is package ‘faers’ version ‘1.4.0’
* package encoding: UTF-8
* checking package namespace information ... OK
* checking package dependencies ... OK
* checking if this is a source package ... OK
* checking if there is a namespace ... OK
* checking for hidden files and directories ... OK
* checking for portable file names ... OK
* checking for sufficient/correct file permissions ... OK
* checking whether package ‘faers’ can be installed ... OK
* checking installed package size ... OK
* checking package directory ... OK
* checking ‘build’ directory ... OK
* checking DESCRIPTION meta-information ... OK
* checking top-level files ... OK
* checking for left-over files ... OK
* checking index information ... OK
* checking package subdirectories ... OK
* checking code files for non-ASCII characters ... OK
* checking R files for syntax errors ... OK
* checking whether the package can be loaded ... OK
* checking whether the package can be loaded with stated dependencies ... OK
* checking whether the package can be unloaded cleanly ... OK
* checking whether the namespace can be loaded with stated dependencies ... OK
* checking whether the namespace can be unloaded cleanly ... OK
* checking loading without being on the library search path ... OK
* checking dependencies in R code ... OK
* checking S3 generic/method consistency ... OK
* checking replacement functions ... OK
* checking foreign function calls ... OK
* checking R code for possible problems ... OK
* checking Rd files ... OK
* checking Rd metadata ... OK
* checking Rd cross-references ... OK
* checking for missing documentation entries ... OK
* checking for code/documentation mismatches ... OK
* checking Rd \usage sections ... OK
* checking Rd contents ... OK
* checking for unstated dependencies in examples ... OK
* checking files in ‘vignettes’ ... OK
* checking examples ... OK
* checking for unstated dependencies in ‘tests’ ... OK
* checking tests ...
Running ‘testthat.R’
OK
* checking for unstated dependencies in vignettes ... OK
* checking package vignettes ... OK
* checking re-building of vignette outputs ... OK
* checking PDF version of manual ... OK
* DONE
Status: OK
faers.Rcheck/00install.out
############################################################################## ############################################################################## ### ### Running command: ### ### /home/biocbuild/bbs-3.21-bioc/R/bin/R CMD INSTALL faers ### ############################################################################## ############################################################################## * installing to library ‘/home/biocbuild/bbs-3.21-bioc/R/site-library’ * installing *source* package ‘faers’ ... ** this is package ‘faers’ version ‘1.4.0’ ** using staged installation ** R ** inst ** byte-compile and prepare package for lazy loading ** help *** installing help indices ** building package indices ** installing vignettes ** testing if installed package can be loaded from temporary location ** testing if installed package can be loaded from final location ** testing if installed package keeps a record of temporary installation path * DONE (faers)
faers.Rcheck/tests/testthat.Rout
R version 4.5.1 (2025-06-13) -- "Great Square Root"
Copyright (C) 2025 The R Foundation for Statistical Computing
Platform: x86_64-pc-linux-gnu
R is free software and comes with ABSOLUTELY NO WARRANTY.
You are welcome to redistribute it under certain conditions.
Type 'license()' or 'licence()' for distribution details.
R is a collaborative project with many contributors.
Type 'contributors()' for more information and
'citation()' on how to cite R or R packages in publications.
Type 'demo()' for some demos, 'help()' for on-line help, or
'help.start()' for an HTML browser interface to help.
Type 'q()' to quit R.
> # This file is part of the standard setup for testthat.
> # It is recommended that you do not modify it.
> #
> # Where should you do additional test configuration?
> # Learn more about the roles of various files in:
> # * https://r-pkgs.org/testing-design.html#sec-tests-files-overview
> # * https://testthat.r-lib.org/articles/special-files.html
>
> library(testthat)
> library(faers)
>
> test_check("faers")
Starting 2 test processes
[ FAIL 0 | WARN 0 | SKIP 16 | PASS 274 ]
══ Skipped tests (16) ══════════════════════════════════════════════════════════
• On CRAN (1): 'test_meta.R:2:5'
• dir.exists("~/Data/MedDRA/MedDRA_26_1_English") is not TRUE (15):
'test_counts.R:2:5', 'test_dedup.R:2:5', 'test_combine.R:49:5',
'test_combine.R:78:5', 'test_meddra.R:6:5', 'test_merge.R:57:5',
'test_signal.R:2:5', 'test_signal.R:29:5', 'test_standardize.R:2:5',
'test_methods.R:103:5', 'test_methods.R:147:5', 'test_methods.R:195:5',
'test_methods.R:218:5', 'test_methods.R:241:5', 'test_methods.R:550:5'
[ FAIL 0 | WARN 0 | SKIP 16 | PASS 274 ]
>
> proc.time()
user system elapsed
8.291 0.600 5.642
faers.Rcheck/faers-Ex.timings
| name | user | system | elapsed | |
| FAERS-class | 0.389 | 0.040 | 0.430 | |
| FAERS-methods | 0.159 | 0.064 | 0.223 | |
| faers | 0.041 | 0.003 | 0.044 | |
| faers_available | 1.330 | 0.037 | 1.913 | |
| faers_before_period | 0.001 | 0.000 | 0.000 | |
| faers_clearcache | 0.008 | 0.003 | 0.011 | |
| faers_combine | 0.075 | 0.003 | 0.079 | |
| faers_counts | 0.472 | 0.008 | 0.479 | |
| faers_dedup | 0.118 | 0.004 | 0.119 | |
| faers_download | 0.028 | 0.000 | 0.028 | |
| faers_load | 0.005 | 0.000 | 0.005 | |
| faers_merge | 0.087 | 0.006 | 0.093 | |
| faers_meta | 1.227 | 0.011 | 1.533 | |
| faers_parse | 0.030 | 0.000 | 0.029 | |
| faers_phv_signal | 0.123 | 0.002 | 0.124 | |
| faers_standardize | 0.116 | 0.000 | 0.116 | |
| fda_drugs | 1.182 | 0.207 | 1.750 | |
| phv_signal | 2.286 | 0.327 | 2.614 | |