| Back to Multiple platform build/check report for BioC 3.21: simplified long |
|
This page was generated on 2025-08-18 11:41 -0400 (Mon, 18 Aug 2025).
| Hostname | OS | Arch (*) | R version | Installed pkgs |
|---|---|---|---|---|
| nebbiolo1 | Linux (Ubuntu 24.04.3 LTS) | x86_64 | 4.5.1 (2025-06-13) -- "Great Square Root" | 4824 |
| palomino7 | Windows Server 2022 Datacenter | x64 | 4.5.1 (2025-06-13 ucrt) -- "Great Square Root" | 4566 |
| merida1 | macOS 12.7.5 Monterey | x86_64 | 4.5.1 RC (2025-06-05 r88288) -- "Great Square Root" | 4604 |
| kjohnson1 | macOS 13.6.6 Ventura | arm64 | 4.5.1 Patched (2025-06-14 r88325) -- "Great Square Root" | 4545 |
| kunpeng2 | Linux (openEuler 24.03 LTS) | aarch64 | R Under development (unstable) (2025-02-19 r87757) -- "Unsuffered Consequences" | 4579 |
| Click on any hostname to see more info about the system (e.g. compilers) (*) as reported by 'uname -p', except on Windows and Mac OS X | ||||
| Package 595/2341 | Hostname | OS / Arch | INSTALL | BUILD | CHECK | BUILD BIN | ||||||||
| dittoSeq 1.20.0 (landing page) Daniel Bunis
| nebbiolo1 | Linux (Ubuntu 24.04.3 LTS) / x86_64 | OK | OK | OK | |||||||||
| palomino7 | Windows Server 2022 Datacenter / x64 | OK | OK | OK | OK | |||||||||
| merida1 | macOS 12.7.5 Monterey / x86_64 | OK | OK | OK | OK | |||||||||
| kjohnson1 | macOS 13.6.6 Ventura / arm64 | OK | OK | OK | OK | |||||||||
| kunpeng2 | Linux (openEuler 24.03 LTS) / aarch64 | OK | OK | OK | ||||||||||
|
To the developers/maintainers of the dittoSeq package: - Allow up to 24 hours (and sometimes 48 hours) for your latest push to git@git.bioconductor.org:packages/dittoSeq.git to reflect on this report. See Troubleshooting Build Report for more information. - Use the following Renviron settings to reproduce errors and warnings. - If 'R CMD check' started to fail recently on the Linux builder(s) over a missing dependency, add the missing dependency to 'Suggests:' in your DESCRIPTION file. See Renviron.bioc for more information. |
| Package: dittoSeq |
| Version: 1.20.0 |
| Command: E:\biocbuild\bbs-3.21-bioc\R\bin\R.exe CMD check --no-multiarch --install=check:dittoSeq.install-out.txt --library=E:\biocbuild\bbs-3.21-bioc\R\library --no-vignettes --timings dittoSeq_1.20.0.tar.gz |
| StartedAt: 2025-08-15 01:35:52 -0400 (Fri, 15 Aug 2025) |
| EndedAt: 2025-08-15 01:44:40 -0400 (Fri, 15 Aug 2025) |
| EllapsedTime: 528.1 seconds |
| RetCode: 0 |
| Status: OK |
| CheckDir: dittoSeq.Rcheck |
| Warnings: 0 |
##############################################################################
##############################################################################
###
### Running command:
###
### E:\biocbuild\bbs-3.21-bioc\R\bin\R.exe CMD check --no-multiarch --install=check:dittoSeq.install-out.txt --library=E:\biocbuild\bbs-3.21-bioc\R\library --no-vignettes --timings dittoSeq_1.20.0.tar.gz
###
##############################################################################
##############################################################################
* using log directory 'E:/biocbuild/bbs-3.21-bioc/meat/dittoSeq.Rcheck'
* using R version 4.5.1 (2025-06-13 ucrt)
* using platform: x86_64-w64-mingw32
* R was compiled by
gcc.exe (GCC) 14.2.0
GNU Fortran (GCC) 14.2.0
* running under: Windows Server 2022 x64 (build 20348)
* using session charset: UTF-8
* using option '--no-vignettes'
* checking for file 'dittoSeq/DESCRIPTION' ... OK
* checking extension type ... Package
* this is package 'dittoSeq' version '1.20.0'
* package encoding: UTF-8
* checking package namespace information ... OK
* checking package dependencies ... OK
* checking if this is a source package ... OK
* checking if there is a namespace ... OK
* checking for hidden files and directories ... OK
* checking for portable file names ... OK
* checking whether package 'dittoSeq' can be installed ... OK
* checking installed package size ... OK
* checking package directory ... OK
* checking 'build' directory ... OK
* checking DESCRIPTION meta-information ... NOTE
License stub is invalid DCF.
* checking top-level files ... OK
* checking for left-over files ... OK
* checking index information ... OK
* checking package subdirectories ... OK
* checking code files for non-ASCII characters ... OK
* checking R files for syntax errors ... OK
* checking whether the package can be loaded ... OK
* checking whether the package can be loaded with stated dependencies ... OK
* checking whether the package can be unloaded cleanly ... OK
* checking whether the namespace can be loaded with stated dependencies ... OK
* checking whether the namespace can be unloaded cleanly ... OK
* checking dependencies in R code ... OK
* checking S3 generic/method consistency ... OK
* checking replacement functions ... OK
* checking foreign function calls ... OK
* checking R code for possible problems ... OK
* checking Rd files ... NOTE
checkRd: (-1) Darken.Rd:10: Lost braces
10 | \item{colors}{the color(s) input. Can be a list of colors, for example, /code{dittoColors()}.}
| ^
checkRd: (-1) Lighten.Rd:10: Lost braces
10 | \item{colors}{the color(s) input. Can be a list of colors, for example, /code{dittoColors()}.}
| ^
* checking Rd metadata ... OK
* checking Rd cross-references ... NOTE
Found the following Rd file(s) with Rd \link{} targets missing package
anchors:
addDimReduction.Rd: SingleCellExperiment-class
addPrcomp.Rd: SingleCellExperiment-class
dittoDimPlot.Rd: ggrepel, SingleCellExperiment
dittoFreqPlot.Rd: geom_violin
dittoHeatmap.Rd: pheatmap
dittoHex.Rd: ggrepel
dittoPlot.Rd: geom_violin
dittoPlotVarsAcrossGroups.Rd: geom_violin
dittoScatterPlot.Rd: ggrepel
importDittoBulk.Rd: SummarizedExperiment-class,
SingleCellExperiment-class
setBulk.Rd: SingleCellExperiment-class
Please provide package anchors for all Rd \link{} targets not in the
package itself and the base packages.
* checking for missing documentation entries ... OK
* checking for code/documentation mismatches ... OK
* checking Rd \usage sections ... OK
* checking Rd contents ... OK
* checking for unstated dependencies in examples ... OK
* checking contents of 'data' directory ... OK
* checking data for non-ASCII characters ... OK
* checking LazyData ... OK
* checking data for ASCII and uncompressed saves ... OK
* checking files in 'vignettes' ... OK
* checking examples ... OK
Examples with CPU (user + system) or elapsed time > 5s
user system elapsed
dittoPlot 10.47 0.19 10.66
dittoHex 9.22 0.17 9.72
multi_dittoDimPlotVaryCells 7.97 0.21 8.19
dittoFreqPlot 7.62 0.15 8.01
dittoDimPlot 6.77 0.28 8.02
dittoScatterPlot 6.76 0.19 7.07
multi_dittoPlot 6.19 0.18 6.39
dittoDotPlot 6.14 0.10 6.25
dittoHeatmap 4.94 0.74 4.86
* checking for unstated dependencies in 'tests' ... OK
* checking tests ...
Running 'testthat.R'
OK
* checking for unstated dependencies in vignettes ... OK
* checking package vignettes ... OK
* checking running R code from vignettes ... SKIPPED
* checking re-building of vignette outputs ... SKIPPED
* checking PDF version of manual ... OK
* DONE
Status: 3 NOTEs
See
'E:/biocbuild/bbs-3.21-bioc/meat/dittoSeq.Rcheck/00check.log'
for details.
dittoSeq.Rcheck/00install.out
############################################################################## ############################################################################## ### ### Running command: ### ### E:\biocbuild\bbs-3.21-bioc\R\bin\R.exe CMD INSTALL dittoSeq ### ############################################################################## ############################################################################## * installing to library 'E:/biocbuild/bbs-3.21-bioc/R/library' * installing *source* package 'dittoSeq' ... ** this is package 'dittoSeq' version '1.20.0' ** using staged installation ** R ** data *** moving datasets to lazyload DB ** inst ** byte-compile and prepare package for lazy loading ** help *** installing help indices ** building package indices ** installing vignettes ** testing if installed package can be loaded from temporary location ** testing if installed package can be loaded from final location ** testing if installed package keeps a record of temporary installation path * DONE (dittoSeq)
dittoSeq.Rcheck/tests/testthat.Rout
R version 4.5.1 (2025-06-13 ucrt) -- "Great Square Root"
Copyright (C) 2025 The R Foundation for Statistical Computing
Platform: x86_64-w64-mingw32/x64
R is free software and comes with ABSOLUTELY NO WARRANTY.
You are welcome to redistribute it under certain conditions.
Type 'license()' or 'licence()' for distribution details.
R is a collaborative project with many contributors.
Type 'contributors()' for more information and
'citation()' on how to cite R or R packages in publications.
Type 'demo()' for some demos, 'help()' for on-line help, or
'help.start()' for an HTML browser interface to help.
Type 'q()' to quit R.
> library(testthat)
> test_check("dittoSeq")
Loading required package: dittoSeq
Loading required package: ggplot2
Loading required package: SummarizedExperiment
Loading required package: MatrixGenerics
Loading required package: matrixStats
Attaching package: 'MatrixGenerics'
The following objects are masked from 'package:matrixStats':
colAlls, colAnyNAs, colAnys, colAvgsPerRowSet, colCollapse,
colCounts, colCummaxs, colCummins, colCumprods, colCumsums,
colDiffs, colIQRDiffs, colIQRs, colLogSumExps, colMadDiffs,
colMads, colMaxs, colMeans2, colMedians, colMins, colOrderStats,
colProds, colQuantiles, colRanges, colRanks, colSdDiffs, colSds,
colSums2, colTabulates, colVarDiffs, colVars, colWeightedMads,
colWeightedMeans, colWeightedMedians, colWeightedSds,
colWeightedVars, rowAlls, rowAnyNAs, rowAnys, rowAvgsPerColSet,
rowCollapse, rowCounts, rowCummaxs, rowCummins, rowCumprods,
rowCumsums, rowDiffs, rowIQRDiffs, rowIQRs, rowLogSumExps,
rowMadDiffs, rowMads, rowMaxs, rowMeans2, rowMedians, rowMins,
rowOrderStats, rowProds, rowQuantiles, rowRanges, rowRanks,
rowSdDiffs, rowSds, rowSums2, rowTabulates, rowVarDiffs, rowVars,
rowWeightedMads, rowWeightedMeans, rowWeightedMedians,
rowWeightedSds, rowWeightedVars
Loading required package: GenomicRanges
Loading required package: stats4
Loading required package: BiocGenerics
Loading required package: generics
Attaching package: 'generics'
The following objects are masked from 'package:base':
as.difftime, as.factor, as.ordered, intersect, is.element, setdiff,
setequal, union
Attaching package: 'BiocGenerics'
The following objects are masked from 'package:stats':
IQR, mad, sd, var, xtabs
The following objects are masked from 'package:base':
Filter, Find, Map, Position, Reduce, anyDuplicated, aperm, append,
as.data.frame, basename, cbind, colnames, dirname, do.call,
duplicated, eval, evalq, get, grep, grepl, is.unsorted, lapply,
mapply, match, mget, order, paste, pmax, pmax.int, pmin, pmin.int,
rank, rbind, rownames, sapply, saveRDS, table, tapply, unique,
unsplit, which.max, which.min
Loading required package: S4Vectors
Attaching package: 'S4Vectors'
The following object is masked from 'package:utils':
findMatches
The following objects are masked from 'package:base':
I, expand.grid, unname
Loading required package: IRanges
Attaching package: 'IRanges'
The following object is masked from 'package:grDevices':
windows
Loading required package: GenomeInfoDb
Loading required package: Biobase
Welcome to Bioconductor
Vignettes contain introductory material; view with
'browseVignettes()'. To cite Bioconductor, see
'citation("Biobase")', and for packages 'citation("pkgname")'.
Attaching package: 'Biobase'
The following object is masked from 'package:MatrixGenerics':
rowMedians
The following objects are masked from 'package:matrixStats':
anyMissing, rowMedians
[ FAIL 0 | WARN 70 | SKIP 0 | PASS 846 ]
[ FAIL 0 | WARN 70 | SKIP 0 | PASS 846 ]
>
> proc.time()
user system elapsed
197.98 4.71 201.96
dittoSeq.Rcheck/dittoSeq-Ex.timings
| name | user | system | elapsed | |
| Darken | 0.02 | 0.00 | 0.02 | |
| Lighten | 0 | 0 | 0 | |
| Simulate | 2.14 | 0.14 | 2.28 | |
| addDimReduction | 1.01 | 0.04 | 1.08 | |
| addPrcomp | 1.47 | 0.02 | 1.50 | |
| demux.SNP.summary | 1.28 | 0.06 | 1.58 | |
| demux.calls.summary | 1.81 | 0.10 | 1.94 | |
| dittoBarPlot | 2.64 | 0.14 | 2.80 | |
| dittoColors | 0.03 | 0.04 | 0.07 | |
| dittoDimPlot | 6.77 | 0.28 | 8.02 | |
| dittoDotPlot | 6.14 | 0.10 | 6.25 | |
| dittoFreqPlot | 7.62 | 0.15 | 8.01 | |
| dittoHeatmap | 4.94 | 0.74 | 4.86 | |
| dittoHex | 9.22 | 0.17 | 9.72 | |
| dittoPlot | 10.47 | 0.19 | 10.66 | |
| dittoPlotVarsAcrossGroups | 3.69 | 0.12 | 3.80 | |
| dittoScatterPlot | 6.76 | 0.19 | 7.07 | |
| gene | 4.19 | 0.36 | 4.57 | |
| getGenes | 0.89 | 0.06 | 0.95 | |
| getMetas | 1.82 | 0.05 | 1.88 | |
| getReductions | 0.87 | 0.09 | 1.00 | |
| importDemux | 2.06 | 0.11 | 2.18 | |
| importDittoBulk | 0.73 | 0.03 | 0.76 | |
| isBulk | 0.65 | 0.05 | 0.69 | |
| isGene | 0.88 | 0.02 | 0.89 | |
| isMeta | 0.76 | 0.06 | 0.83 | |
| meta | 0.77 | 0.04 | 0.80 | |
| metaLevels | 0.64 | 0.04 | 0.69 | |
| multi_dittoDimPlot | 3.33 | 0.03 | 3.36 | |
| multi_dittoDimPlotVaryCells | 7.97 | 0.21 | 8.19 | |
| multi_dittoPlot | 6.19 | 0.18 | 6.39 | |
| setBulk | 1.06 | 0.04 | 1.11 | |