| Back to Multiple platform build/check report for BioC 3.21: simplified long |
|
This page was generated on 2025-10-16 11:37 -0400 (Thu, 16 Oct 2025).
| Hostname | OS | Arch (*) | R version | Installed pkgs |
|---|---|---|---|---|
| nebbiolo1 | Linux (Ubuntu 24.04.3 LTS) | x86_64 | 4.5.1 (2025-06-13) -- "Great Square Root" | 4833 |
| merida1 | macOS 12.7.6 Monterey | x86_64 | 4.5.1 RC (2025-06-05 r88288) -- "Great Square Root" | 4614 |
| kjohnson1 | macOS 13.7.5 Ventura | arm64 | 4.5.1 Patched (2025-06-14 r88325) -- "Great Square Root" | 4555 |
| kunpeng2 | Linux (openEuler 24.03 LTS) | aarch64 | R Under development (unstable) (2025-02-19 r87757) -- "Unsuffered Consequences" | 4586 |
| Click on any hostname to see more info about the system (e.g. compilers) (*) as reported by 'uname -p', except on Windows and Mac OS X | ||||
| Package 417/2341 | Hostname | OS / Arch | INSTALL | BUILD | CHECK | BUILD BIN | ||||||||
| cola 2.14.0 (landing page) Zuguang Gu
| nebbiolo1 | Linux (Ubuntu 24.04.3 LTS) / x86_64 | OK | OK | OK | |||||||||
| merida1 | macOS 12.7.6 Monterey / x86_64 | OK | OK | OK | OK | |||||||||
| kjohnson1 | macOS 13.7.5 Ventura / arm64 | OK | OK | OK | OK | |||||||||
| kunpeng2 | Linux (openEuler 24.03 LTS) / aarch64 | OK | OK | OK | ||||||||||
|
To the developers/maintainers of the cola package: - Allow up to 24 hours (and sometimes 48 hours) for your latest push to git@git.bioconductor.org:packages/cola.git to reflect on this report. See Troubleshooting Build Report for more information. - Use the following Renviron settings to reproduce errors and warnings. - If 'R CMD check' started to fail recently on the Linux builder(s) over a missing dependency, add the missing dependency to 'Suggests:' in your DESCRIPTION file. See Renviron.bioc for more information. |
| Package: cola |
| Version: 2.14.0 |
| Command: /home/biocbuild/bbs-3.21-bioc/R/bin/R CMD check --install=check:cola.install-out.txt --library=/home/biocbuild/bbs-3.21-bioc/R/site-library --timings cola_2.14.0.tar.gz |
| StartedAt: 2025-10-15 21:56:04 -0400 (Wed, 15 Oct 2025) |
| EndedAt: 2025-10-15 21:58:59 -0400 (Wed, 15 Oct 2025) |
| EllapsedTime: 175.1 seconds |
| RetCode: 0 |
| Status: OK |
| CheckDir: cola.Rcheck |
| Warnings: 0 |
##############################################################################
##############################################################################
###
### Running command:
###
### /home/biocbuild/bbs-3.21-bioc/R/bin/R CMD check --install=check:cola.install-out.txt --library=/home/biocbuild/bbs-3.21-bioc/R/site-library --timings cola_2.14.0.tar.gz
###
##############################################################################
##############################################################################
* using log directory ‘/home/biocbuild/bbs-3.21-bioc/meat/cola.Rcheck’
* using R version 4.5.1 (2025-06-13)
* using platform: x86_64-pc-linux-gnu
* R was compiled by
gcc (Ubuntu 13.3.0-6ubuntu2~24.04) 13.3.0
GNU Fortran (Ubuntu 13.3.0-6ubuntu2~24.04) 13.3.0
* running under: Ubuntu 24.04.3 LTS
* using session charset: UTF-8
* checking for file ‘cola/DESCRIPTION’ ... OK
* checking extension type ... Package
* this is package ‘cola’ version ‘2.14.0’
* checking package namespace information ... OK
* checking package dependencies ... INFO
Imports includes 27 non-default packages.
Importing from so many packages makes the package vulnerable to any of
them becoming unavailable. Move as many as possible to Suggests and
use conditionally.
* checking if this is a source package ... OK
* checking if there is a namespace ... OK
* checking for hidden files and directories ... OK
* checking for portable file names ... OK
* checking for sufficient/correct file permissions ... OK
* checking whether package ‘cola’ can be installed ... OK
* used C++ compiler: ‘g++ (Ubuntu 13.3.0-6ubuntu2~24.04) 13.3.0’
* checking installed package size ... INFO
installed size is 6.1Mb
sub-directories of 1Mb or more:
data 3.3Mb
libs 1.1Mb
* checking package directory ... OK
* checking ‘build’ directory ... OK
* checking DESCRIPTION meta-information ... NOTE
License stub is invalid DCF.
* checking top-level files ... OK
* checking for left-over files ... OK
* checking index information ... OK
* checking package subdirectories ... OK
* checking code files for non-ASCII characters ... OK
* checking R files for syntax errors ... OK
* checking whether the package can be loaded ... OK
* checking whether the package can be loaded with stated dependencies ... OK
* checking whether the package can be unloaded cleanly ... OK
* checking whether the namespace can be loaded with stated dependencies ... OK
* checking whether the namespace can be unloaded cleanly ... OK
* checking loading without being on the library search path ... OK
* checking whether startup messages can be suppressed ... OK
* checking dependencies in R code ... OK
* checking S3 generic/method consistency ... OK
* checking replacement functions ... OK
* checking foreign function calls ... OK
* checking R code for possible problems ... OK
* checking Rd files ... OK
* checking Rd metadata ... OK
* checking Rd cross-references ... NOTE
Non-topic package-anchored link(s) in Rd file 'collect_classes-ConsensusPartitionList-method.Rd':
‘[ComplexHeatmap:draw-HeatmapList-method]{draw,HeatmapList-method}’
See section 'Cross-references' in the 'Writing R Extensions' manual.
Found the following Rd file(s) with Rd \link{} targets missing package
anchors:
predict_classes-ConsensusPartition-method.Rd: colorRamp2
predict_classes-matrix-method.Rd: colorRamp2
Please provide package anchors for all Rd \link{} targets not in the
package itself and the base packages.
* checking for missing documentation entries ... OK
* checking for code/documentation mismatches ... OK
* checking Rd \usage sections ... OK
* checking Rd contents ... OK
* checking for unstated dependencies in examples ... OK
* checking contents of ‘data’ directory ... OK
* checking data for non-ASCII characters ... OK
* checking data for ASCII and uncompressed saves ... OK
* checking line endings in C/C++/Fortran sources/headers ... OK
* checking compiled code ... NOTE
Note: information on .o files is not available
* checking files in ‘vignettes’ ... OK
* checking examples ... OK
Examples with CPU (user + system) or elapsed time > 5s
user system elapsed
consensus_partition 18.516 0.235 18.751
* checking for unstated dependencies in ‘tests’ ... OK
* checking tests ...
Running ‘test-all.R’
OK
* checking for unstated dependencies in vignettes ... OK
* checking package vignettes ... OK
* checking re-building of vignette outputs ... OK
* checking PDF version of manual ... OK
* DONE
Status: 3 NOTEs
See
‘/home/biocbuild/bbs-3.21-bioc/meat/cola.Rcheck/00check.log’
for details.
cola.Rcheck/00install.out
############################################################################## ############################################################################## ### ### Running command: ### ### /home/biocbuild/bbs-3.21-bioc/R/bin/R CMD INSTALL cola ### ############################################################################## ############################################################################## * installing to library ‘/home/biocbuild/bbs-3.21-bioc/R/site-library’ * installing *source* package ‘cola’ ... ** this is package ‘cola’ version ‘2.14.0’ ** using staged installation ** libs using C++ compiler: ‘g++ (Ubuntu 13.3.0-6ubuntu2~24.04) 13.3.0’ g++ -std=gnu++17 -I"/home/biocbuild/bbs-3.21-bioc/R/include" -DNDEBUG -I'/home/biocbuild/bbs-3.21-bioc/R/site-library/Rcpp/include' -I/usr/local/include -fpic -g -O2 -Wall -Werror=format-security -c RcppExports.cpp -o RcppExports.o g++ -std=gnu++17 -I"/home/biocbuild/bbs-3.21-bioc/R/include" -DNDEBUG -I'/home/biocbuild/bbs-3.21-bioc/R/site-library/Rcpp/include' -I/usr/local/include -fpic -g -O2 -Wall -Werror=format-security -c atc.cpp -o atc.o g++ -std=gnu++17 -I"/home/biocbuild/bbs-3.21-bioc/R/include" -DNDEBUG -I'/home/biocbuild/bbs-3.21-bioc/R/site-library/Rcpp/include' -I/usr/local/include -fpic -g -O2 -Wall -Werror=format-security -c cal_consensus_mat.cpp -o cal_consensus_mat.o g++ -std=gnu++17 -I"/home/biocbuild/bbs-3.21-bioc/R/include" -DNDEBUG -I'/home/biocbuild/bbs-3.21-bioc/R/site-library/Rcpp/include' -I/usr/local/include -fpic -g -O2 -Wall -Werror=format-security -c pdist.cpp -o pdist.o g++ -std=gnu++17 -shared -L/home/biocbuild/bbs-3.21-bioc/R/lib -L/usr/local/lib -o cola.so RcppExports.o atc.o cal_consensus_mat.o pdist.o -L/home/biocbuild/bbs-3.21-bioc/R/lib -lR installing to /home/biocbuild/bbs-3.21-bioc/R/site-library/00LOCK-cola/00new/cola/libs ** R ** data ** inst ** byte-compile and prepare package for lazy loading ** help *** installing help indices ** building package indices ** installing vignettes ** testing if installed package can be loaded from temporary location ** checking absolute paths in shared objects and dynamic libraries ** testing if installed package can be loaded from final location ** testing if installed package keeps a record of temporary installation path * DONE (cola)
cola.Rcheck/tests/test-all.Rout
R version 4.5.1 (2025-06-13) -- "Great Square Root"
Copyright (C) 2025 The R Foundation for Statistical Computing
Platform: x86_64-pc-linux-gnu
R is free software and comes with ABSOLUTELY NO WARRANTY.
You are welcome to redistribute it under certain conditions.
Type 'license()' or 'licence()' for distribution details.
R is a collaborative project with many contributors.
Type 'contributors()' for more information and
'citation()' on how to cite R or R packages in publications.
Type 'demo()' for some demos, 'help()' for on-line help, or
'help.start()' for an HTML browser interface to help.
Type 'q()' to quit R.
> library(testthat)
> suppressWarnings(suppressPackageStartupMessages(library(cola)))
>
> test_check("cola")
[ FAIL 0 | WARN 0 | SKIP 0 | PASS 18 ]
>
>
> proc.time()
user system elapsed
3.975 0.260 4.224
cola.Rcheck/cola-Ex.timings
| name | user | system | elapsed | |
| ATC | 0.024 | 0.003 | 0.027 | |
| ATC_approx | 0 | 0 | 0 | |
| ConsensusPartition-class | 0 | 0 | 0 | |
| ConsensusPartitionList-class | 0 | 0 | 0 | |
| DownSamplingConsensusPartition-class | 0 | 0 | 0 | |
| Extract.ConsensusPartitionList | 0.436 | 0.012 | 0.447 | |
| Extract.HierarchicalPartition | 0.248 | 0.005 | 0.253 | |
| ExtractExtract.ConsensusPartitionList | 0.165 | 0.008 | 0.174 | |
| ExtractExtract.HierarchicalPartition | 0 | 0 | 0 | |
| FCC | 0.167 | 0.009 | 0.178 | |
| HierarchicalPartition-class | 0 | 0 | 0 | |
| PAC | 0.454 | 0.001 | 0.457 | |
| aPAC | 0.143 | 0.022 | 0.164 | |
| adjust_matrix | 0.006 | 0.002 | 0.008 | |
| adjust_outlier | 0.001 | 0.000 | 0.001 | |
| all_leaves-HierarchicalPartition-method | 0.126 | 0.006 | 0.132 | |
| all_nodes-HierarchicalPartition-method | 0.137 | 0.009 | 0.147 | |
| all_partition_methods | 0.001 | 0.000 | 0.001 | |
| all_top_value_methods | 0.000 | 0.000 | 0.001 | |
| cola | 0.046 | 0.007 | 0.052 | |
| cola_opt | 0.026 | 0.000 | 0.025 | |
| cola_report-ConsensusPartition-method | 0 | 0 | 0 | |
| cola_report-ConsensusPartitionList-method | 0.000 | 0.000 | 0.001 | |
| cola_report-HierarchicalPartition-method | 0 | 0 | 0 | |
| cola_report-dispatch | 0.001 | 0.000 | 0.000 | |
| cola_rl | 0.075 | 0.006 | 0.081 | |
| collect_classes-ConsensusPartition-method | 1.841 | 0.109 | 1.952 | |
| collect_classes-ConsensusPartitionList-method | 2.798 | 0.065 | 2.864 | |
| collect_classes-HierarchicalPartition-method | 1.551 | 0.054 | 1.605 | |
| collect_classes-dispatch | 0 | 0 | 0 | |
| collect_plots-ConsensusPartition-method | 0.001 | 0.000 | 0.000 | |
| collect_plots-ConsensusPartitionList-method | 0 | 0 | 0 | |
| collect_plots-dispatch | 0.000 | 0.001 | 0.000 | |
| collect_stats-ConsensusPartition-method | 0.001 | 0.000 | 0.000 | |
| collect_stats-ConsensusPartitionList-method | 0.417 | 0.023 | 0.440 | |
| collect_stats-dispatch | 0 | 0 | 0 | |
| colnames-ConsensusPartition-method | 0.000 | 0.001 | 0.000 | |
| colnames-ConsensusPartitionList-method | 0.001 | 0.000 | 0.001 | |
| colnames-DownSamplingConsensusPartition-method | 0 | 0 | 0 | |
| colnames-HierarchicalPartition-method | 0 | 0 | 0 | |
| colnames-dispatch | 0 | 0 | 0 | |
| compare_partitions-ConsensusPartition-method | 0 | 0 | 0 | |
| compare_signatures-ConsensusPartition-method | 0.000 | 0.000 | 0.001 | |
| compare_signatures-HierarchicalPartition-method | 4.299 | 0.258 | 4.558 | |
| compare_signatures-dispatch | 0.001 | 0.000 | 0.000 | |
| concordance | 0.141 | 0.010 | 0.152 | |
| config_ATC | 0 | 0 | 0 | |
| consensus_heatmap-ConsensusPartition-method | 0.517 | 0.010 | 0.527 | |
| consensus_partition | 18.516 | 0.235 | 18.751 | |
| consensus_partition_by_down_sampling | 0 | 0 | 0 | |
| correspond_between_rankings | 0.052 | 0.001 | 0.053 | |
| correspond_between_two_rankings | 0.023 | 0.002 | 0.025 | |
| david_enrichment | 0.001 | 0.000 | 0.000 | |
| dim.ConsensusPartition | 0 | 0 | 0 | |
| dim.ConsensusPartitionList | 0 | 0 | 0 | |
| dim.DownSamplingConsensusPartition | 0.000 | 0.000 | 0.001 | |
| dim.HierarchicalPartition | 0 | 0 | 0 | |
| dimension_reduction-ConsensusPartition-method | 0.602 | 0.017 | 0.619 | |
| dimension_reduction-DownSamplingConsensusPartition-method | 1.029 | 0.008 | 1.038 | |
| dimension_reduction-HierarchicalPartition-method | 0.542 | 0.008 | 0.550 | |
| dimension_reduction-dispatch | 0 | 0 | 0 | |
| dimension_reduction-matrix-method | 0.000 | 0.000 | 0.001 | |
| find_best_km | 0 | 0 | 0 | |
| functional_enrichment-ANY-method | 0 | 0 | 0 | |
| functional_enrichment-ConsensusPartition-method | 0.000 | 0.000 | 0.001 | |
| functional_enrichment-ConsensusPartitionList-method | 0 | 0 | 0 | |
| functional_enrichment-HierarchicalPartition-method | 0 | 0 | 0 | |
| functional_enrichment-dispatch | 0 | 0 | 0 | |
| get_anno-ConsensusPartition-method | 0 | 0 | 0 | |
| get_anno-ConsensusPartitionList-method | 0 | 0 | 0 | |
| get_anno-DownSamplingConsensusPartition-method | 0.081 | 0.005 | 0.086 | |
| get_anno-HierarchicalPartition-method | 0.000 | 0.000 | 0.001 | |
| get_anno-dispatch | 0 | 0 | 0 | |
| get_anno_col-ConsensusPartition-method | 0 | 0 | 0 | |
| get_anno_col-ConsensusPartitionList-method | 0.000 | 0.000 | 0.001 | |
| get_anno_col-HierarchicalPartition-method | 0 | 0 | 0 | |
| get_anno_col-dispatch | 0 | 0 | 0 | |
| get_children_nodes-HierarchicalPartition-method | 0 | 0 | 0 | |
| get_classes-ConsensusPartition-method | 0.142 | 0.014 | 0.156 | |
| get_classes-ConsensusPartitionList-method | 0.145 | 0.013 | 0.159 | |
| get_classes-DownSamplingConsensusPartition-method | 0.081 | 0.007 | 0.088 | |
| get_classes-HierarchicalPartition-method | 0.139 | 0.002 | 0.141 | |
| get_classes-dispatch | 0 | 0 | 0 | |
| get_consensus-ConsensusPartition-method | 0.14 | 0.04 | 0.18 | |
| get_matrix-ConsensusPartition-method | 0.337 | 0.607 | 0.945 | |
| get_matrix-ConsensusPartitionList-method | 0.317 | 0.615 | 0.932 | |
| get_matrix-DownSamplingConsensusPartition-method | 0.001 | 0.000 | 0.001 | |
| get_matrix-HierarchicalPartition-method | 0 | 0 | 0 | |
| get_matrix-dispatch | 0 | 0 | 0 | |
| get_membership-ConsensusPartition-method | 0.151 | 0.030 | 0.180 | |
| get_membership-ConsensusPartitionList-method | 0.136 | 0.013 | 0.149 | |
| get_membership-dispatch | 0.001 | 0.000 | 0.001 | |
| get_param-ConsensusPartition-method | 0.156 | 0.017 | 0.173 | |
| get_signatures-ConsensusPartition-method | 4.697 | 0.058 | 4.755 | |
| get_signatures-DownSamplingConsensusPartition-method | 0 | 0 | 0 | |
| get_signatures-HierarchicalPartition-method | 0 | 0 | 0 | |
| get_signatures-dispatch | 0.000 | 0.000 | 0.001 | |
| get_stats-ConsensusPartition-method | 0.136 | 0.011 | 0.147 | |
| get_stats-ConsensusPartitionList-method | 0.140 | 0.007 | 0.147 | |
| get_stats-dispatch | 0 | 0 | 0 | |
| golub_cola | 0.161 | 0.009 | 0.170 | |
| golub_cola_ds | 0.102 | 0.006 | 0.108 | |
| golub_cola_rh | 0.166 | 0.004 | 0.170 | |
| hierarchical_partition | 0.000 | 0.001 | 0.000 | |
| is_best_k-ConsensusPartition-method | 0.140 | 0.007 | 0.147 | |
| is_best_k-ConsensusPartitionList-method | 0.142 | 0.010 | 0.151 | |
| is_best_k-dispatch | 0 | 0 | 0 | |
| is_leaf_node-HierarchicalPartition-method | 0.124 | 0.006 | 0.131 | |
| is_stable_k-ConsensusPartition-method | 0.155 | 0.010 | 0.165 | |
| is_stable_k-ConsensusPartitionList-method | 0.147 | 0.006 | 0.153 | |
| is_stable_k-dispatch | 0.001 | 0.000 | 0.000 | |
| knee_finder2 | 0.032 | 0.000 | 0.033 | |
| knitr_add_tab_item | 0 | 0 | 0 | |
| knitr_insert_tabs | 0 | 0 | 0 | |
| map_to_entrez_id | 0.001 | 0.000 | 0.000 | |
| max_depth-HierarchicalPartition-method | 0.121 | 0.008 | 0.129 | |
| membership_heatmap-ConsensusPartition-method | 0.451 | 0.008 | 0.459 | |
| merge_node-HierarchicalPartition-method | 0 | 0 | 0 | |
| merge_node_param | 0 | 0 | 0 | |
| ncol-ConsensusPartition-method | 0 | 0 | 0 | |
| ncol-ConsensusPartitionList-method | 0 | 0 | 0 | |
| ncol-DownSamplingConsensusPartition-method | 0 | 0 | 0 | |
| ncol-HierarchicalPartition-method | 0.001 | 0.000 | 0.000 | |
| ncol-dispatch | 0.000 | 0.000 | 0.001 | |
| node_info-HierarchicalPartition-method | 0 | 0 | 0 | |
| node_level-HierarchicalPartition-method | 0 | 0 | 0 | |
| nrow-ConsensusPartition-method | 0.000 | 0.001 | 0.000 | |
| nrow-ConsensusPartitionList-method | 0 | 0 | 0 | |
| nrow-HierarchicalPartition-method | 0 | 0 | 0 | |
| nrow-dispatch | 0.001 | 0.000 | 0.000 | |
| plot_ecdf-ConsensusPartition-method | 0.149 | 0.008 | 0.158 | |
| predict_classes-ConsensusPartition-method | 0 | 0 | 0 | |
| predict_classes-dispatch | 0 | 0 | 0 | |
| predict_classes-matrix-method | 0.001 | 0.000 | 0.000 | |
| print.hc_table_suggest_best_k | 0.000 | 0.000 | 0.001 | |
| recalc_stats | 0 | 0 | 0 | |
| register_NMF | 0.000 | 0.001 | 0.000 | |
| register_SOM | 0.000 | 0.000 | 0.001 | |
| register_partition_methods | 0.663 | 0.002 | 0.665 | |
| register_top_value_methods | 0.001 | 0.000 | 0.002 | |
| relabel_class | 0.006 | 0.003 | 0.010 | |
| remove_partition_methods | 0 | 0 | 0 | |
| remove_top_value_methods | 0 | 0 | 0 | |
| rownames-ConsensusPartition-method | 0.000 | 0.000 | 0.001 | |
| rownames-ConsensusPartitionList-method | 0 | 0 | 0 | |
| rownames-HierarchicalPartition-method | 0 | 0 | 0 | |
| rownames-dispatch | 0.000 | 0.000 | 0.001 | |
| run_all_consensus_partition_methods | 0 | 0 | 0 | |
| select_partition_number-ConsensusPartition-method | 0.147 | 0.011 | 0.158 | |
| show-ConsensusPartition-method | 0 | 0 | 0 | |
| show-ConsensusPartitionList-method | 0 | 0 | 0 | |
| show-DownSamplingConsensusPartition-method | 0.106 | 0.002 | 0.107 | |
| show-HierarchicalPartition-method | 0.163 | 0.005 | 0.169 | |
| show-dispatch | 0.000 | 0.000 | 0.001 | |
| split_node-HierarchicalPartition-method | 0 | 0 | 0 | |
| suggest_best_k-ConsensusPartition-method | 0.140 | 0.006 | 0.146 | |
| suggest_best_k-ConsensusPartitionList-method | 0.146 | 0.009 | 0.155 | |
| suggest_best_k-HierarchicalPartition-method | 0.129 | 0.005 | 0.135 | |
| suggest_best_k-dispatch | 0.000 | 0.000 | 0.001 | |
| test_between_factors | 0.008 | 0.000 | 0.008 | |
| test_to_known_factors-ConsensusPartition-method | 0.158 | 0.008 | 0.165 | |
| test_to_known_factors-ConsensusPartitionList-method | 0.256 | 0.007 | 0.262 | |
| test_to_known_factors-DownSamplingConsensusPartition-method | 0.102 | 0.003 | 0.105 | |
| test_to_known_factors-HierarchicalPartition-method | 0.136 | 0.006 | 0.141 | |
| test_to_known_factors-dispatch | 0 | 0 | 0 | |
| top_elements_overlap | 0.196 | 0.002 | 0.198 | |
| top_rows_heatmap-ConsensusPartition-method | 0.000 | 0.001 | 0.001 | |
| top_rows_heatmap-ConsensusPartitionList-method | 0 | 0 | 0 | |
| top_rows_heatmap-HierarchicalPartition-method | 0 | 0 | 0 | |
| top_rows_heatmap-dispatch | 0.000 | 0.000 | 0.001 | |
| top_rows_heatmap-matrix-method | 2.820 | 0.111 | 2.918 | |
| top_rows_overlap-ConsensusPartitionList-method | 0.780 | 0.008 | 0.788 | |
| top_rows_overlap-HierarchicalPartition-method | 0.494 | 0.020 | 0.514 | |
| top_rows_overlap-dispatch | 0 | 0 | 0 | |
| top_rows_overlap-matrix-method | 0.126 | 0.005 | 0.131 | |