| Back to Multiple platform build/check report for BioC 3.21: simplified long |
|
This page was generated on 2025-04-22 13:17 -0400 (Tue, 22 Apr 2025).
| Hostname | OS | Arch (*) | R version | Installed pkgs |
|---|---|---|---|---|
| nebbiolo1 | Linux (Ubuntu 24.04.1 LTS) | x86_64 | 4.5.0 RC (2025-04-04 r88126) -- "How About a Twenty-Six" | 4831 |
| palomino7 | Windows Server 2022 Datacenter | x64 | 4.5.0 RC (2025-04-04 r88126 ucrt) -- "How About a Twenty-Six" | 4573 |
| lconway | macOS 12.7.1 Monterey | x86_64 | 4.5.0 RC (2025-04-04 r88126) -- "How About a Twenty-Six" | 4599 |
| kjohnson3 | macOS 13.7.1 Ventura | arm64 | 4.5.0 RC (2025-04-04 r88126) -- "How About a Twenty-Six" | 4553 |
| kunpeng2 | Linux (openEuler 24.03 LTS) | aarch64 | R Under development (unstable) (2025-02-19 r87757) -- "Unsuffered Consequences" | 4570 |
| Click on any hostname to see more info about the system (e.g. compilers) (*) as reported by 'uname -p', except on Windows and Mac OS X | ||||
| Package 341/2341 | Hostname | OS / Arch | INSTALL | BUILD | CHECK | BUILD BIN | ||||||||
| chipenrich 2.32.0 (landing page) Kai Wang
| nebbiolo1 | Linux (Ubuntu 24.04.1 LTS) / x86_64 | OK | OK | OK | |||||||||
| palomino7 | Windows Server 2022 Datacenter / x64 | OK | OK | OK | OK | |||||||||
| lconway | macOS 12.7.1 Monterey / x86_64 | OK | OK | OK | OK | |||||||||
| kjohnson3 | macOS 13.7.1 Ventura / arm64 | OK | OK | OK | OK | |||||||||
| kunpeng2 | Linux (openEuler 24.03 LTS) / aarch64 | OK | OK | OK | ||||||||||
|
To the developers/maintainers of the chipenrich package: - Allow up to 24 hours (and sometimes 48 hours) for your latest push to git@git.bioconductor.org:packages/chipenrich.git to reflect on this report. See Troubleshooting Build Report for more information. - Use the following Renviron settings to reproduce errors and warnings. - If 'R CMD check' started to fail recently on the Linux builder(s) over a missing dependency, add the missing dependency to 'Suggests:' in your DESCRIPTION file. See Renviron.bioc for more information. |
| Package: chipenrich |
| Version: 2.32.0 |
| Command: /Library/Frameworks/R.framework/Resources/bin/R CMD check --install=check:chipenrich.install-out.txt --library=/Library/Frameworks/R.framework/Resources/library --no-vignettes --timings chipenrich_2.32.0.tar.gz |
| StartedAt: 2025-04-21 18:36:14 -0400 (Mon, 21 Apr 2025) |
| EndedAt: 2025-04-21 18:39:27 -0400 (Mon, 21 Apr 2025) |
| EllapsedTime: 193.2 seconds |
| RetCode: 0 |
| Status: OK |
| CheckDir: chipenrich.Rcheck |
| Warnings: 0 |
##############################################################################
##############################################################################
###
### Running command:
###
### /Library/Frameworks/R.framework/Resources/bin/R CMD check --install=check:chipenrich.install-out.txt --library=/Library/Frameworks/R.framework/Resources/library --no-vignettes --timings chipenrich_2.32.0.tar.gz
###
##############################################################################
##############################################################################
* using log directory ‘/Users/biocbuild/bbs-3.21-bioc/meat/chipenrich.Rcheck’
* using R version 4.5.0 RC (2025-04-04 r88126)
* using platform: aarch64-apple-darwin20
* R was compiled by
Apple clang version 14.0.0 (clang-1400.0.29.202)
GNU Fortran (GCC) 14.2.0
* running under: macOS Ventura 13.7.1
* using session charset: UTF-8
* using option ‘--no-vignettes’
* checking for file ‘chipenrich/DESCRIPTION’ ... OK
* checking extension type ... Package
* this is package ‘chipenrich’ version ‘2.32.0’
* checking package namespace information ... OK
* checking package dependencies ... OK
* checking if this is a source package ... OK
* checking if there is a namespace ... OK
* checking for hidden files and directories ... OK
* checking for portable file names ... OK
* checking for sufficient/correct file permissions ... OK
* checking whether package ‘chipenrich’ can be installed ... OK
* checking installed package size ... OK
* checking package directory ... OK
* checking ‘build’ directory ... OK
* checking DESCRIPTION meta-information ... OK
* checking top-level files ... OK
* checking for left-over files ... OK
* checking index information ... OK
* checking package subdirectories ... OK
* checking code files for non-ASCII characters ... OK
* checking R files for syntax errors ... OK
* checking whether the package can be loaded ... OK
* checking whether the package can be loaded with stated dependencies ... OK
* checking whether the package can be unloaded cleanly ... OK
* checking whether the namespace can be loaded with stated dependencies ... OK
* checking whether the namespace can be unloaded cleanly ... OK
* checking dependencies in R code ... OK
* checking S3 generic/method consistency ... OK
* checking replacement functions ... OK
* checking foreign function calls ... OK
* checking R code for possible problems ... OK
* checking Rd files ... NOTE
checkRd: (-1) broadenrich.Rd:134: Escaped LaTeX specials: \&
checkRd: (-1) chipenrich.Rd:148: Escaped LaTeX specials: \&
checkRd: (-1) hybridenrich.Rd:111: Escaped LaTeX specials: \&
checkRd: (-1) polyenrich.Rd:148: Escaped LaTeX specials: \&
checkRd: (-1) proxReg.Rd:117: Escaped LaTeX specials: \&
* checking Rd metadata ... OK
* checking Rd cross-references ... OK
* checking for missing documentation entries ... OK
* checking for code/documentation mismatches ... OK
* checking Rd \usage sections ... OK
* checking Rd contents ... OK
* checking for unstated dependencies in examples ... OK
* checking files in ‘vignettes’ ... OK
* checking examples ... OK
* checking for unstated dependencies in ‘tests’ ... OK
* checking tests ...
Running ‘testthat.R’
OK
* checking for unstated dependencies in vignettes ... OK
* checking package vignettes ... OK
* checking running R code from vignettes ... SKIPPED
* checking re-building of vignette outputs ... SKIPPED
* checking PDF version of manual ... OK
* DONE
Status: 1 NOTE
See
‘/Users/biocbuild/bbs-3.21-bioc/meat/chipenrich.Rcheck/00check.log’
for details.
chipenrich.Rcheck/00install.out
############################################################################## ############################################################################## ### ### Running command: ### ### /Library/Frameworks/R.framework/Resources/bin/R CMD INSTALL chipenrich ### ############################################################################## ############################################################################## * installing to library ‘/Library/Frameworks/R.framework/Versions/4.5-arm64/Resources/library’ * installing *source* package ‘chipenrich’ ... ** this is package ‘chipenrich’ version ‘2.32.0’ ** using staged installation ** R ** inst ** byte-compile and prepare package for lazy loading ** help *** installing help indices ** building package indices ** installing vignettes ** testing if installed package can be loaded from temporary location ** testing if installed package can be loaded from final location ** testing if installed package keeps a record of temporary installation path * DONE (chipenrich)
chipenrich.Rcheck/tests/testthat.Rout
R version 4.5.0 RC (2025-04-04 r88126) -- "How About a Twenty-Six"
Copyright (C) 2025 The R Foundation for Statistical Computing
Platform: aarch64-apple-darwin20
R is free software and comes with ABSOLUTELY NO WARRANTY.
You are welcome to redistribute it under certain conditions.
Type 'license()' or 'licence()' for distribution details.
R is a collaborative project with many contributors.
Type 'contributors()' for more information and
'citation()' on how to cite R or R packages in publications.
Type 'demo()' for some demos, 'help()' for on-line help, or
'help.start()' for an HTML browser interface to help.
Type 'q()' to quit R.
> library(testthat)
> library(chipenrich)
>
> test_check("chipenrich")
[ FAIL 0 | WARN 0 | SKIP 3 | PASS 169 ]
══ Skipped tests (3) ═══════════════════════════════════════════════════════════
• empty test (3): 'test_5_chipenrich.R:200:1', 'test_5_chipenrich.R:233:1',
'test_5_chipenrich.R:237:1'
[ FAIL 0 | WARN 0 | SKIP 3 | PASS 169 ]
>
> proc.time()
user system elapsed
66.592 8.297 75.502
chipenrich.Rcheck/chipenrich-Ex.timings
| name | user | system | elapsed | |
| assign_peak_segments | 0.085 | 0.002 | 0.087 | |
| assign_peaks | 0.616 | 0.004 | 0.625 | |
| broadenrich | 2.776 | 0.287 | 3.093 | |
| calc_peak_gene_overlap | 0.104 | 0.005 | 0.108 | |
| chipenrich | 0.561 | 0.077 | 0.639 | |
| load_peaks | 0.017 | 0.000 | 0.017 | |
| num_peaks_per_gene | 0.153 | 0.005 | 0.158 | |
| peaks2genes | 0.169 | 0.005 | 0.174 | |
| plot_chipenrich_spline | 0.520 | 0.058 | 0.595 | |
| plot_dist_to_tss | 0.128 | 0.006 | 0.133 | |
| plot_gene_coverage | 0.282 | 0.009 | 0.291 | |
| plot_polyenrich_spline | 1.048 | 0.053 | 1.105 | |
| polyenrich | 1.948 | 0.354 | 2.303 | |
| proxReg | 0.164 | 0.008 | 0.172 | |
| read_bed | 0.066 | 0.003 | 0.069 | |
| supported_genesets | 0.002 | 0.000 | 0.003 | |
| supported_genomes | 0.001 | 0.000 | 0.001 | |
| supported_locusdefs | 0.001 | 0.001 | 0.003 | |
| supported_methods | 0 | 0 | 0 | |
| supported_read_lengths | 0.001 | 0.001 | 0.002 | |