| Back to Multiple platform build/check report for BioC 3.21: simplified long |
|
This page was generated on 2025-10-16 11:38 -0400 (Thu, 16 Oct 2025).
| Hostname | OS | Arch (*) | R version | Installed pkgs |
|---|---|---|---|---|
| nebbiolo1 | Linux (Ubuntu 24.04.3 LTS) | x86_64 | 4.5.1 (2025-06-13) -- "Great Square Root" | 4833 |
| merida1 | macOS 12.7.6 Monterey | x86_64 | 4.5.1 RC (2025-06-05 r88288) -- "Great Square Root" | 4614 |
| kjohnson1 | macOS 13.7.5 Ventura | arm64 | 4.5.1 Patched (2025-06-14 r88325) -- "Great Square Root" | 4555 |
| kunpeng2 | Linux (openEuler 24.03 LTS) | aarch64 | R Under development (unstable) (2025-02-19 r87757) -- "Unsuffered Consequences" | 4586 |
| Click on any hostname to see more info about the system (e.g. compilers) (*) as reported by 'uname -p', except on Windows and Mac OS X | ||||
| Package 117/2341 | Hostname | OS / Arch | INSTALL | BUILD | CHECK | BUILD BIN | ||||||||
| autonomics 1.16.0 (landing page) Aditya Bhagwat
| nebbiolo1 | Linux (Ubuntu 24.04.3 LTS) / x86_64 | OK | OK | OK | |||||||||
| merida1 | macOS 12.7.6 Monterey / x86_64 | OK | OK | OK | OK | |||||||||
| kjohnson1 | macOS 13.7.5 Ventura / arm64 | OK | OK | OK | OK | |||||||||
| kunpeng2 | Linux (openEuler 24.03 LTS) / aarch64 | OK | OK | ERROR | ||||||||||
|
To the developers/maintainers of the autonomics package: - Allow up to 24 hours (and sometimes 48 hours) for your latest push to git@git.bioconductor.org:packages/autonomics.git to reflect on this report. See Troubleshooting Build Report for more information. - Use the following Renviron settings to reproduce errors and warnings. - If 'R CMD check' started to fail recently on the Linux builder(s) over a missing dependency, add the missing dependency to 'Suggests:' in your DESCRIPTION file. See Renviron.bioc for more information. |
| Package: autonomics |
| Version: 1.16.0 |
| Command: /Library/Frameworks/R.framework/Resources/bin/R CMD check --install=check:autonomics.install-out.txt --library=/Library/Frameworks/R.framework/Resources/library --no-vignettes --timings autonomics_1.16.0.tar.gz |
| StartedAt: 2025-10-14 00:11:13 -0400 (Tue, 14 Oct 2025) |
| EndedAt: 2025-10-14 00:48:47 -0400 (Tue, 14 Oct 2025) |
| EllapsedTime: 2254.1 seconds |
| RetCode: 0 |
| Status: OK |
| CheckDir: autonomics.Rcheck |
| Warnings: 0 |
##############################################################################
##############################################################################
###
### Running command:
###
### /Library/Frameworks/R.framework/Resources/bin/R CMD check --install=check:autonomics.install-out.txt --library=/Library/Frameworks/R.framework/Resources/library --no-vignettes --timings autonomics_1.16.0.tar.gz
###
##############################################################################
##############################################################################
* using log directory ‘/Users/biocbuild/bbs-3.21-bioc/meat/autonomics.Rcheck’
* using R version 4.5.1 RC (2025-06-05 r88288)
* using platform: x86_64-apple-darwin20
* R was compiled by
Apple clang version 14.0.0 (clang-1400.0.29.202)
GNU Fortran (GCC) 14.2.0
* running under: macOS Monterey 12.7.6
* using session charset: UTF-8
* using option ‘--no-vignettes’
* checking for file ‘autonomics/DESCRIPTION’ ... OK
* checking extension type ... Package
* this is package ‘autonomics’ version ‘1.16.0’
* package encoding: UTF-8
* checking package namespace information ... OK
* checking package dependencies ... INFO
Imports includes 30 non-default packages.
Importing from so many packages makes the package vulnerable to any of
them becoming unavailable. Move as many as possible to Suggests and
use conditionally.
* checking if this is a source package ... OK
* checking if there is a namespace ... OK
* checking for hidden files and directories ... NOTE
Found the following hidden files and directories:
.BBSoptions
These were most likely included in error. See section ‘Package
structure’ in the ‘Writing R Extensions’ manual.
* checking for portable file names ... OK
* checking for sufficient/correct file permissions ... OK
* checking whether package ‘autonomics’ can be installed ... OK
* checking installed package size ... OK
* checking package directory ... OK
* checking ‘build’ directory ... OK
* checking DESCRIPTION meta-information ... OK
* checking top-level files ... OK
* checking for left-over files ... OK
* checking index information ... OK
* checking package subdirectories ... OK
* checking code files for non-ASCII characters ... OK
* checking R files for syntax errors ... OK
* checking whether the package can be loaded ... OK
* checking whether the package can be loaded with stated dependencies ... OK
* checking whether the package can be unloaded cleanly ... OK
* checking whether the namespace can be loaded with stated dependencies ... OK
* checking whether the namespace can be unloaded cleanly ... OK
* checking dependencies in R code ... OK
* checking S3 generic/method consistency ... OK
* checking replacement functions ... OK
* checking foreign function calls ... OK
* checking R code for possible problems ... OK
* checking Rd files ... OK
* checking Rd metadata ... OK
* checking Rd cross-references ... NOTE
Non-topic package-anchored link(s) in Rd file 'reexports.Rd':
‘[magrittr:compound]{%<>%}’ ‘[magrittr:pipe]{%>%}’
‘[magrittr:aliases]{extract}’
See section 'Cross-references' in the 'Writing R Extensions' manual.
* checking for missing documentation entries ... OK
* checking for code/documentation mismatches ... OK
* checking Rd \usage sections ... OK
* checking Rd contents ... OK
* checking for unstated dependencies in examples ... OK
* checking files in ‘vignettes’ ... OK
* checking examples ... OK
Examples with CPU (user + system) or elapsed time > 5s
user system elapsed
read_diann_proteingroups 233.750 4.372 270.519
read_rnaseq_counts 77.882 2.780 84.174
fit_linmod 77.892 0.434 82.206
plot_exprs 63.245 0.771 70.837
plot_exprs_per_coef 62.830 0.292 65.679
rm_diann_contaminants 47.068 0.563 48.223
analyze 40.586 0.310 42.019
default_formula 39.866 0.495 42.735
plot_summary 38.402 0.409 42.748
read_metabolon 38.179 0.334 39.254
read_somascan 38.006 0.167 38.741
plot_volcano 34.391 0.420 38.295
plot_densities 23.679 0.291 27.371
fcluster 21.594 0.109 22.666
ftype 19.753 0.413 21.402
extract_coef_features 16.829 0.134 17.864
plot_sample_nas 16.583 0.111 17.926
biplot_covariates 16.550 0.113 16.861
read_fragpipe 14.828 0.179 15.492
plot_subgroup_points 14.297 0.118 15.081
code 12.954 0.125 13.693
fit_survival 12.720 0.097 13.529
log2transform 12.417 0.081 12.966
reset_fit 12.089 0.117 12.252
plot_violins 11.777 0.360 14.953
subtract_baseline 11.046 0.127 11.400
biplot 11.004 0.102 11.181
plot_joint_density 10.442 0.161 11.546
biplot_corrections 9.921 0.116 10.144
plot_survival 9.687 0.214 12.038
modelvar 8.994 0.096 9.465
pca 8.302 0.105 8.903
impute 8.185 0.049 8.607
plot_contrastogram 7.064 0.265 10.287
plot_contrast_venn 6.012 0.118 6.948
plot_heatmap 5.892 0.026 6.473
plot_fit_summary 5.291 0.093 5.731
* checking for unstated dependencies in ‘tests’ ... OK
* checking tests ...
Running ‘testthat.R’
OK
* checking for unstated dependencies in vignettes ... OK
* checking package vignettes ... OK
* checking running R code from vignettes ... SKIPPED
* checking re-building of vignette outputs ... SKIPPED
* checking PDF version of manual ... OK
* DONE
Status: 2 NOTEs
See
‘/Users/biocbuild/bbs-3.21-bioc/meat/autonomics.Rcheck/00check.log’
for details.
autonomics.Rcheck/00install.out
############################################################################## ############################################################################## ### ### Running command: ### ### /Library/Frameworks/R.framework/Resources/bin/R CMD INSTALL autonomics ### ############################################################################## ############################################################################## * installing to library ‘/Library/Frameworks/R.framework/Versions/4.5-x86_64/Resources/library’ * installing *source* package ‘autonomics’ ... ** this is package ‘autonomics’ version ‘1.16.0’ ** using staged installation ** R ** inst ** byte-compile and prepare package for lazy loading ** help *** installing help indices ** building package indices ** installing vignettes ** testing if installed package can be loaded from temporary location ** testing if installed package can be loaded from final location ** testing if installed package keeps a record of temporary installation path * DONE (autonomics)
autonomics.Rcheck/tests/testthat.Rout
R version 4.5.1 RC (2025-06-05 r88288) -- "Great Square Root"
Copyright (C) 2025 The R Foundation for Statistical Computing
Platform: x86_64-apple-darwin20
R is free software and comes with ABSOLUTELY NO WARRANTY.
You are welcome to redistribute it under certain conditions.
Type 'license()' or 'licence()' for distribution details.
R is a collaborative project with many contributors.
Type 'contributors()' for more information and
'citation()' on how to cite R or R packages in publications.
Type 'demo()' for some demos, 'help()' for on-line help, or
'help.start()' for an HTML browser interface to help.
Type 'q()' to quit R.
> library(testthat)
> library(autonomics)
Attaching package: 'autonomics'
The following objects are masked from 'package:stats':
biplot, loadings
The following object is masked from 'package:base':
beta
>
> test_check("autonomics")
[ FAIL 0 | WARN 3 | SKIP 0 | PASS 158 ]
[ FAIL 0 | WARN 3 | SKIP 0 | PASS 158 ]
>
> proc.time()
user system elapsed
280.062 12.612 388.664
autonomics.Rcheck/autonomics-Ex.timings
| name | user | system | elapsed | |
| AUTONOMICS_DATASETS | 0.001 | 0.002 | 0.002 | |
| COMPOUNDDISCOVERER_PATTERNS | 0.000 | 0.001 | 0.000 | |
| FITSEP | 0.000 | 0.001 | 0.000 | |
| LINMODENGINES | 0.001 | 0.000 | 0.001 | |
| MAXQUANT_PATTERNS | 0.000 | 0.001 | 0.001 | |
| SURVIVALENGINES | 0.000 | 0.001 | 0.000 | |
| TAXON_TO_ORGNAME | 0.001 | 0.001 | 0.001 | |
| TESTS | 0.000 | 0.000 | 0.001 | |
| X | 3.470 | 0.258 | 3.773 | |
| abstract_fit | 4.235 | 0.169 | 4.506 | |
| add_adjusted_pvalues | 1.252 | 0.034 | 1.313 | |
| add_assay_means | 0.850 | 0.014 | 0.965 | |
| add_facetvars | 3.826 | 0.105 | 3.968 | |
| add_opentargets_by_uniprot | 0.910 | 0.012 | 0.930 | |
| add_psp | 1.144 | 0.026 | 1.181 | |
| add_smiles | 1.087 | 0.069 | 1.189 | |
| analysis | 0.850 | 0.010 | 0.887 | |
| analyze | 40.586 | 0.310 | 42.019 | |
| annotate_maxquant | 1.994 | 0.125 | 2.149 | |
| annotate_uniprot_rest | 0.149 | 0.019 | 1.906 | |
| assert_is_valid_sumexp | 1.287 | 0.086 | 1.453 | |
| bin | 0.895 | 0.022 | 0.920 | |
| biplot | 11.004 | 0.102 | 11.181 | |
| biplot_corrections | 9.921 | 0.116 | 10.144 | |
| biplot_covariates | 16.550 | 0.113 | 16.861 | |
| block2lme | 0.007 | 0.001 | 0.010 | |
| center | 4.225 | 0.035 | 4.409 | |
| code | 12.954 | 0.125 | 13.693 | |
| coefs | 1.982 | 0.069 | 2.068 | |
| collapsed_entrezg_to_symbol | 0.001 | 0.001 | 0.002 | |
| contrast_subgroup_cols | 1.330 | 0.068 | 1.483 | |
| count_in | 0.003 | 0.002 | 0.004 | |
| counts | 0.755 | 0.005 | 0.766 | |
| counts2cpm | 0.738 | 0.005 | 0.749 | |
| counts2tpm | 0.701 | 0.005 | 0.727 | |
| cpm | 0.719 | 0.004 | 0.755 | |
| create_design | 1.727 | 0.087 | 1.902 | |
| default_formula | 39.866 | 0.495 | 42.735 | |
| default_geom | 1.141 | 0.073 | 1.347 | |
| default_sfile | 0.003 | 0.001 | 0.004 | |
| demultiplex | 0.035 | 0.002 | 0.040 | |
| dequantify | 0.005 | 0.001 | 0.006 | |
| dequantify_compounddiscoverer | 0.003 | 0.001 | 0.003 | |
| dot-coxph | 0.900 | 0.058 | 1.014 | |
| dot-merge | 0.031 | 0.002 | 0.033 | |
| dot-read_maxquant_proteingroups | 0.204 | 0.008 | 0.217 | |
| download_data | 0.000 | 0.001 | 0.003 | |
| download_gtf | 0 | 0 | 0 | |
| download_mcclain21 | 0.000 | 0.000 | 0.001 | |
| dt2mat | 0.007 | 0.001 | 0.008 | |
| enrichment | 4.363 | 0.017 | 4.581 | |
| entrezg_to_symbol | 0.001 | 0.001 | 0.002 | |
| extract_coef_features | 16.829 | 0.134 | 17.864 | |
| extract_rectangle | 0.271 | 0.067 | 0.388 | |
| fcluster | 21.594 | 0.109 | 22.666 | |
| fcor | 3.363 | 0.054 | 3.643 | |
| fdata | 1.279 | 0.049 | 1.415 | |
| fdr2p | 2.271 | 0.072 | 2.422 | |
| filter_exprs_replicated_in_some_subgroup | 2.275 | 0.072 | 2.455 | |
| filter_features | 1.189 | 0.070 | 1.310 | |
| filter_medoid | 1.618 | 0.025 | 1.706 | |
| filter_samples | 1.222 | 0.068 | 1.335 | |
| fit_linmod | 77.892 | 0.434 | 82.206 | |
| fit_survival | 12.720 | 0.097 | 13.529 | |
| fitcoefs | 2.048 | 0.070 | 2.224 | |
| fits | 1.721 | 0.072 | 1.870 | |
| fix_xlgenes | 0.003 | 0.001 | 0.004 | |
| flevels | 0.931 | 0.011 | 0.996 | |
| fnames | 0.986 | 0.010 | 1.043 | |
| formula2str | 0.001 | 0.000 | 0.001 | |
| ftype | 19.753 | 0.413 | 21.402 | |
| fvalues | 0.944 | 0.011 | 1.005 | |
| fvars | 0.897 | 0.009 | 0.953 | |
| genome_to_orgdb | 0.001 | 0.001 | 0.002 | |
| group_by_level | 0.002 | 0.002 | 0.004 | |
| guess_compounddiscoverer_quantity | 0.003 | 0.001 | 0.004 | |
| guess_fitsep | 1.109 | 0.010 | 1.184 | |
| guess_maxquant_quantity | 0.011 | 0.003 | 0.015 | |
| guess_sep | 1.164 | 0.089 | 1.334 | |
| has_multiple_levels | 0.126 | 0.005 | 0.136 | |
| hdlproteins | 0.083 | 0.060 | 0.154 | |
| impute | 8.185 | 0.049 | 8.607 | |
| invert_subgroups | 1.445 | 0.010 | 1.533 | |
| is_collapsed_subset | 0.001 | 0.001 | 0.001 | |
| is_correlation_matrix | 0.002 | 0.001 | 0.003 | |
| is_diann_report | 0.385 | 0.078 | 0.550 | |
| is_fastadt | 0.134 | 0.002 | 0.141 | |
| is_file | 0.000 | 0.001 | 0.002 | |
| is_fraction | 0.004 | 0.001 | 0.005 | |
| is_imputed | 1.649 | 0.012 | 1.777 | |
| is_positive_number | 0.004 | 0.001 | 0.005 | |
| is_scalar_subset | 0.687 | 0.007 | 0.742 | |
| is_sig | 4.190 | 0.026 | 4.793 | |
| is_valid_formula | 0.110 | 0.002 | 0.113 | |
| keep_connected_blocks | 1.077 | 0.068 | 1.155 | |
| keep_connected_features | 1.585 | 0.068 | 1.664 | |
| keep_replicated_features | 1.843 | 0.065 | 1.920 | |
| label2index | 0.001 | 0.000 | 0.002 | |
| list2mat | 0.001 | 0.001 | 0.001 | |
| log2counts | 0.780 | 0.004 | 0.790 | |
| log2cpm | 0.728 | 0.003 | 0.743 | |
| log2diffs | 0.770 | 0.008 | 0.801 | |
| log2proteins | 0.717 | 0.009 | 0.811 | |
| log2sites | 0.697 | 0.008 | 0.787 | |
| log2tpm | 0.777 | 0.005 | 0.801 | |
| log2transform | 12.417 | 0.081 | 12.966 | |
| logical2factor | 0.002 | 0.001 | 0.003 | |
| make_alpha_palette | 1.234 | 0.072 | 1.432 | |
| make_colors | 0.015 | 0.002 | 0.019 | |
| make_volcano_dt | 2.038 | 0.017 | 2.239 | |
| map_fvalues | 0.879 | 0.014 | 0.965 | |
| matrix2sumexp | 2.327 | 0.072 | 2.599 | |
| merge_sample_file | 0.948 | 0.013 | 1.058 | |
| merge_sdata | 1.255 | 0.097 | 1.463 | |
| message_df | 0.005 | 0.001 | 0.005 | |
| model_coefs | 1.685 | 0.075 | 1.820 | |
| modelvar | 8.994 | 0.096 | 9.465 | |
| order_on_p | 2.975 | 0.074 | 3.186 | |
| pca | 8.302 | 0.105 | 8.903 | |
| pg_to_canonical | 0.014 | 0.001 | 0.015 | |
| plot_coef_densities | 3.250 | 0.084 | 3.819 | |
| plot_contrast_venn | 6.012 | 0.118 | 6.948 | |
| plot_contrastogram | 7.064 | 0.265 | 10.287 | |
| plot_data | 3.895 | 0.126 | 4.889 | |
| plot_densities | 23.679 | 0.291 | 27.371 | |
| plot_design | 1.730 | 0.019 | 2.147 | |
| plot_exprs | 63.245 | 0.771 | 70.837 | |
| plot_exprs_per_coef | 62.830 | 0.292 | 65.679 | |
| plot_fit_summary | 5.291 | 0.093 | 5.731 | |
| plot_heatmap | 5.892 | 0.026 | 6.473 | |
| plot_joint_density | 10.442 | 0.161 | 11.546 | |
| plot_matrix | 1.130 | 0.070 | 1.284 | |
| plot_sample_nas | 16.583 | 0.111 | 17.926 | |
| plot_subgroup_points | 14.297 | 0.118 | 15.081 | |
| plot_summary | 38.402 | 0.409 | 42.748 | |
| plot_survival | 9.687 | 0.214 | 12.038 | |
| plot_venn | 0.007 | 0.003 | 0.015 | |
| plot_venn_heatmap | 0.046 | 0.002 | 0.058 | |
| plot_violins | 11.777 | 0.360 | 14.953 | |
| plot_volcano | 34.391 | 0.420 | 38.295 | |
| preprocess_rnaseq_counts | 0.685 | 0.005 | 0.722 | |
| pull_columns | 0.005 | 0.001 | 0.006 | |
| read_affymetrix | 0.000 | 0.000 | 0.001 | |
| read_diann_proteingroups | 233.750 | 4.372 | 270.519 | |
| read_fragpipe | 14.828 | 0.179 | 15.492 | |
| read_maxquant_phosphosites | 3.310 | 0.044 | 3.521 | |
| read_maxquant_proteingroups | 2.620 | 0.025 | 2.653 | |
| read_metabolon | 38.179 | 0.334 | 39.254 | |
| read_msigdt | 0.002 | 0.000 | 0.003 | |
| read_olink | 3.036 | 0.092 | 3.303 | |
| read_rectangles | 0.391 | 0.038 | 0.447 | |
| read_rnaseq_counts | 77.882 | 2.780 | 84.174 | |
| read_salmon | 0.000 | 0.000 | 0.001 | |
| read_somascan | 38.006 | 0.167 | 38.741 | |
| read_uniprotdt | 0.612 | 0.045 | 0.661 | |
| reset_fit | 12.089 | 0.117 | 12.252 | |
| rm_diann_contaminants | 47.068 | 0.563 | 48.223 | |
| rm_missing_in_some_samples | 1.086 | 0.068 | 1.201 | |
| rm_unmatched_samples | 1.409 | 0.033 | 1.457 | |
| scaledlibsizes | 0.650 | 0.004 | 0.655 | |
| scoremat | 2.189 | 0.067 | 2.273 | |
| slevels | 0.849 | 0.012 | 0.868 | |
| snames | 0.814 | 0.008 | 0.823 | |
| split_extract_fixed | 1.178 | 0.083 | 1.319 | |
| split_samples | 2.654 | 0.077 | 2.817 | |
| stri_any_regex | 0.001 | 0.001 | 0.002 | |
| stri_detect_fixed_in_collapsed | 0.72 | 0.01 | 0.74 | |
| subgroup_matrix | 1.136 | 0.077 | 1.239 | |
| subtract_baseline | 11.046 | 0.127 | 11.400 | |
| sumexp_to_longdt | 3.754 | 0.178 | 3.975 | |
| sumexp_to_tsv | 0.997 | 0.015 | 1.019 | |
| sumexplist_to_longdt | 3.192 | 0.035 | 3.287 | |
| summarize_fit | 3.606 | 0.086 | 3.711 | |
| svalues | 0.835 | 0.012 | 0.859 | |
| svars | 0.825 | 0.010 | 0.839 | |
| systematic_nas | 1.207 | 0.013 | 1.232 | |
| tag_features | 2.072 | 0.065 | 2.152 | |
| tag_hdlproteins | 1.126 | 0.049 | 1.251 | |
| taxon2org | 0.002 | 0.000 | 0.002 | |
| tpm | 0.691 | 0.005 | 0.714 | |
| uncollapse | 0.059 | 0.003 | 0.063 | |
| values | 0.880 | 0.012 | 0.902 | |
| varlevels_dont_clash | 0.034 | 0.002 | 0.036 | |
| venn_detects | 1.241 | 0.016 | 1.265 | |
| weights | 0.688 | 0.004 | 0.695 | |
| write_xl | 1.504 | 0.070 | 1.584 | |
| zero_to_na | 0.003 | 0.003 | 0.006 | |