| Back to Multiple platform build/check report for BioC 3.21: simplified long |
|
This page was generated on 2025-10-16 11:39 -0400 (Thu, 16 Oct 2025).
| Hostname | OS | Arch (*) | R version | Installed pkgs |
|---|---|---|---|---|
| nebbiolo1 | Linux (Ubuntu 24.04.3 LTS) | x86_64 | 4.5.1 (2025-06-13) -- "Great Square Root" | 4833 |
| merida1 | macOS 12.7.6 Monterey | x86_64 | 4.5.1 RC (2025-06-05 r88288) -- "Great Square Root" | 4614 |
| kjohnson1 | macOS 13.7.5 Ventura | arm64 | 4.5.1 Patched (2025-06-14 r88325) -- "Great Square Root" | 4555 |
| kunpeng2 | Linux (openEuler 24.03 LTS) | aarch64 | R Under development (unstable) (2025-02-19 r87757) -- "Unsuffered Consequences" | 4586 |
| Click on any hostname to see more info about the system (e.g. compilers) (*) as reported by 'uname -p', except on Windows and Mac OS X | ||||
| Package 80/2341 | Hostname | OS / Arch | INSTALL | BUILD | CHECK | BUILD BIN | ||||||||
| anota2seq 1.30.0 (landing page) Christian Oertlin
| nebbiolo1 | Linux (Ubuntu 24.04.3 LTS) / x86_64 | OK | OK | WARNINGS | |||||||||
| merida1 | macOS 12.7.6 Monterey / x86_64 | OK | OK | OK | OK | |||||||||
| kjohnson1 | macOS 13.7.5 Ventura / arm64 | OK | OK | OK | OK | |||||||||
| kunpeng2 | Linux (openEuler 24.03 LTS) / aarch64 | OK | OK | OK | ||||||||||
|
To the developers/maintainers of the anota2seq package: - Allow up to 24 hours (and sometimes 48 hours) for your latest push to git@git.bioconductor.org:packages/anota2seq.git to reflect on this report. See Troubleshooting Build Report for more information. - Use the following Renviron settings to reproduce errors and warnings. - If 'R CMD check' started to fail recently on the Linux builder(s) over a missing dependency, add the missing dependency to 'Suggests:' in your DESCRIPTION file. See Renviron.bioc for more information. |
| Package: anota2seq |
| Version: 1.30.0 |
| Command: /Library/Frameworks/R.framework/Resources/bin/R CMD check --install=check:anota2seq.install-out.txt --library=/Library/Frameworks/R.framework/Resources/library --no-vignettes --timings anota2seq_1.30.0.tar.gz |
| StartedAt: 2025-10-14 12:48:27 -0400 (Tue, 14 Oct 2025) |
| EndedAt: 2025-10-14 12:53:01 -0400 (Tue, 14 Oct 2025) |
| EllapsedTime: 274.3 seconds |
| RetCode: 0 |
| Status: OK |
| CheckDir: anota2seq.Rcheck |
| Warnings: 0 |
##############################################################################
##############################################################################
###
### Running command:
###
### /Library/Frameworks/R.framework/Resources/bin/R CMD check --install=check:anota2seq.install-out.txt --library=/Library/Frameworks/R.framework/Resources/library --no-vignettes --timings anota2seq_1.30.0.tar.gz
###
##############################################################################
##############################################################################
* using log directory ‘/Users/biocbuild/bbs-3.21-bioc/meat/anota2seq.Rcheck’
* using R version 4.5.1 Patched (2025-06-14 r88325)
* using platform: aarch64-apple-darwin20
* R was compiled by
Apple clang version 16.0.0 (clang-1600.0.26.6)
GNU Fortran (GCC) 14.2.0
* running under: macOS Ventura 13.7.5
* using session charset: UTF-8
* using option ‘--no-vignettes’
* checking for file ‘anota2seq/DESCRIPTION’ ... OK
* this is package ‘anota2seq’ version ‘1.30.0’
* checking package namespace information ... OK
* checking package dependencies ... OK
* checking if this is a source package ... OK
* checking if there is a namespace ... OK
* checking for hidden files and directories ... OK
* checking for portable file names ... OK
* checking for sufficient/correct file permissions ... OK
* checking whether package ‘anota2seq’ can be installed ... OK
* checking installed package size ... OK
* checking package directory ... OK
* checking ‘build’ directory ... OK
* checking DESCRIPTION meta-information ... OK
* checking top-level files ... OK
* checking for left-over files ... OK
* checking index information ... OK
* checking package subdirectories ... OK
* checking code files for non-ASCII characters ... OK
* checking R files for syntax errors ... OK
* checking whether the package can be loaded ... OK
* checking whether the package can be loaded with stated dependencies ... OK
* checking whether the package can be unloaded cleanly ... OK
* checking whether the namespace can be loaded with stated dependencies ... OK
* checking whether the namespace can be unloaded cleanly ... OK
* checking dependencies in R code ... OK
* checking S3 generic/method consistency ... OK
* checking replacement functions ... OK
* checking foreign function calls ... OK
* checking R code for possible problems ... OK
* checking Rd files ... OK
* checking Rd metadata ... OK
* checking Rd cross-references ... OK
* checking for missing documentation entries ... OK
* checking for code/documentation mismatches ... OK
* checking Rd \usage sections ... OK
* checking Rd contents ... OK
* checking for unstated dependencies in examples ... OK
* checking contents of ‘data’ directory ... OK
* checking data for non-ASCII characters ... OK
* checking LazyData ... OK
* checking data for ASCII and uncompressed saves ... OK
* checking sizes of PDF files under ‘inst/doc’ ... OK
* checking files in ‘vignettes’ ... OK
* checking examples ... OK
Examples with CPU (user + system) or elapsed time > 5s
user system elapsed
anota2seqGetResidOutlierTest 30.026 0.189 30.385
anota2seqGetQualityControl 29.827 0.212 30.319
* checking for unstated dependencies in vignettes ... OK
* checking package vignettes ... OK
* checking running R code from vignettes ... SKIPPED
* checking re-building of vignette outputs ... SKIPPED
* checking PDF version of manual ... OK
* DONE
Status: OK
anota2seq.Rcheck/00install.out
############################################################################## ############################################################################## ### ### Running command: ### ### /Library/Frameworks/R.framework/Resources/bin/R CMD INSTALL anota2seq ### ############################################################################## ############################################################################## * installing to library ‘/Library/Frameworks/R.framework/Versions/4.5-arm64/Resources/library’ * installing *source* package ‘anota2seq’ ... ** this is package ‘anota2seq’ version ‘1.30.0’ ** using staged installation ** R ** data *** moving datasets to lazyload DB ** inst ** byte-compile and prepare package for lazy loading ** help *** installing help indices ** building package indices ** installing vignettes ** testing if installed package can be loaded from temporary location ** testing if installed package can be loaded from final location ** testing if installed package keeps a record of temporary installation path * DONE (anota2seq)
anota2seq.Rcheck/anota2seq-Ex.timings
| name | user | system | elapsed | |
| anota2seq-plots | 0.000 | 0.000 | 0.001 | |
| anota2seqAnalyze | 1.569 | 0.044 | 1.618 | |
| anota2seqDataSetFromMatrix | 0.056 | 0.003 | 0.060 | |
| anota2seqGetContrasts | 0.437 | 0.013 | 0.449 | |
| anota2seqGetCovariates | 0.448 | 0.012 | 0.460 | |
| anota2seqGetDeltaData | 0.452 | 0.016 | 0.474 | |
| anota2seqGetNormalizedData | 0.030 | 0.004 | 0.035 | |
| anota2seqGetOutput | 0.420 | 0.007 | 0.427 | |
| anota2seqGetQualityControl | 29.827 | 0.212 | 30.319 | |
| anota2seqGetResidOutlierTest | 30.026 | 0.189 | 30.385 | |
| anota2seqGetThresholds | 0.439 | 0.015 | 0.454 | |
| anota2seqPerformQC | 0 | 0 | 0 | |
| anota2seqRegModes | 1.259 | 0.039 | 1.312 | |
| anota2seqResidOutlierTest | 0.000 | 0.000 | 0.001 | |
| anota2seqRun | 1.117 | 0.020 | 1.141 | |
| anota2seqSelSigGenes | 0.440 | 0.013 | 0.453 | |
| anota2seq_data | 0.013 | 0.005 | 0.018 | |
| show-Anota2seqDataSet-method | 0.088 | 0.005 | 0.094 | |