| Back to Multiple platform build/check report for BioC 3.21: simplified long |
|
This page was generated on 2025-10-16 11:38 -0400 (Thu, 16 Oct 2025).
| Hostname | OS | Arch (*) | R version | Installed pkgs |
|---|---|---|---|---|
| nebbiolo1 | Linux (Ubuntu 24.04.3 LTS) | x86_64 | 4.5.1 (2025-06-13) -- "Great Square Root" | 4833 |
| merida1 | macOS 12.7.6 Monterey | x86_64 | 4.5.1 RC (2025-06-05 r88288) -- "Great Square Root" | 4614 |
| kjohnson1 | macOS 13.7.5 Ventura | arm64 | 4.5.1 Patched (2025-06-14 r88325) -- "Great Square Root" | 4555 |
| kunpeng2 | Linux (openEuler 24.03 LTS) | aarch64 | R Under development (unstable) (2025-02-19 r87757) -- "Unsuffered Consequences" | 4586 |
| Click on any hostname to see more info about the system (e.g. compilers) (*) as reported by 'uname -p', except on Windows and Mac OS X | ||||
| Package 63/2341 | Hostname | OS / Arch | INSTALL | BUILD | CHECK | BUILD BIN | ||||||||
| amplican 1.30.0 (landing page) Eivind Valen
| nebbiolo1 | Linux (Ubuntu 24.04.3 LTS) / x86_64 | OK | OK | OK | |||||||||
| merida1 | macOS 12.7.6 Monterey / x86_64 | OK | OK | OK | OK | |||||||||
| kjohnson1 | macOS 13.7.5 Ventura / arm64 | OK | OK | OK | OK | |||||||||
| kunpeng2 | Linux (openEuler 24.03 LTS) / aarch64 | OK | OK | OK | ||||||||||
|
To the developers/maintainers of the amplican package: - Allow up to 24 hours (and sometimes 48 hours) for your latest push to git@git.bioconductor.org:packages/amplican.git to reflect on this report. See Troubleshooting Build Report for more information. - Use the following Renviron settings to reproduce errors and warnings. - If 'R CMD check' started to fail recently on the Linux builder(s) over a missing dependency, add the missing dependency to 'Suggests:' in your DESCRIPTION file. See Renviron.bioc for more information. |
| Package: amplican |
| Version: 1.30.0 |
| Command: /Library/Frameworks/R.framework/Resources/bin/R CMD check --install=check:amplican.install-out.txt --library=/Library/Frameworks/R.framework/Resources/library --no-vignettes --timings amplican_1.30.0.tar.gz |
| StartedAt: 2025-10-13 23:57:30 -0400 (Mon, 13 Oct 2025) |
| EndedAt: 2025-10-14 00:04:02 -0400 (Tue, 14 Oct 2025) |
| EllapsedTime: 391.6 seconds |
| RetCode: 0 |
| Status: OK |
| CheckDir: amplican.Rcheck |
| Warnings: 0 |
##############################################################################
##############################################################################
###
### Running command:
###
### /Library/Frameworks/R.framework/Resources/bin/R CMD check --install=check:amplican.install-out.txt --library=/Library/Frameworks/R.framework/Resources/library --no-vignettes --timings amplican_1.30.0.tar.gz
###
##############################################################################
##############################################################################
* using log directory ‘/Users/biocbuild/bbs-3.21-bioc/meat/amplican.Rcheck’
* using R version 4.5.1 RC (2025-06-05 r88288)
* using platform: x86_64-apple-darwin20
* R was compiled by
Apple clang version 14.0.0 (clang-1400.0.29.202)
GNU Fortran (GCC) 14.2.0
* running under: macOS Monterey 12.7.6
* using session charset: UTF-8
* using option ‘--no-vignettes’
* checking for file ‘amplican/DESCRIPTION’ ... OK
* checking extension type ... Package
* this is package ‘amplican’ version ‘1.30.0’
* package encoding: UTF-8
* checking package namespace information ... OK
* checking package dependencies ... OK
* checking if this is a source package ... OK
* checking if there is a namespace ... OK
* checking for hidden files and directories ... OK
* checking for portable file names ... OK
* checking for sufficient/correct file permissions ... OK
* checking whether package ‘amplican’ can be installed ... OK
* used C++ compiler: ‘Apple clang version 14.0.0 (clang-1400.0.29.202)’
* used SDK: ‘MacOSX11.3.sdk’
* checking installed package size ... OK
* checking package directory ... OK
* checking ‘build’ directory ... OK
* checking DESCRIPTION meta-information ... OK
* checking top-level files ... OK
* checking for left-over files ... OK
* checking index information ... OK
* checking package subdirectories ... OK
* checking code files for non-ASCII characters ... OK
* checking R files for syntax errors ... OK
* checking whether the package can be loaded ... OK
* checking whether the package can be loaded with stated dependencies ... OK
* checking whether the package can be unloaded cleanly ... OK
* checking whether the namespace can be loaded with stated dependencies ... OK
* checking whether the namespace can be unloaded cleanly ... OK
* checking whether startup messages can be suppressed ... OK
* checking dependencies in R code ... NOTE
There are ::: calls to the package's namespace in its code. A package
almost never needs to use ::: for its own objects:
‘get_seq’
* checking S3 generic/method consistency ... OK
* checking replacement functions ... OK
* checking foreign function calls ... OK
* checking R code for possible problems ... OK
* checking Rd files ... NOTE
checkRd: (-1) amplicanAlign.Rd:64: Lost braces in \itemize; meant \describe ?
checkRd: (-1) amplicanAlign.Rd:65-68: Lost braces in \itemize; meant \describe ?
checkRd: (-1) amplicanAlign.Rd:69: Lost braces in \itemize; meant \describe ?
checkRd: (-1) amplicanAlign.Rd:70: Lost braces in \itemize; meant \describe ?
checkRd: (-1) amplicanPipeline.Rd:58-59: Lost braces in \itemize; meant \describe ?
checkRd: (-1) amplicanPipeline.Rd:60-70: Lost braces in \itemize; meant \describe ?
checkRd: (-1) amplicanPipeline.Rd:71: Lost braces in \itemize; meant \describe ?
checkRd: (-1) amplicanPipeline.Rd:72-73: Lost braces in \itemize; meant \describe ?
checkRd: (-1) amplicanPipeline.Rd:106: Lost braces in \itemize; meant \describe ?
checkRd: (-1) amplicanPipeline.Rd:107-110: Lost braces in \itemize; meant \describe ?
checkRd: (-1) amplicanPipeline.Rd:111: Lost braces in \itemize; meant \describe ?
checkRd: (-1) amplicanPipeline.Rd:112: Lost braces in \itemize; meant \describe ?
checkRd: (-1) amplicanPipelineConservative.Rd:58-59: Lost braces in \itemize; meant \describe ?
checkRd: (-1) amplicanPipelineConservative.Rd:60-70: Lost braces in \itemize; meant \describe ?
checkRd: (-1) amplicanPipelineConservative.Rd:71: Lost braces in \itemize; meant \describe ?
checkRd: (-1) amplicanPipelineConservative.Rd:72-73: Lost braces in \itemize; meant \describe ?
checkRd: (-1) amplicanPipelineConservative.Rd:106: Lost braces in \itemize; meant \describe ?
checkRd: (-1) amplicanPipelineConservative.Rd:107-110: Lost braces in \itemize; meant \describe ?
checkRd: (-1) amplicanPipelineConservative.Rd:111: Lost braces in \itemize; meant \describe ?
checkRd: (-1) amplicanPipelineConservative.Rd:112: Lost braces in \itemize; meant \describe ?
checkRd: (-1) amplicanSummarize.Rd:26-27: Lost braces in \itemize; meant \describe ?
checkRd: (-1) amplicanSummarize.Rd:28-29: Lost braces in \itemize; meant \describe ?
checkRd: (-1) makeAlignment.Rd:52: Lost braces in \itemize; meant \describe ?
checkRd: (-1) makeAlignment.Rd:53-56: Lost braces in \itemize; meant \describe ?
checkRd: (-1) makeAlignment.Rd:57: Lost braces in \itemize; meant \describe ?
checkRd: (-1) makeAlignment.Rd:58: Lost braces in \itemize; meant \describe ?
checkRd: (-1) plot_variants.Rd:74-75: Lost braces in \itemize; meant \describe ?
checkRd: (-1) plot_variants.Rd:76: Lost braces in \itemize; meant \describe ?
checkRd: (-1) plot_variants.Rd:77-78: Lost braces in \itemize; meant \describe ?
* checking Rd metadata ... OK
* checking Rd cross-references ... NOTE
Found the following Rd file(s) with Rd \link{} targets missing package
anchors:
AlignmentsExperimentSet-class.Rd: PairwiseAlignmentsSingleSubject,
GRanges
amplicanAlign.Rd: nucleotideSubstitutionMatrix
amplicanMap.Rd: GRanges
amplicanPipeline.Rd: nucleotideSubstitutionMatrix
amplicanPipelineConservative.Rd: nucleotideSubstitutionMatrix
cigarsToEvents.Rd: GRanges
cumsumw.Rd: IRanges
defGR.Rd: IRanges, GRanges
extractEvents.Rd: GRanges
findPD.Rd: GRanges
fwdReads-set.Rd: PairwiseAlignmentsSingleSubject
fwdReadsType-set.Rd: PairwiseAlignmentsSingleSubject
getEventInfo.Rd: PairwiseAlignmentsSingleSubject, GRanges
getEvents.Rd: pairwiseAlignment, GRanges
makeAlignment.Rd: nucleotideSubstitutionMatrix
pairToEvents.Rd: GRanges
readCounts-set.Rd: PairwiseAlignmentsSingleSubject
rveReads-set.Rd: PairwiseAlignmentsSingleSubject
rveReadsType-set.Rd: PairwiseAlignmentsSingleSubject
unassignedData-set.Rd: PairwiseAlignmentsSingleSubject
upperGroups.Rd: IRanges
Please provide package anchors for all Rd \link{} targets not in the
package itself and the base packages.
* checking for missing documentation entries ... OK
* checking for code/documentation mismatches ... OK
* checking Rd \usage sections ... NOTE
Documented arguments not in \usage in Rd file 'getEventInfo.Rd':
‘ampl_len’
Functions with \usage entries need to have the appropriate \alias
entries, and all their arguments documented.
The \usage entries must correspond to syntactically valid R code.
See chapter ‘Writing R documentation files’ in the ‘Writing R
Extensions’ manual.
* checking Rd contents ... OK
* checking for unstated dependencies in examples ... OK
* checking line endings in C/C++/Fortran sources/headers ... OK
* checking compiled code ... NOTE
Note: information on .o files is not available
* checking files in ‘vignettes’ ... OK
* checking examples ... OK
Examples with CPU (user + system) or elapsed time > 5s
user system elapsed
amplicanAlign 15.694 1.424 18.850
amplicanPipeline 16.329 0.629 24.462
extractEvents 6.251 0.056 6.529
* checking for unstated dependencies in ‘tests’ ... OK
* checking tests ...
Running ‘testthat.R’
OK
* checking for unstated dependencies in vignettes ... OK
* checking package vignettes ... OK
* checking running R code from vignettes ... SKIPPED
* checking re-building of vignette outputs ... SKIPPED
* checking PDF version of manual ... OK
* DONE
Status: 5 NOTEs
See
‘/Users/biocbuild/bbs-3.21-bioc/meat/amplican.Rcheck/00check.log’
for details.
amplican.Rcheck/00install.out
############################################################################## ############################################################################## ### ### Running command: ### ### /Library/Frameworks/R.framework/Resources/bin/R CMD INSTALL amplican ### ############################################################################## ############################################################################## * installing to library ‘/Library/Frameworks/R.framework/Versions/4.5-x86_64/Resources/library’ * installing *source* package ‘amplican’ ... ** this is package ‘amplican’ version ‘1.30.0’ ** using staged installation ** libs using C++ compiler: ‘Apple clang version 14.0.0 (clang-1400.0.29.202)’ using SDK: ‘MacOSX11.3.sdk’ clang++ -arch x86_64 -std=gnu++17 -I"/Library/Frameworks/R.framework/Resources/include" -DNDEBUG -I'/Library/Frameworks/R.framework/Versions/4.5-x86_64/Resources/library/Rcpp/include' -I/opt/R/x86_64/include -fPIC -falign-functions=64 -Wall -g -O2 -c RcppExports.cpp -o RcppExports.o clang++ -arch x86_64 -std=gnu++17 -I"/Library/Frameworks/R.framework/Resources/include" -DNDEBUG -I'/Library/Frameworks/R.framework/Versions/4.5-x86_64/Resources/library/Rcpp/include' -I/opt/R/x86_64/include -fPIC -falign-functions=64 -Wall -g -O2 -c bezier.cpp -o bezier.o clang++ -arch x86_64 -std=gnu++17 -dynamiclib -Wl,-headerpad_max_install_names -undefined dynamic_lookup -L/Library/Frameworks/R.framework/Resources/lib -L/opt/R/x86_64/lib -o amplican.so RcppExports.o bezier.o -F/Library/Frameworks/R.framework/.. -framework R installing to /Library/Frameworks/R.framework/Versions/4.5-x86_64/Resources/library/00LOCK-amplican/00new/amplican/libs ** R ** inst ** byte-compile and prepare package for lazy loading ** help *** installing help indices ** building package indices ** installing vignettes ** testing if installed package can be loaded from temporary location ** checking absolute paths in shared objects and dynamic libraries ** testing if installed package can be loaded from final location ** testing if installed package keeps a record of temporary installation path * DONE (amplican)
amplican.Rcheck/tests/testthat.Rout
R version 4.5.1 RC (2025-06-05 r88288) -- "Great Square Root"
Copyright (C) 2025 The R Foundation for Statistical Computing
Platform: x86_64-apple-darwin20
R is free software and comes with ABSOLUTELY NO WARRANTY.
You are welcome to redistribute it under certain conditions.
Type 'license()' or 'licence()' for distribution details.
R is a collaborative project with many contributors.
Type 'contributors()' for more information and
'citation()' on how to cite R or R packages in publications.
Type 'demo()' for some demos, 'help()' for on-line help, or
'help.start()' for an HTML browser interface to help.
Type 'q()' to quit R.
> library(testthat)
> library(amplican)
Loading required package: BiocGenerics
Loading required package: generics
Attaching package: 'generics'
The following objects are masked from 'package:base':
as.difftime, as.factor, as.ordered, intersect, is.element, setdiff,
setequal, union
Attaching package: 'BiocGenerics'
The following objects are masked from 'package:stats':
IQR, mad, sd, var, xtabs
The following objects are masked from 'package:base':
Filter, Find, Map, Position, Reduce, anyDuplicated, aperm, append,
as.data.frame, basename, cbind, colnames, dirname, do.call,
duplicated, eval, evalq, get, grep, grepl, is.unsorted, lapply,
mapply, match, mget, order, paste, pmax, pmax.int, pmin, pmin.int,
rank, rbind, rownames, sapply, saveRDS, table, tapply, unique,
unsplit, which.max, which.min
Loading required package: Biostrings
Loading required package: S4Vectors
Loading required package: stats4
Attaching package: 'S4Vectors'
The following object is masked from 'package:utils':
findMatches
The following objects are masked from 'package:base':
I, expand.grid, unname
Loading required package: IRanges
Loading required package: XVector
Loading required package: GenomeInfoDb
Attaching package: 'Biostrings'
The following object is masked from 'package:base':
strsplit
Loading required package: pwalign
Attaching package: 'pwalign'
The following objects are masked from 'package:Biostrings':
PairwiseAlignments, PairwiseAlignmentsSingleSubject, aligned,
alignedPattern, alignedSubject, compareStrings, deletion,
errorSubstitutionMatrices, indel, insertion, mismatchSummary,
mismatchTable, nedit, nindel, nucleotideSubstitutionMatrix,
pairwiseAlignment, pattern, pid, qualitySubstitutionMatrices,
stringDist, unaligned, writePairwiseAlignments
Loading required package: data.table
Attaching package: 'data.table'
The following object is masked from 'package:IRanges':
shift
The following objects are masked from 'package:S4Vectors':
first, second
version: 1.30.0
Please consider supporting this software by citing:
Labun et al. 2019
Accurate analysis of genuine CRISPR editing events with ampliCan.
Genome Res. 2019 Mar 8
doi: 10.1101/gr.244293.118
>
> test_check("amplican")
[ FAIL 0 | WARN 11 | SKIP 0 | PASS 57 ]
[ FAIL 0 | WARN 11 | SKIP 0 | PASS 57 ]
>
> proc.time()
user system elapsed
51.994 2.599 56.493
amplican.Rcheck/amplican-Ex.timings
| name | user | system | elapsed | |
| AlignmentsExperimentSet-class | 2.314 | 0.074 | 2.693 | |
| amplicanAlign | 15.694 | 1.424 | 18.850 | |
| amplicanConsensus | 0.225 | 0.004 | 0.246 | |
| amplicanFilter | 0.049 | 0.018 | 0.077 | |
| amplicanMap | 0.618 | 0.008 | 0.681 | |
| amplicanNormalize | 0.061 | 0.002 | 0.070 | |
| amplicanOverlap | 0.035 | 0.003 | 0.044 | |
| amplicanPipeline | 16.329 | 0.629 | 24.462 | |
| amplicanReport | 0.029 | 0.051 | 0.141 | |
| amplicanSummarize | 0.043 | 0.006 | 0.055 | |
| amplican_print_reads | 0.600 | 0.011 | 0.647 | |
| assignedCount | 0.053 | 0.004 | 0.059 | |
| barcodeData-set | 0.007 | 0.001 | 0.011 | |
| barcodeData | 0.008 | 0.001 | 0.010 | |
| comb_along | 0.058 | 0.011 | 0.071 | |
| experimentData-set | 0.007 | 0.001 | 0.010 | |
| experimentData | 0.013 | 0.005 | 0.040 | |
| extractEvents | 6.251 | 0.056 | 6.529 | |
| findEOP | 0.007 | 0.004 | 0.011 | |
| findLQR | 0.007 | 0.002 | 0.008 | |
| findPD | 0.007 | 0.004 | 0.010 | |
| fwdReads-set | 0.007 | 0.001 | 0.008 | |
| fwdReads | 0.756 | 0.004 | 0.762 | |
| fwdReadsType-set | 0.007 | 0.001 | 0.008 | |
| fwdReadsType | 0.004 | 0.001 | 0.005 | |
| geom_bezier | 1.450 | 0.013 | 1.514 | |
| lookupAlignment | 0.548 | 0.003 | 0.560 | |
| metaplot_deletions | 0.938 | 0.008 | 0.991 | |
| metaplot_insertions | 1.265 | 0.007 | 1.317 | |
| metaplot_mismatches | 1.300 | 0.008 | 1.340 | |
| plot_cuts | 0.873 | 0.005 | 0.881 | |
| plot_deletions | 1.052 | 0.006 | 1.060 | |
| plot_height | 0.001 | 0.000 | 0.001 | |
| plot_heterogeneity | 0.845 | 0.007 | 0.854 | |
| plot_insertions | 1.915 | 0.008 | 1.927 | |
| plot_mismatches | 4.132 | 0.071 | 4.233 | |
| plot_variants | 2.688 | 0.014 | 2.707 | |
| readCounts-set | 0.007 | 0.001 | 0.008 | |
| readCounts | 0.005 | 0.002 | 0.006 | |
| rveReads-set | 0.007 | 0.002 | 0.009 | |
| rveReads | 0.801 | 0.008 | 0.816 | |
| rveReadsType-set | 0.007 | 0.002 | 0.008 | |
| rveReadsType | 0.005 | 0.001 | 0.007 | |
| unassignedCount | 0.005 | 0.002 | 0.006 | |
| unassignedData-set | 0.007 | 0.002 | 0.009 | |
| unassignedData | 0.009 | 0.003 | 0.011 | |
| writeAlignments | 0.048 | 0.003 | 0.052 | |