| Back to Multiple platform build/check report for BioC 3.21: simplified long |
|
This page was generated on 2025-10-16 11:39 -0400 (Thu, 16 Oct 2025).
| Hostname | OS | Arch (*) | R version | Installed pkgs |
|---|---|---|---|---|
| nebbiolo1 | Linux (Ubuntu 24.04.3 LTS) | x86_64 | 4.5.1 (2025-06-13) -- "Great Square Root" | 4833 |
| merida1 | macOS 12.7.6 Monterey | x86_64 | 4.5.1 RC (2025-06-05 r88288) -- "Great Square Root" | 4614 |
| kjohnson1 | macOS 13.7.5 Ventura | arm64 | 4.5.1 Patched (2025-06-14 r88325) -- "Great Square Root" | 4555 |
| kunpeng2 | Linux (openEuler 24.03 LTS) | aarch64 | R Under development (unstable) (2025-02-19 r87757) -- "Unsuffered Consequences" | 4586 |
| Click on any hostname to see more info about the system (e.g. compilers) (*) as reported by 'uname -p', except on Windows and Mac OS X | ||||
| Package 2163/2341 | Hostname | OS / Arch | INSTALL | BUILD | CHECK | BUILD BIN | ||||||||
| TargetSearch 2.10.0 (landing page) Alvaro Cuadros-Inostroza
| nebbiolo1 | Linux (Ubuntu 24.04.3 LTS) / x86_64 | OK | OK | OK | |||||||||
| merida1 | macOS 12.7.6 Monterey / x86_64 | OK | OK | OK | OK | |||||||||
| kjohnson1 | macOS 13.7.5 Ventura / arm64 | OK | OK | OK | OK | |||||||||
| kunpeng2 | Linux (openEuler 24.03 LTS) / aarch64 | OK | OK | OK | ||||||||||
|
To the developers/maintainers of the TargetSearch package: - Allow up to 24 hours (and sometimes 48 hours) for your latest push to git@git.bioconductor.org:packages/TargetSearch.git to reflect on this report. See Troubleshooting Build Report for more information. - Use the following Renviron settings to reproduce errors and warnings. - If 'R CMD check' started to fail recently on the Linux builder(s) over a missing dependency, add the missing dependency to 'Suggests:' in your DESCRIPTION file. See Renviron.bioc for more information. |
| Package: TargetSearch |
| Version: 2.10.0 |
| Command: /Library/Frameworks/R.framework/Resources/bin/R CMD check --install=check:TargetSearch.install-out.txt --library=/Library/Frameworks/R.framework/Resources/library --no-vignettes --timings TargetSearch_2.10.0.tar.gz |
| StartedAt: 2025-10-14 11:29:13 -0400 (Tue, 14 Oct 2025) |
| EndedAt: 2025-10-14 11:32:10 -0400 (Tue, 14 Oct 2025) |
| EllapsedTime: 176.8 seconds |
| RetCode: 0 |
| Status: OK |
| CheckDir: TargetSearch.Rcheck |
| Warnings: 0 |
##############################################################################
##############################################################################
###
### Running command:
###
### /Library/Frameworks/R.framework/Resources/bin/R CMD check --install=check:TargetSearch.install-out.txt --library=/Library/Frameworks/R.framework/Resources/library --no-vignettes --timings TargetSearch_2.10.0.tar.gz
###
##############################################################################
##############################################################################
* using log directory ‘/Users/biocbuild/bbs-3.21-bioc/meat/TargetSearch.Rcheck’
* using R version 4.5.1 RC (2025-06-05 r88288)
* using platform: x86_64-apple-darwin20
* R was compiled by
Apple clang version 14.0.0 (clang-1400.0.29.202)
GNU Fortran (GCC) 14.2.0
* running under: macOS Monterey 12.7.6
* using session charset: UTF-8
* using option ‘--no-vignettes’
* checking for file ‘TargetSearch/DESCRIPTION’ ... OK
* checking extension type ... Package
* this is package ‘TargetSearch’ version ‘2.10.0’
* checking package namespace information ... OK
* checking package dependencies ... OK
* checking if this is a source package ... OK
* checking if there is a namespace ... OK
* checking for hidden files and directories ... OK
* checking for portable file names ... OK
* checking for sufficient/correct file permissions ... OK
* checking whether package ‘TargetSearch’ can be installed ... OK
* used C compiler: ‘Apple clang version 14.0.0 (clang-1400.0.29.202)’
* used SDK: ‘MacOSX11.3.sdk’
* checking installed package size ... OK
* checking package directory ... OK
* checking ‘build’ directory ... OK
* checking DESCRIPTION meta-information ... OK
* checking top-level files ... OK
* checking for left-over files ... OK
* checking index information ... OK
* checking package subdirectories ... OK
* checking code files for non-ASCII characters ... OK
* checking R files for syntax errors ... OK
* checking whether the package can be loaded ... OK
* checking whether the package can be loaded with stated dependencies ... OK
* checking whether the package can be unloaded cleanly ... OK
* checking whether the namespace can be loaded with stated dependencies ... OK
* checking whether the namespace can be unloaded cleanly ... OK
* checking dependencies in R code ... OK
* checking S3 generic/method consistency ... OK
* checking replacement functions ... OK
* checking foreign function calls ... OK
* checking R code for possible problems ... OK
* checking Rd files ... OK
* checking Rd metadata ... OK
* checking Rd cross-references ... OK
* checking for missing documentation entries ... OK
* checking for code/documentation mismatches ... OK
* checking Rd \usage sections ... OK
* checking Rd contents ... OK
* checking for unstated dependencies in examples ... OK
* checking contents of ‘data’ directory ... OK
* checking data for non-ASCII characters ... OK
* checking data for ASCII and uncompressed saves ... OK
* checking line endings in C/C++/Fortran sources/headers ... OK
* checking compiled code ... NOTE
Note: information on .o files is not available
* checking sizes of PDF files under ‘inst/doc’ ... OK
* checking installed files from ‘inst/doc’ ... OK
* checking files in ‘vignettes’ ... OK
* checking examples ... OK
Examples with CPU (user + system) or elapsed time > 5s
user system elapsed
RIcorrect 20.384 2.551 23.399
ncdf4_convert_from_path 4.324 0.929 5.361
* checking for unstated dependencies in ‘tests’ ... OK
* checking tests ...
Running ‘tinytest.R’
OK
* checking for unstated dependencies in vignettes ... OK
* checking package vignettes ... OK
* checking running R code from vignettes ... SKIPPED
* checking re-building of vignette outputs ... SKIPPED
* checking PDF version of manual ... OK
* DONE
Status: 1 NOTE
See
‘/Users/biocbuild/bbs-3.21-bioc/meat/TargetSearch.Rcheck/00check.log’
for details.
TargetSearch.Rcheck/00install.out
############################################################################## ############################################################################## ### ### Running command: ### ### /Library/Frameworks/R.framework/Resources/bin/R CMD INSTALL TargetSearch ### ############################################################################## ############################################################################## * installing to library ‘/Library/Frameworks/R.framework/Versions/4.5-x86_64/Resources/library’ * installing *source* package ‘TargetSearch’ ... ** this is package ‘TargetSearch’ version ‘2.10.0’ ** using staged installation ** libs using C compiler: ‘Apple clang version 14.0.0 (clang-1400.0.29.202)’ using SDK: ‘MacOSX11.3.sdk’ clang -arch x86_64 -I"/Library/Frameworks/R.framework/Resources/include" -DNDEBUG -I/opt/R/x86_64/include -fPIC -falign-functions=64 -Wall -g -O2 -c Rinit.c -o Rinit.o clang -arch x86_64 -I"/Library/Frameworks/R.framework/Resources/include" -DNDEBUG -I/opt/R/x86_64/include -fPIC -falign-functions=64 -Wall -g -O2 -c baseline.c -o baseline.o clang -arch x86_64 -I"/Library/Frameworks/R.framework/Resources/include" -DNDEBUG -I/opt/R/x86_64/include -fPIC -falign-functions=64 -Wall -g -O2 -c detection.c -o detection.o clang -arch x86_64 -I"/Library/Frameworks/R.framework/Resources/include" -DNDEBUG -I/opt/R/x86_64/include -fPIC -falign-functions=64 -Wall -g -O2 -c file.c -o file.o clang -arch x86_64 -I"/Library/Frameworks/R.framework/Resources/include" -DNDEBUG -I/opt/R/x86_64/include -fPIC -falign-functions=64 -Wall -g -O2 -c find.c -o find.o clang -arch x86_64 -I"/Library/Frameworks/R.framework/Resources/include" -DNDEBUG -I/opt/R/x86_64/include -fPIC -falign-functions=64 -Wall -g -O2 -c get_line.c -o get_line.o clang -arch x86_64 -I"/Library/Frameworks/R.framework/Resources/include" -DNDEBUG -I/opt/R/x86_64/include -fPIC -falign-functions=64 -Wall -g -O2 -c hpf.c -o hpf.o clang -arch x86_64 -I"/Library/Frameworks/R.framework/Resources/include" -DNDEBUG -I/opt/R/x86_64/include -fPIC -falign-functions=64 -Wall -g -O2 -c matrix.c -o matrix.o clang -arch x86_64 -I"/Library/Frameworks/R.framework/Resources/include" -DNDEBUG -I/opt/R/x86_64/include -fPIC -falign-functions=64 -Wall -g -O2 -c ncdf.c -o ncdf.o clang -arch x86_64 -I"/Library/Frameworks/R.framework/Resources/include" -DNDEBUG -I/opt/R/x86_64/include -fPIC -falign-functions=64 -Wall -g -O2 -c peak.c -o peak.o clang -arch x86_64 -I"/Library/Frameworks/R.framework/Resources/include" -DNDEBUG -I/opt/R/x86_64/include -fPIC -falign-functions=64 -Wall -g -O2 -c spectrum.c -o spectrum.o clang -arch x86_64 -I"/Library/Frameworks/R.framework/Resources/include" -DNDEBUG -I/opt/R/x86_64/include -fPIC -falign-functions=64 -Wall -g -O2 -c strutils.c -o strutils.o clang -arch x86_64 -I"/Library/Frameworks/R.framework/Resources/include" -DNDEBUG -I/opt/R/x86_64/include -fPIC -falign-functions=64 -Wall -g -O2 -c utils.c -o utils.o clang -arch x86_64 -dynamiclib -Wl,-headerpad_max_install_names -undefined dynamic_lookup -L/Library/Frameworks/R.framework/Resources/lib -L/opt/R/x86_64/lib -o TargetSearch.so Rinit.o baseline.o detection.o file.o find.o get_line.o hpf.o matrix.o ncdf.o peak.o spectrum.o strutils.o utils.o -F/Library/Frameworks/R.framework/.. -framework R installing to /Library/Frameworks/R.framework/Versions/4.5-x86_64/Resources/library/00LOCK-TargetSearch/00new/TargetSearch/libs ** R ** data ** inst ** byte-compile and prepare package for lazy loading ** help *** installing help indices ** building package indices ** installing vignettes ** testing if installed package can be loaded from temporary location ** checking absolute paths in shared objects and dynamic libraries ** testing if installed package can be loaded from final location ** testing if installed package keeps a record of temporary installation path * DONE (TargetSearch)
TargetSearch.Rcheck/tests/tinytest.Rout
R version 4.5.1 RC (2025-06-05 r88288) -- "Great Square Root"
Copyright (C) 2025 The R Foundation for Statistical Computing
Platform: x86_64-apple-darwin20
R is free software and comes with ABSOLUTELY NO WARRANTY.
You are welcome to redistribute it under certain conditions.
Type 'license()' or 'licence()' for distribution details.
R is a collaborative project with many contributors.
Type 'contributors()' for more information and
'citation()' on how to cite R or R packages in publications.
Type 'demo()' for some demos, 'help()' for on-line help, or
'help.start()' for an HTML browser interface to help.
Type 'q()' to quit R.
> if ( requireNamespace("tinytest", quietly=TRUE) && requireNamespace("TargetSearchData", quietly=TRUE)) {
+ tinytest::test_package("TargetSearch", color=FALSE, verbose=1)
+ }
Loading required package: TargetSearchData
test_FindAllPeaks.R........... 19 tests OK 2.9s
FAMEs were saved in /tmp/RtmprhVQkk/file5bef7d6cdf33.pdf
FAMEs were saved in /tmp/RtmprhVQkk/file5bef7d6cdf33.pdf
FAMEs were saved in /tmp/RtmprhVQkk/file5bef7d6cdf33.pdf
FAMEs were saved in /tmp/RtmprhVQkk/file5bef7d6cdf33.pdf
test_fameoutliers.R........... 5 tests OK 0.2s
test_file.R................... 4 tests OK 0.2s
test_import_fame.R............ 14 tests OK 34ms
test_import_library.R......... 15 tests OK 0.3s
test_ncdf4_plot_peak.R........ 7 tests OK 0.8s
test_quantMatrix.R............ 8 tests OK 73ms
test_ri_data_extract.R........ 6 tests OK 9.1s
test_ri_plot_peak.R........... 22 tests OK 0.3s
test_tsLib.R.................. 30 tests OK 0.2s
test_tsProfile.R.............. 12 tests OK 32ms
test_tsRim.R.................. 9 tests OK 29ms
test_tsSample.R............... 19 tests OK 78ms
test_write_ri_file.R.......... 6 tests OK 19ms
All ok, 176 results (14.2s)
>
> proc.time()
user system elapsed
14.155 0.534 14.892
TargetSearch.Rcheck/TargetSearch-Ex.timings
| name | user | system | elapsed | |
| FAMEoutliers | 0.119 | 0.021 | 0.142 | |
| FindAllPeaks | 2.123 | 0.081 | 2.256 | |
| FindPeaks | 0.365 | 0.012 | 0.379 | |
| ImportFameSettings | 0.013 | 0.002 | 0.016 | |
| ImportLibrary | 0.043 | 0.003 | 0.045 | |
| ImportSamples | 0.020 | 0.003 | 0.024 | |
| NetCDFPeakFinding | 0.413 | 0.069 | 0.503 | |
| Profile | 1.585 | 0.040 | 1.638 | |
| ProfileCleanUp | 1.381 | 0.036 | 1.429 | |
| RIcorrect | 20.384 | 2.551 | 23.399 | |
| TSExample | 2.985 | 0.364 | 3.437 | |
| Write.Results | 0.124 | 0.014 | 0.140 | |
| baseline | 0.561 | 0.034 | 0.612 | |
| baselineCorrection | 0.587 | 0.034 | 0.631 | |
| baselineCorrectionQuant | 0.623 | 0.042 | 0.674 | |
| checkRimLim | 2.095 | 0.119 | 2.274 | |
| file | 0.156 | 0.021 | 0.180 | |
| fixRI | 2.071 | 0.123 | 2.271 | |
| makeIndex | 0.005 | 0.003 | 0.009 | |
| medianRILib | 0.794 | 0.031 | 0.847 | |
| ncdf4Convert-method | 0.166 | 0.020 | 0.187 | |
| ncdf4_convert | 0.045 | 0.003 | 0.047 | |
| ncdf4_convert_from_path | 4.324 | 0.929 | 5.361 | |
| ncdf4_data_extract | 0.746 | 0.118 | 0.875 | |
| ncdf4_plot_peak | 2.071 | 0.330 | 2.431 | |
| ncdf4_update_ri | 0.581 | 0.074 | 0.676 | |
| peakCDFextraction | 0.999 | 0.087 | 1.139 | |
| peakFind | 0.488 | 0.042 | 0.554 | |
| plotFAME | 0.013 | 0.007 | 0.020 | |
| plotPeak | 0.413 | 0.021 | 0.436 | |
| plotPeakRI | 1.534 | 0.071 | 1.618 | |
| plotPeakSimple | 0.813 | 0.051 | 0.871 | |
| plotRIdev | 0.749 | 0.042 | 0.796 | |
| plotRefSpectra | 0.204 | 0.007 | 0.212 | |
| plotSpectra | 0.428 | 0.020 | 0.452 | |
| quantMatrix | 1.391 | 0.047 | 1.448 | |
| ri2rt | 0.007 | 0.000 | 0.008 | |
| riMatrix | 1.816 | 0.091 | 2.185 | |
| ri_data_extract | 0.086 | 0.005 | 0.158 | |
| ri_plot_peak | 2.241 | 0.085 | 2.972 | |
| rt2ri | 0.007 | 0.000 | 0.008 | |
| sampleRI | 0.856 | 0.047 | 0.921 | |
| tsLib-class | 0.054 | 0.006 | 0.061 | |
| tsMSdata-class | 0.025 | 0.060 | 0.085 | |
| tsProfile-class | 0.016 | 0.008 | 0.024 | |
| tsRim-class | 0.005 | 0.002 | 0.006 | |
| tsSample-class | 0.046 | 0.006 | 0.053 | |
| tsUpdate-method | 0.000 | 0.000 | 0.001 | |
| updateRI | 1.647 | 0.156 | 1.875 | |
| writeLibText | 0.041 | 0.002 | 0.043 | |
| writeMSP | 0.039 | 0.008 | 0.046 | |