| Back to Multiple platform build/check report for BioC 3.21: simplified long | 
 | 
This page was generated on 2025-10-16 11:41 -0400 (Thu, 16 Oct 2025).
| Hostname | OS | Arch (*) | R version | Installed pkgs | 
|---|---|---|---|---|
| nebbiolo1 | Linux (Ubuntu 24.04.3 LTS) | x86_64 | 4.5.1 (2025-06-13) -- "Great Square Root" | 4833 | 
| merida1 | macOS 12.7.6 Monterey | x86_64 | 4.5.1 RC (2025-06-05 r88288) -- "Great Square Root" | 4614 | 
| kjohnson1 | macOS 13.7.5 Ventura | arm64 | 4.5.1 Patched (2025-06-14 r88325) -- "Great Square Root" | 4555 | 
| kunpeng2 | Linux (openEuler 24.03 LTS) | aarch64 | R Under development (unstable) (2025-02-19 r87757) -- "Unsuffered Consequences" | 4586 | 
| Click on any hostname to see more info about the system (e.g. compilers) (*) as reported by 'uname -p', except on Windows and Mac OS X | ||||
| Package 2015/2341 | Hostname | OS / Arch | INSTALL | BUILD | CHECK | BUILD BIN | ||||||||
| SingleR 2.10.0  (landing page) Aaron Lun 
 | nebbiolo1 | Linux (Ubuntu 24.04.3 LTS) / x86_64 | OK | OK | OK |  | ||||||||
| merida1 | macOS 12.7.6 Monterey / x86_64 | OK | OK | OK | OK |  | ||||||||
| kjohnson1 | macOS 13.7.5 Ventura / arm64 | OK | OK | OK | OK |  | ||||||||
| kunpeng2 | Linux (openEuler 24.03 LTS) / aarch64 | OK | OK | OK | ||||||||||
| To the developers/maintainers of the SingleR package: - Allow up to 24 hours (and sometimes 48 hours) for your latest push to git@git.bioconductor.org:packages/SingleR.git to reflect on this report. See Troubleshooting Build Report for more information. - Use the following Renviron settings to reproduce errors and warnings. - If 'R CMD check' started to fail recently on the Linux builder(s) over a missing dependency, add the missing dependency to 'Suggests:' in your DESCRIPTION file. See Renviron.bioc for more information. - See Martin Grigorov's blog post for how to debug Linux ARM64 related issues on a x86_64 host. | 
| Package: SingleR | 
| Version: 2.10.0 | 
| Command: /home/biocbuild/R/R/bin/R CMD INSTALL SingleR | 
| StartedAt: 2025-10-13 20:35:47 -0000 (Mon, 13 Oct 2025) | 
| EndedAt: 2025-10-13 20:37:22 -0000 (Mon, 13 Oct 2025) | 
| EllapsedTime: 94.2 seconds | 
| RetCode: 0 | 
| Status: OK | 
##############################################################################
##############################################################################
###
### Running command:
###
###   /home/biocbuild/R/R/bin/R CMD INSTALL SingleR
###
##############################################################################
##############################################################################
* installing to library ‘/home/biocbuild/R/R-devel_2025-02-19/site-library’
* installing *source* package ‘SingleR’ ...
** this is package ‘SingleR’ version ‘2.10.0’
** using staged installation
** libs
using C++ compiler: ‘aarch64-unknown-linux-gnu-g++ (GCC) 14.2.0’
using C++17
/opt/ohpc/pub/compiler/gcc/14.2.0/bin/aarch64-unknown-linux-gnu-g++ -std=gnu++17 -I"/home/biocbuild/R/R/include" -DNDEBUG  -I'/home/biocbuild/R/R-devel_2025-02-19/site-library/Rcpp/include' -I'/home/biocbuild/R/R-devel_2025-02-19/site-library/beachmat/include' -I'/home/biocbuild/R/R-devel_2025-02-19/site-library/assorthead/include' -I'/home/biocbuild/R/R-devel_2025-02-19/site-library/BiocNeighbors/include' -I/usr/local/include    -fPIC  -g -O2  -Wall -Werror=format-security  -c RcppExports.cpp -o RcppExports.o
/opt/ohpc/pub/compiler/gcc/14.2.0/bin/aarch64-unknown-linux-gnu-g++ -std=gnu++17 -I"/home/biocbuild/R/R/include" -DNDEBUG  -I'/home/biocbuild/R/R-devel_2025-02-19/site-library/Rcpp/include' -I'/home/biocbuild/R/R-devel_2025-02-19/site-library/beachmat/include' -I'/home/biocbuild/R/R-devel_2025-02-19/site-library/assorthead/include' -I'/home/biocbuild/R/R-devel_2025-02-19/site-library/BiocNeighbors/include' -I/usr/local/include    -fPIC  -g -O2  -Wall -Werror=format-security  -c classify_integrated.cpp -o classify_integrated.o
/opt/ohpc/pub/compiler/gcc/14.2.0/bin/aarch64-unknown-linux-gnu-g++ -std=gnu++17 -I"/home/biocbuild/R/R/include" -DNDEBUG  -I'/home/biocbuild/R/R-devel_2025-02-19/site-library/Rcpp/include' -I'/home/biocbuild/R/R-devel_2025-02-19/site-library/beachmat/include' -I'/home/biocbuild/R/R-devel_2025-02-19/site-library/assorthead/include' -I'/home/biocbuild/R/R-devel_2025-02-19/site-library/BiocNeighbors/include' -I/usr/local/include    -fPIC  -g -O2  -Wall -Werror=format-security  -c classify_single.cpp -o classify_single.o
/opt/ohpc/pub/compiler/gcc/14.2.0/bin/aarch64-unknown-linux-gnu-g++ -std=gnu++17 -I"/home/biocbuild/R/R/include" -DNDEBUG  -I'/home/biocbuild/R/R-devel_2025-02-19/site-library/Rcpp/include' -I'/home/biocbuild/R/R-devel_2025-02-19/site-library/beachmat/include' -I'/home/biocbuild/R/R-devel_2025-02-19/site-library/assorthead/include' -I'/home/biocbuild/R/R-devel_2025-02-19/site-library/BiocNeighbors/include' -I/usr/local/include    -fPIC  -g -O2  -Wall -Werror=format-security  -c find_classic_markers.cpp -o find_classic_markers.o
/opt/ohpc/pub/compiler/gcc/14.2.0/bin/aarch64-unknown-linux-gnu-g++ -std=gnu++17 -I"/home/biocbuild/R/R/include" -DNDEBUG  -I'/home/biocbuild/R/R-devel_2025-02-19/site-library/Rcpp/include' -I'/home/biocbuild/R/R-devel_2025-02-19/site-library/beachmat/include' -I'/home/biocbuild/R/R-devel_2025-02-19/site-library/assorthead/include' -I'/home/biocbuild/R/R-devel_2025-02-19/site-library/BiocNeighbors/include' -I/usr/local/include    -fPIC  -g -O2  -Wall -Werror=format-security  -c grouped_medians.cpp -o grouped_medians.o
/opt/ohpc/pub/compiler/gcc/14.2.0/bin/aarch64-unknown-linux-gnu-g++ -std=gnu++17 -I"/home/biocbuild/R/R/include" -DNDEBUG  -I'/home/biocbuild/R/R-devel_2025-02-19/site-library/Rcpp/include' -I'/home/biocbuild/R/R-devel_2025-02-19/site-library/beachmat/include' -I'/home/biocbuild/R/R-devel_2025-02-19/site-library/assorthead/include' -I'/home/biocbuild/R/R-devel_2025-02-19/site-library/BiocNeighbors/include' -I/usr/local/include    -fPIC  -g -O2  -Wall -Werror=format-security  -c train_integrated.cpp -o train_integrated.o
/opt/ohpc/pub/compiler/gcc/14.2.0/bin/aarch64-unknown-linux-gnu-g++ -std=gnu++17 -I"/home/biocbuild/R/R/include" -DNDEBUG  -I'/home/biocbuild/R/R-devel_2025-02-19/site-library/Rcpp/include' -I'/home/biocbuild/R/R-devel_2025-02-19/site-library/beachmat/include' -I'/home/biocbuild/R/R-devel_2025-02-19/site-library/assorthead/include' -I'/home/biocbuild/R/R-devel_2025-02-19/site-library/BiocNeighbors/include' -I/usr/local/include    -fPIC  -g -O2  -Wall -Werror=format-security  -c train_single.cpp -o train_single.o
train_single.cpp: In function ‘SEXPREC* train_single(Rcpp::IntegerVector, Rcpp::RObject, Rcpp::IntegerVector, Rcpp::IntegerVector, Rcpp::List, Rcpp::RObject, int)’:
train_single.cpp:19:9: warning: unused variable ‘NR’ [-Wunused-variable]
   19 |     int NR = parsed->ptr->nrow();
      |         ^~
/opt/ohpc/pub/compiler/gcc/14.2.0/bin/aarch64-unknown-linux-gnu-g++ -std=gnu++17 -shared -L/home/biocbuild/R/R/lib -L/usr/local/lib -o SingleR.so RcppExports.o classify_integrated.o classify_single.o find_classic_markers.o grouped_medians.o train_integrated.o train_single.o -L/home/biocbuild/R/R/lib -lR
installing to /home/biocbuild/R/R-devel_2025-02-19/site-library/00LOCK-SingleR/00new/SingleR/libs
** R
** inst
** byte-compile and prepare package for lazy loading
** help
*** installing help indices
** building package indices
** installing vignettes
** testing if installed package can be loaded from temporary location
** checking absolute paths in shared objects and dynamic libraries
** testing if installed package can be loaded from final location
** testing if installed package keeps a record of temporary installation path
* DONE (SingleR)