Back to Multiple platform build/check report for BioC 3.21:   simplified   long
ABCDEFGHIJKLMNOPQR[S]TUVWXYZ

This page was generated on 2025-10-16 11:39 -0400 (Thu, 16 Oct 2025).

HostnameOSArch (*)R versionInstalled pkgs
nebbiolo1Linux (Ubuntu 24.04.3 LTS)x86_644.5.1 (2025-06-13) -- "Great Square Root" 4833
merida1macOS 12.7.6 Montereyx86_644.5.1 RC (2025-06-05 r88288) -- "Great Square Root" 4614
kjohnson1macOS 13.7.5 Venturaarm644.5.1 Patched (2025-06-14 r88325) -- "Great Square Root" 4555
kunpeng2Linux (openEuler 24.03 LTS)aarch64R Under development (unstable) (2025-02-19 r87757) -- "Unsuffered Consequences" 4586
Click on any hostname to see more info about the system (e.g. compilers)      (*) as reported by 'uname -p', except on Windows and Mac OS X

Package 1924/2341HostnameOS / ArchINSTALLBUILDCHECKBUILD BIN
Sconify 1.28.1  (landing page)
Tyler J Burns
Snapshot Date: 2025-10-13 13:40 -0400 (Mon, 13 Oct 2025)
git_url: https://git.bioconductor.org/packages/Sconify
git_branch: RELEASE_3_21
git_last_commit: c9a356a
git_last_commit_date: 2025-10-08 04:01:42 -0400 (Wed, 08 Oct 2025)
nebbiolo1Linux (Ubuntu 24.04.3 LTS) / x86_64  OK    OK    OK  UNNEEDED, same version is already published
merida1macOS 12.7.6 Monterey / x86_64  OK    OK    OK    OK  UNNEEDED, same version is already published
kjohnson1macOS 13.7.5 Ventura / arm64  OK    OK    OK    OK  UNNEEDED, same version is already published
kunpeng2Linux (openEuler 24.03 LTS) / aarch64  OK    OK    OK  


CHECK results for Sconify on merida1

To the developers/maintainers of the Sconify package:
- Allow up to 24 hours (and sometimes 48 hours) for your latest push to git@git.bioconductor.org:packages/Sconify.git to reflect on this report. See Troubleshooting Build Report for more information.
- Use the following Renviron settings to reproduce errors and warnings.
- If 'R CMD check' started to fail recently on the Linux builder(s) over a missing dependency, add the missing dependency to 'Suggests:' in your DESCRIPTION file. See Renviron.bioc for more information.

raw results


Summary

Package: Sconify
Version: 1.28.1
Command: /Library/Frameworks/R.framework/Resources/bin/R CMD check --install=check:Sconify.install-out.txt --library=/Library/Frameworks/R.framework/Resources/library --no-vignettes --timings Sconify_1.28.1.tar.gz
StartedAt: 2025-10-14 10:01:17 -0400 (Tue, 14 Oct 2025)
EndedAt: 2025-10-14 10:05:27 -0400 (Tue, 14 Oct 2025)
EllapsedTime: 250.2 seconds
RetCode: 0
Status:   OK  
CheckDir: Sconify.Rcheck
Warnings: 0

Command output

##############################################################################
##############################################################################
###
### Running command:
###
###   /Library/Frameworks/R.framework/Resources/bin/R CMD check --install=check:Sconify.install-out.txt --library=/Library/Frameworks/R.framework/Resources/library --no-vignettes --timings Sconify_1.28.1.tar.gz
###
##############################################################################
##############################################################################


* using log directory ‘/Users/biocbuild/bbs-3.21-bioc/meat/Sconify.Rcheck’
* using R version 4.5.1 RC (2025-06-05 r88288)
* using platform: x86_64-apple-darwin20
* R was compiled by
    Apple clang version 14.0.0 (clang-1400.0.29.202)
    GNU Fortran (GCC) 14.2.0
* running under: macOS Monterey 12.7.6
* using session charset: UTF-8
* using option ‘--no-vignettes’
* checking for file ‘Sconify/DESCRIPTION’ ... OK
* checking extension type ... Package
* this is package ‘Sconify’ version ‘1.28.1’
* package encoding: UTF-8
* checking package namespace information ... OK
* checking package dependencies ... OK
* checking if this is a source package ... OK
* checking if there is a namespace ... OK
* checking for hidden files and directories ... OK
* checking for portable file names ... OK
* checking for sufficient/correct file permissions ... OK
* checking whether package ‘Sconify’ can be installed ... OK
* checking installed package size ... OK
* checking package directory ... OK
* checking ‘build’ directory ... OK
* checking DESCRIPTION meta-information ... OK
* checking top-level files ... OK
* checking for left-over files ... OK
* checking index information ... OK
* checking package subdirectories ... OK
* checking code files for non-ASCII characters ... OK
* checking R files for syntax errors ... OK
* checking whether the package can be loaded ... OK
* checking whether the package can be loaded with stated dependencies ... OK
* checking whether the package can be unloaded cleanly ... OK
* checking whether the namespace can be loaded with stated dependencies ... OK
* checking whether the namespace can be unloaded cleanly ... OK
* checking dependencies in R code ... OK
* checking S3 generic/method consistency ... OK
* checking replacement functions ... OK
* checking foreign function calls ... OK
* checking R code for possible problems ... OK
* checking Rd files ... OK
* checking Rd metadata ... OK
* checking Rd cross-references ... OK
* checking for missing documentation entries ... OK
* checking for code/documentation mismatches ... OK
* checking Rd \usage sections ... OK
* checking Rd contents ... OK
* checking for unstated dependencies in examples ... OK
* checking contents of ‘data’ directory ... OK
* checking data for non-ASCII characters ... OK
* checking LazyData ... OK
* checking data for ASCII and uncompressed saves ... OK
* checking files in ‘vignettes’ ... OK
* checking examples ... OK
Examples with CPU (user + system) or elapsed time > 5s
                user system elapsed
SconeValues   28.907  0.265  30.915
ImputeTesting  8.568  0.041   9.022
* checking for unstated dependencies in ‘tests’ ... OK
* checking tests ...
  Running ‘testthat.R’
 OK
* checking for unstated dependencies in vignettes ... OK
* checking package vignettes ... OK
* checking running R code from vignettes ... SKIPPED
* checking re-building of vignette outputs ... SKIPPED
* checking PDF version of manual ... OK
* DONE

Status: OK


Installation output

Sconify.Rcheck/00install.out

##############################################################################
##############################################################################
###
### Running command:
###
###   /Library/Frameworks/R.framework/Resources/bin/R CMD INSTALL Sconify
###
##############################################################################
##############################################################################


* installing to library ‘/Library/Frameworks/R.framework/Versions/4.5-x86_64/Resources/library’
* installing *source* package ‘Sconify’ ...
** this is package ‘Sconify’ version ‘1.28.1’
** using staged installation
** R
** data
*** moving datasets to lazyload DB
** inst
** byte-compile and prepare package for lazy loading
Note: wrong number of arguments to '/' 
Note: wrong number of arguments to 'asinh' 
** help
*** installing help indices
** building package indices
** installing vignettes
** testing if installed package can be loaded from temporary location
** testing if installed package can be loaded from final location
** testing if installed package keeps a record of temporary installation path
* DONE (Sconify)

Tests output

Sconify.Rcheck/tests/testthat.Rout


R version 4.5.1 RC (2025-06-05 r88288) -- "Great Square Root"
Copyright (C) 2025 The R Foundation for Statistical Computing
Platform: x86_64-apple-darwin20

R is free software and comes with ABSOLUTELY NO WARRANTY.
You are welcome to redistribute it under certain conditions.
Type 'license()' or 'licence()' for distribution details.

R is a collaborative project with many contributors.
Type 'contributors()' for more information and
'citation()' on how to cite R or R packages in publications.

Type 'demo()' for some demos, 'help()' for on-line help, or
'help.start()' for an HTML browser interface to help.
Type 'q()' to quit R.

> library(testthat)
> library(Sconify)
> 
> test_check("Sconify")
Read the 100 x 27 data matrix successfully!
Using no_dims = 2, perplexity = 30.000000, and theta = 0.500000
Computing input similarities...
Building tree...
Done in 0.01 seconds (sparsity = 0.961600)!
Learning embedding...
Iteration 50: error is 52.586380 (50 iterations in 0.02 seconds)
Iteration 100: error is 53.519962 (50 iterations in 0.02 seconds)
Iteration 150: error is 56.694696 (50 iterations in 0.02 seconds)
Iteration 200: error is 52.334090 (50 iterations in 0.02 seconds)
Iteration 250: error is 52.657484 (50 iterations in 0.02 seconds)
Iteration 300: error is 1.476041 (50 iterations in 0.02 seconds)
Iteration 350: error is 0.968325 (50 iterations in 0.02 seconds)
Iteration 400: error is 0.590293 (50 iterations in 0.01 seconds)
Iteration 450: error is 0.252319 (50 iterations in 0.01 seconds)
Iteration 500: error is 0.188393 (50 iterations in 0.01 seconds)
Iteration 550: error is 0.179472 (50 iterations in 0.01 seconds)
Iteration 600: error is 0.178790 (50 iterations in 0.01 seconds)
Iteration 650: error is 0.177698 (50 iterations in 0.01 seconds)
Iteration 700: error is 0.177735 (50 iterations in 0.01 seconds)
Iteration 750: error is 0.178237 (50 iterations in 0.01 seconds)
Iteration 800: error is 0.178969 (50 iterations in 0.01 seconds)
Iteration 850: error is 0.176520 (50 iterations in 0.01 seconds)
Iteration 900: error is 0.176049 (50 iterations in 0.01 seconds)
Iteration 950: error is 0.177765 (50 iterations in 0.01 seconds)
Iteration 1000: error is 0.176773 (50 iterations in 0.01 seconds)
Fitting performed in 0.30 seconds.
Read the 1000 x 27 data matrix successfully!
Using no_dims = 2, perplexity = 30.000000, and theta = 0.500000
Computing input similarities...
Building tree...
Done in 0.20 seconds (sparsity = 0.129120)!
Learning embedding...
Iteration 50: error is 63.930509 (50 iterations in 0.37 seconds)
Iteration 100: error is 60.671179 (50 iterations in 0.26 seconds)
Iteration 150: error is 60.305323 (50 iterations in 0.27 seconds)
Iteration 200: error is 60.171528 (50 iterations in 0.28 seconds)
Iteration 250: error is 60.122171 (50 iterations in 0.29 seconds)
Iteration 300: error is 1.335075 (50 iterations in 0.21 seconds)
Iteration 350: error is 1.228594 (50 iterations in 0.21 seconds)
Iteration 400: error is 1.199094 (50 iterations in 0.21 seconds)
Iteration 450: error is 1.185450 (50 iterations in 0.21 seconds)
Iteration 500: error is 1.175441 (50 iterations in 0.21 seconds)
Iteration 550: error is 1.166497 (50 iterations in 0.22 seconds)
Iteration 600: error is 1.160461 (50 iterations in 0.21 seconds)
Iteration 650: error is 1.157267 (50 iterations in 0.22 seconds)
Iteration 700: error is 1.154106 (50 iterations in 0.23 seconds)
Iteration 750: error is 1.151495 (50 iterations in 0.20 seconds)
Iteration 800: error is 1.149433 (50 iterations in 0.21 seconds)
Iteration 850: error is 1.146968 (50 iterations in 0.21 seconds)
Iteration 900: error is 1.144628 (50 iterations in 0.21 seconds)
Iteration 950: error is 1.143095 (50 iterations in 0.21 seconds)
Iteration 1000: error is 1.142965 (50 iterations in 0.20 seconds)
Fitting performed in 4.65 seconds.
[ FAIL 0 | WARN 2 | SKIP 0 | PASS 72 ]

[ FAIL 0 | WARN 2 | SKIP 0 | PASS 72 ]
> 
> proc.time()
   user  system elapsed 
 45.241   1.204  47.229 

Example timings

Sconify.Rcheck/Sconify-Ex.timings

nameusersystemelapsed
FcsToTibble0.2580.0080.287
Fnn0.9462.6993.812
GetKnnDe0.1170.0180.140
GetMarkerNames0.0570.0050.064
ImputeTesting8.5680.0419.022
MakeHist1.0550.0161.118
MakeKnnList0.7900.1060.931
MeaningOfLife000
ParseMarkers0.5380.0450.612
PostProcessing0.1720.0050.186
ProcessMultipleFiles0.2350.0130.261
QuantNormalizeElements0.4090.0170.446
SconeValues28.907 0.26530.915
SplitFile0.1690.0040.179
StringToNumbers0.0000.0010.001
SubsampleAndTsne2.6940.0562.971
TsneVis0.4010.0040.440