| Back to Multiple platform build/check report for BioC 3.21: simplified long | 
  | 
This page was generated on 2025-10-16 11:38 -0400 (Thu, 16 Oct 2025).
| Hostname | OS | Arch (*) | R version | Installed pkgs | 
|---|---|---|---|---|
| nebbiolo1 | Linux (Ubuntu 24.04.3 LTS) | x86_64 | 4.5.1 (2025-06-13) -- "Great Square Root" | 4833 | 
| merida1 | macOS 12.7.6 Monterey | x86_64 | 4.5.1 RC (2025-06-05 r88288) -- "Great Square Root" | 4614 | 
| kjohnson1 | macOS 13.7.5 Ventura | arm64 | 4.5.1 Patched (2025-06-14 r88325) -- "Great Square Root" | 4555 | 
| kunpeng2 | Linux (openEuler 24.03 LTS) | aarch64 | R Under development (unstable) (2025-02-19 r87757) -- "Unsuffered Consequences" | 4586 | 
| Click on any hostname to see more info about the system (e.g. compilers) (*) as reported by 'uname -p', except on Windows and Mac OS X | ||||
| Package 2029/2341 | Hostname | OS / Arch | INSTALL | BUILD | CHECK | BUILD BIN | ||||||||
| SMITE 1.36.0  (landing page) Neil Ari Wijetunga 
  | nebbiolo1 | Linux (Ubuntu 24.04.3 LTS) / x86_64 | OK | OK | OK | |||||||||
| merida1 | macOS 12.7.6 Monterey / x86_64 | OK | OK | OK | OK | |||||||||
| kjohnson1 | macOS 13.7.5 Ventura / arm64 | OK | OK | OK | OK | |||||||||
| kunpeng2 | Linux (openEuler 24.03 LTS) / aarch64 | OK | OK | OK | ||||||||||
| 
To the developers/maintainers of the SMITE package: - Allow up to 24 hours (and sometimes 48 hours) for your latest push to git@git.bioconductor.org:packages/SMITE.git to reflect on this report. See Troubleshooting Build Report for more information. - Use the following Renviron settings to reproduce errors and warnings. - If 'R CMD check' started to fail recently on the Linux builder(s) over a missing dependency, add the missing dependency to 'Suggests:' in your DESCRIPTION file. See Renviron.bioc for more information.  | 
| Package: SMITE | 
| Version: 1.36.0 | 
| Command: /home/biocbuild/bbs-3.21-bioc/R/bin/R CMD check --install=check:SMITE.install-out.txt --library=/home/biocbuild/bbs-3.21-bioc/R/site-library --timings SMITE_1.36.0.tar.gz | 
| StartedAt: 2025-10-16 03:45:29 -0400 (Thu, 16 Oct 2025) | 
| EndedAt: 2025-10-16 03:51:05 -0400 (Thu, 16 Oct 2025) | 
| EllapsedTime: 336.4 seconds | 
| RetCode: 0 | 
| Status: OK | 
| CheckDir: SMITE.Rcheck | 
| Warnings: 0 | 
##############################################################################
##############################################################################
###
### Running command:
###
###   /home/biocbuild/bbs-3.21-bioc/R/bin/R CMD check --install=check:SMITE.install-out.txt --library=/home/biocbuild/bbs-3.21-bioc/R/site-library --timings SMITE_1.36.0.tar.gz
###
##############################################################################
##############################################################################
* using log directory ‘/home/biocbuild/bbs-3.21-bioc/meat/SMITE.Rcheck’
* using R version 4.5.1 (2025-06-13)
* using platform: x86_64-pc-linux-gnu
* R was compiled by
    gcc (Ubuntu 13.3.0-6ubuntu2~24.04) 13.3.0
    GNU Fortran (Ubuntu 13.3.0-6ubuntu2~24.04) 13.3.0
* running under: Ubuntu 24.04.3 LTS
* using session charset: UTF-8
* checking for file ‘SMITE/DESCRIPTION’ ... OK
* checking extension type ... Package
* this is package ‘SMITE’ version ‘1.36.0’
* checking package namespace information ... OK
* checking package dependencies ... OK
* checking if this is a source package ... OK
* checking if there is a namespace ... OK
* checking for hidden files and directories ... OK
* checking for portable file names ... OK
* checking for sufficient/correct file permissions ... OK
* checking whether package ‘SMITE’ can be installed ... OK
* checking installed package size ... OK
* checking package directory ... OK
* checking ‘build’ directory ... OK
* checking DESCRIPTION meta-information ... OK
* checking top-level files ... OK
* checking for left-over files ... OK
* checking index information ... OK
* checking package subdirectories ... OK
* checking code files for non-ASCII characters ... OK
* checking R files for syntax errors ... OK
* checking whether the package can be loaded ... OK
* checking whether the package can be loaded with stated dependencies ... OK
* checking whether the package can be unloaded cleanly ... OK
* checking whether the namespace can be loaded with stated dependencies ... OK
* checking whether the namespace can be unloaded cleanly ... OK
* checking loading without being on the library search path ... OK
* checking dependencies in R code ... OK
* checking S3 generic/method consistency ... OK
* checking replacement functions ... OK
* checking foreign function calls ... OK
* checking R code for possible problems ... OK
* checking Rd files ... OK
* checking Rd metadata ... OK
* checking Rd cross-references ... OK
* checking for missing documentation entries ... OK
* checking for code/documentation mismatches ... OK
* checking Rd \usage sections ... OK
* checking Rd contents ... OK
* checking for unstated dependencies in examples ... OK
* checking contents of ‘data’ directory ... OK
* checking data for non-ASCII characters ... OK
* checking data for ASCII and uncompressed saves ... OK
* checking files in ‘vignettes’ ... OK
* checking examples ... OK
* checking for unstated dependencies in vignettes ... OK
* checking package vignettes ... OK
* checking re-building of vignette outputs ... OK
* checking PDF version of manual ... OK
* DONE
Status: OK
SMITE.Rcheck/00install.out
############################################################################## ############################################################################## ### ### Running command: ### ### /home/biocbuild/bbs-3.21-bioc/R/bin/R CMD INSTALL SMITE ### ############################################################################## ############################################################################## * installing to library ‘/home/biocbuild/bbs-3.21-bioc/R/site-library’ * installing *source* package ‘SMITE’ ... ** this is package ‘SMITE’ version ‘1.36.0’ ** using staged installation ** R ** data ** inst ** byte-compile and prepare package for lazy loading ** help *** installing help indices ** building package indices ** installing vignettes ** testing if installed package can be loaded from temporary location ** testing if installed package can be loaded from final location ** testing if installed package keeps a record of temporary installation path * DONE (SMITE)
SMITE.Rcheck/SMITE-Ex.timings
| name | user | system | elapsed | |
| Reactome.Symbol.Igraph | 0.148 | 0.012 | 0.160 | |
| SMITE-package | 0.378 | 0.007 | 0.385 | |
| addShadowText | 0.003 | 0.000 | 0.002 | |
| annotateExpression | 0.361 | 0.005 | 0.366 | |
| annotateModification | 0.001 | 0.000 | 0.001 | |
| convertGeneIds | 2.846 | 0.222 | 3.069 | |
| curated_expression | 0.048 | 0.000 | 0.048 | |
| extractExpression | 0.186 | 0.009 | 0.195 | |
| extractGOseq | 0.079 | 0.005 | 0.085 | |
| extractModification | 1.815 | 0.013 | 1.830 | |
| extractModules | 0.08 | 0.01 | 0.09 | |
| extractScores | 0.082 | 0.000 | 0.083 | |
| genes_for_conversiontest | 1.047 | 0.012 | 1.059 | |
| hg19_gene_bed | 0.117 | 0.002 | 0.120 | |
| highScores | 0.081 | 0.001 | 0.083 | |
| histone_h3k4me1 | 0.063 | 0.004 | 0.068 | |
| makePvalueAnnotation | 0.585 | 0.026 | 0.613 | |
| makePvalueObject | 0.061 | 0.002 | 0.063 | |
| methylationdata | 0.059 | 0.000 | 0.060 | |
| normalizePval | 0.116 | 0.000 | 0.116 | |
| plotCompareScores | 0.406 | 0.009 | 0.415 | |
| plotDensityPval | 0.113 | 0.002 | 0.115 | |
| plotModule | 0.082 | 0.001 | 0.082 | |
| removeModification | 0.063 | 0.001 | 0.064 | |
| runBioNet | 0.080 | 0.002 | 0.083 | |
| runGOseq | 0.084 | 0.002 | 0.086 | |
| runSpinglass | 0.480 | 0.006 | 0.485 | |
| scorePval | 0.078 | 0.005 | 0.084 | |
| stoufferTest | 0.002 | 0.000 | 0.001 | |
| test_annotation_score_data | 0.145 | 0.005 | 0.150 | |