| Back to Multiple platform build/check report for BioC 3.21: simplified long |
|
This page was generated on 2025-10-16 11:38 -0400 (Thu, 16 Oct 2025).
| Hostname | OS | Arch (*) | R version | Installed pkgs |
|---|---|---|---|---|
| nebbiolo1 | Linux (Ubuntu 24.04.3 LTS) | x86_64 | 4.5.1 (2025-06-13) -- "Great Square Root" | 4833 |
| merida1 | macOS 12.7.6 Monterey | x86_64 | 4.5.1 RC (2025-06-05 r88288) -- "Great Square Root" | 4614 |
| kjohnson1 | macOS 13.7.5 Ventura | arm64 | 4.5.1 Patched (2025-06-14 r88325) -- "Great Square Root" | 4555 |
| kunpeng2 | Linux (openEuler 24.03 LTS) | aarch64 | R Under development (unstable) (2025-02-19 r87757) -- "Unsuffered Consequences" | 4586 |
| Click on any hostname to see more info about the system (e.g. compilers) (*) as reported by 'uname -p', except on Windows and Mac OS X | ||||
| Package 1868/2341 | Hostname | OS / Arch | INSTALL | BUILD | CHECK | BUILD BIN | ||||||||
| SAIGEgds 2.8.1 (landing page) Xiuwen Zheng
| nebbiolo1 | Linux (Ubuntu 24.04.3 LTS) / x86_64 | OK | OK | OK | |||||||||
| merida1 | macOS 12.7.6 Monterey / x86_64 | OK | OK | OK | OK | |||||||||
| kjohnson1 | macOS 13.7.5 Ventura / arm64 | OK | OK | OK | OK | |||||||||
| kunpeng2 | Linux (openEuler 24.03 LTS) / aarch64 | OK | OK | ERROR | ||||||||||
|
To the developers/maintainers of the SAIGEgds package: - Allow up to 24 hours (and sometimes 48 hours) for your latest push to git@git.bioconductor.org:packages/SAIGEgds.git to reflect on this report. See Troubleshooting Build Report for more information. - Use the following Renviron settings to reproduce errors and warnings. - If 'R CMD check' started to fail recently on the Linux builder(s) over a missing dependency, add the missing dependency to 'Suggests:' in your DESCRIPTION file. See Renviron.bioc for more information. |
| Package: SAIGEgds |
| Version: 2.8.1 |
| Command: /home/biocbuild/bbs-3.21-bioc/R/bin/R CMD INSTALL SAIGEgds |
| StartedAt: 2025-10-15 15:22:41 -0400 (Wed, 15 Oct 2025) |
| EndedAt: 2025-10-15 15:23:48 -0400 (Wed, 15 Oct 2025) |
| EllapsedTime: 66.9 seconds |
| RetCode: 0 |
| Status: OK |
##############################################################################
##############################################################################
###
### Running command:
###
### /home/biocbuild/bbs-3.21-bioc/R/bin/R CMD INSTALL SAIGEgds
###
##############################################################################
##############################################################################
* installing to library ‘/home/biocbuild/bbs-3.21-bioc/R/site-library’
* installing *source* package ‘SAIGEgds’ ...
** this is package ‘SAIGEgds’ version ‘2.8.1’
** using staged installation
** libs
using C++ compiler: ‘g++ (Ubuntu 13.3.0-6ubuntu2~24.04) 13.3.0’
using C++11
g++ -std=gnu++11 -I"/home/biocbuild/bbs-3.21-bioc/R/include" -DNDEBUG -DARMA_64BIT_WORD=1 -I'/home/biocbuild/bbs-3.21-bioc/R/site-library/Rcpp/include' -I'/home/biocbuild/bbs-3.21-bioc/R/site-library/RcppArmadillo/include' -I'/home/biocbuild/bbs-3.21-bioc/R/site-library/RcppParallel/include' -I/usr/local/include -fpic -g -O2 -Wall -Werror=format-security -c SPATest.cpp -o SPATest.o
g++ -std=gnu++11 -I"/home/biocbuild/bbs-3.21-bioc/R/include" -DNDEBUG -DARMA_64BIT_WORD=1 -I'/home/biocbuild/bbs-3.21-bioc/R/site-library/Rcpp/include' -I'/home/biocbuild/bbs-3.21-bioc/R/site-library/RcppArmadillo/include' -I'/home/biocbuild/bbs-3.21-bioc/R/site-library/RcppParallel/include' -I/usr/local/include -fpic -g -O2 -Wall -Werror=format-security -c saige_fitnull.cpp -o saige_fitnull.o
In file included from /home/biocbuild/bbs-3.21-bioc/R/site-library/RcppArmadillo/include/RcppArmadillo.h:29,
from saige_fitnull.cpp:28:
/home/biocbuild/bbs-3.21-bioc/R/site-library/RcppArmadillo/include/RcppArmadillo/version/arma.h:66:199: note: ‘#pragma message: Using fallback compilation with Armadillo 14.6.3. Please consider defining -DARMA_USE_CURRENT and also removing C++11 compilation directive. See GitHub issue #475 for more.’
66 | #pragma message("Using fallback compilation with Armadillo 14.6.3. Please consider defining -DARMA_USE_CURRENT and also removing C++11 compilation directive. See GitHub issue #475 for more.")
| ^
g++ -std=gnu++11 -I"/home/biocbuild/bbs-3.21-bioc/R/include" -DNDEBUG -DARMA_64BIT_WORD=1 -I'/home/biocbuild/bbs-3.21-bioc/R/site-library/Rcpp/include' -I'/home/biocbuild/bbs-3.21-bioc/R/site-library/RcppArmadillo/include' -I'/home/biocbuild/bbs-3.21-bioc/R/site-library/RcppParallel/include' -I/usr/local/include -fpic -g -O2 -Wall -Werror=format-security -c saige_main.cpp -o saige_main.o
In file included from /home/biocbuild/bbs-3.21-bioc/R/site-library/RcppArmadillo/include/RcppArmadillo.h:29,
from saige_main.cpp:29:
/home/biocbuild/bbs-3.21-bioc/R/site-library/RcppArmadillo/include/RcppArmadillo/version/arma.h:66:199: note: ‘#pragma message: Using fallback compilation with Armadillo 14.6.3. Please consider defining -DARMA_USE_CURRENT and also removing C++11 compilation directive. See GitHub issue #475 for more.’
66 | #pragma message("Using fallback compilation with Armadillo 14.6.3. Please consider defining -DARMA_USE_CURRENT and also removing C++11 compilation directive. See GitHub issue #475 for more.")
| ^
g++ -std=gnu++11 -I"/home/biocbuild/bbs-3.21-bioc/R/include" -DNDEBUG -DARMA_64BIT_WORD=1 -I'/home/biocbuild/bbs-3.21-bioc/R/site-library/Rcpp/include' -I'/home/biocbuild/bbs-3.21-bioc/R/site-library/RcppArmadillo/include' -I'/home/biocbuild/bbs-3.21-bioc/R/site-library/RcppParallel/include' -I/usr/local/include -fpic -g -O2 -Wall -Werror=format-security -c saige_misc.cpp -o saige_misc.o
In file included from /home/biocbuild/bbs-3.21-bioc/R/site-library/RcppArmadillo/include/RcppArmadillo.h:29,
from saige_misc.cpp:24:
/home/biocbuild/bbs-3.21-bioc/R/site-library/RcppArmadillo/include/RcppArmadillo/version/arma.h:66:199: note: ‘#pragma message: Using fallback compilation with Armadillo 14.6.3. Please consider defining -DARMA_USE_CURRENT and also removing C++11 compilation directive. See GitHub issue #475 for more.’
66 | #pragma message("Using fallback compilation with Armadillo 14.6.3. Please consider defining -DARMA_USE_CURRENT and also removing C++11 compilation directive. See GitHub issue #475 for more.")
| ^
g++ -std=gnu++11 -I"/home/biocbuild/bbs-3.21-bioc/R/include" -DNDEBUG -DARMA_64BIT_WORD=1 -I'/home/biocbuild/bbs-3.21-bioc/R/site-library/Rcpp/include' -I'/home/biocbuild/bbs-3.21-bioc/R/site-library/RcppArmadillo/include' -I'/home/biocbuild/bbs-3.21-bioc/R/site-library/RcppParallel/include' -I/usr/local/include -fpic -g -O2 -Wall -Werror=format-security -c vec_ext_avx2.cpp -o vec_ext_avx2.o
g++ -std=gnu++11 -I"/home/biocbuild/bbs-3.21-bioc/R/include" -DNDEBUG -DARMA_64BIT_WORD=1 -I'/home/biocbuild/bbs-3.21-bioc/R/site-library/Rcpp/include' -I'/home/biocbuild/bbs-3.21-bioc/R/site-library/RcppArmadillo/include' -I'/home/biocbuild/bbs-3.21-bioc/R/site-library/RcppParallel/include' -I/usr/local/include -fpic -g -O2 -Wall -Werror=format-security -c vec_ext_avx512bw.cpp -o vec_ext_avx512bw.o
g++ -std=gnu++11 -I"/home/biocbuild/bbs-3.21-bioc/R/include" -DNDEBUG -DARMA_64BIT_WORD=1 -I'/home/biocbuild/bbs-3.21-bioc/R/site-library/Rcpp/include' -I'/home/biocbuild/bbs-3.21-bioc/R/site-library/RcppArmadillo/include' -I'/home/biocbuild/bbs-3.21-bioc/R/site-library/RcppParallel/include' -I/usr/local/include -fpic -g -O2 -Wall -Werror=format-security -c vec_ext_def.cpp -o vec_ext_def.o
g++ -std=gnu++11 -I"/home/biocbuild/bbs-3.21-bioc/R/include" -DNDEBUG -DARMA_64BIT_WORD=1 -I'/home/biocbuild/bbs-3.21-bioc/R/site-library/Rcpp/include' -I'/home/biocbuild/bbs-3.21-bioc/R/site-library/RcppArmadillo/include' -I'/home/biocbuild/bbs-3.21-bioc/R/site-library/RcppParallel/include' -I/usr/local/include -fpic -g -O2 -Wall -Werror=format-security -c vectorization.cpp -o vectorization.o
g++ -std=gnu++11 -shared -L/home/biocbuild/bbs-3.21-bioc/R/lib -L/usr/local/lib -o SAIGEgds.so SPATest.o saige_fitnull.o saige_main.o saige_misc.o vec_ext_avx2.o vec_ext_avx512bw.o vec_ext_def.o vectorization.o -lm -llapack -L/home/biocbuild/bbs-3.21-bioc/R/lib -lRblas -lgfortran -lm -lquadmath -lgcc -L/home/biocbuild/bbs-3.21-bioc/R/lib -lR
installing to /home/biocbuild/bbs-3.21-bioc/R/site-library/00LOCK-SAIGEgds/00new/SAIGEgds/libs
** R
** inst
** byte-compile and prepare package for lazy loading
** help
*** installing help indices
** building package indices
** installing vignettes
** testing if installed package can be loaded from temporary location
** checking absolute paths in shared objects and dynamic libraries
** testing if installed package can be loaded from final location
** testing if installed package keeps a record of temporary installation path
* DONE (SAIGEgds)