| Back to Multiple platform build/check report for BioC 3.21: simplified long |
|
This page was generated on 2025-04-22 13:17 -0400 (Tue, 22 Apr 2025).
| Hostname | OS | Arch (*) | R version | Installed pkgs |
|---|---|---|---|---|
| nebbiolo1 | Linux (Ubuntu 24.04.1 LTS) | x86_64 | 4.5.0 RC (2025-04-04 r88126) -- "How About a Twenty-Six" | 4831 |
| palomino7 | Windows Server 2022 Datacenter | x64 | 4.5.0 RC (2025-04-04 r88126 ucrt) -- "How About a Twenty-Six" | 4573 |
| lconway | macOS 12.7.1 Monterey | x86_64 | 4.5.0 RC (2025-04-04 r88126) -- "How About a Twenty-Six" | 4599 |
| kjohnson3 | macOS 13.7.1 Ventura | arm64 | 4.5.0 RC (2025-04-04 r88126) -- "How About a Twenty-Six" | 4553 |
| kunpeng2 | Linux (openEuler 24.03 LTS) | aarch64 | R Under development (unstable) (2025-02-19 r87757) -- "Unsuffered Consequences" | 4570 |
| Click on any hostname to see more info about the system (e.g. compilers) (*) as reported by 'uname -p', except on Windows and Mac OS X | ||||
| Package 1791/2341 | Hostname | OS / Arch | INSTALL | BUILD | CHECK | BUILD BIN | ||||||||
| RImmPort 1.36.0 (landing page) Zicheng Hu
| nebbiolo1 | Linux (Ubuntu 24.04.1 LTS) / x86_64 | OK | OK | OK | |||||||||
| palomino7 | Windows Server 2022 Datacenter / x64 | OK | OK | OK | OK | |||||||||
| lconway | macOS 12.7.1 Monterey / x86_64 | OK | OK | OK | OK | |||||||||
| kjohnson3 | macOS 13.7.1 Ventura / arm64 | OK | OK | OK | OK | |||||||||
| kunpeng2 | Linux (openEuler 24.03 LTS) / aarch64 | OK | OK | OK | ||||||||||
|
To the developers/maintainers of the RImmPort package: - Allow up to 24 hours (and sometimes 48 hours) for your latest push to git@git.bioconductor.org:packages/RImmPort.git to reflect on this report. See Troubleshooting Build Report for more information. - Use the following Renviron settings to reproduce errors and warnings. - If 'R CMD check' started to fail recently on the Linux builder(s) over a missing dependency, add the missing dependency to 'Suggests:' in your DESCRIPTION file. See Renviron.bioc for more information. |
| Package: RImmPort |
| Version: 1.36.0 |
| Command: /Library/Frameworks/R.framework/Resources/bin/R CMD check --install=check:RImmPort.install-out.txt --library=/Library/Frameworks/R.framework/Resources/library --no-vignettes --timings RImmPort_1.36.0.tar.gz |
| StartedAt: 2025-04-21 23:05:00 -0400 (Mon, 21 Apr 2025) |
| EndedAt: 2025-04-21 23:05:59 -0400 (Mon, 21 Apr 2025) |
| EllapsedTime: 59.6 seconds |
| RetCode: 0 |
| Status: OK |
| CheckDir: RImmPort.Rcheck |
| Warnings: 0 |
##############################################################################
##############################################################################
###
### Running command:
###
### /Library/Frameworks/R.framework/Resources/bin/R CMD check --install=check:RImmPort.install-out.txt --library=/Library/Frameworks/R.framework/Resources/library --no-vignettes --timings RImmPort_1.36.0.tar.gz
###
##############################################################################
##############################################################################
* using log directory ‘/Users/biocbuild/bbs-3.21-bioc/meat/RImmPort.Rcheck’
* using R version 4.5.0 RC (2025-04-04 r88126)
* using platform: x86_64-apple-darwin20
* R was compiled by
Apple clang version 14.0.0 (clang-1400.0.29.202)
GNU Fortran (GCC) 14.2.0
* running under: macOS Monterey 12.7.6
* using session charset: UTF-8
* using option ‘--no-vignettes’
* checking for file ‘RImmPort/DESCRIPTION’ ... OK
* checking extension type ... Package
* this is package ‘RImmPort’ version ‘1.36.0’
* checking package namespace information ... OK
* checking package dependencies ... OK
* checking if this is a source package ... OK
* checking if there is a namespace ... OK
* checking for hidden files and directories ... OK
* checking for portable file names ... OK
* checking for sufficient/correct file permissions ... OK
* checking whether package ‘RImmPort’ can be installed ... OK
* checking installed package size ... OK
* checking package directory ... OK
* checking ‘build’ directory ... OK
* checking DESCRIPTION meta-information ... OK
* checking top-level files ... OK
* checking for left-over files ... OK
* checking index information ... OK
* checking package subdirectories ... OK
* checking code files for non-ASCII characters ... OK
* checking R files for syntax errors ... OK
* checking whether the package can be loaded ... OK
* checking whether the package can be loaded with stated dependencies ... OK
* checking whether the package can be unloaded cleanly ... OK
* checking whether the namespace can be loaded with stated dependencies ... OK
* checking whether the namespace can be unloaded cleanly ... OK
* checking dependencies in R code ... OK
* checking S3 generic/method consistency ... OK
* checking replacement functions ... OK
* checking foreign function calls ... OK
* checking R code for possible problems ... NOTE
buildNewSqliteDb: no visible global function definition for
‘dbListTables’
Undefined global functions or variables:
dbListTables
* checking Rd files ... NOTE
checkRd: (-1) SUPPDV.Rd:22-32: Lost braces
22 | The following table enumerates the values in QNAM and QLABEL variables {
| ^
checkRd: (-1) SUPPFA.Rd:23-28: Lost braces
23 | The following table enumerates the values in QNAM and QLABEL variables {
| ^
checkRd: (-1) SUPPLB.Rd:22-29: Lost braces
22 | The following table enumerates the values in QNAM and QLABEL variables {
| ^
checkRd: (-1) SUPPMH.Rd:23-30: Lost braces
23 | The following table enumerates the values in QNAM and QLABEL variables {
| ^
checkRd: (-1) SUPPPE.Rd:23-28: Lost braces
23 | The following table enumerates the values in QNAM and QLABEL variables {
| ^
checkRd: (-1) SUPPPF.Rd:22-38: Lost braces
22 | The following table enumerates the values in QNAM and QLABEL variables {
| ^
checkRd: (-1) SUPPVS.Rd:23-28: Lost braces
23 | The following table enumerates the values in QNAM and QLABEL variables {
| ^
checkRd: (-1) SUPPZA.Rd:22-39: Lost braces
22 | The following table enumerates the values in QNAM and QLABEL variables {
| ^
checkRd: (-1) SUPPZB.Rd:22-38: Lost braces
22 | The following table enumerates the values in QNAM and QLABEL variables {
| ^
checkRd: (-1) SUPPZC.Rd:22-37: Lost braces
22 | The following table enumerates the values in QNAM and QLABEL variables {
| ^
checkRd: (-1) SUPPZD.Rd:22-37: Lost braces
22 | The following table enumerates the values in QNAM and QLABEL variables {
| ^
checkRd: (-1) TS.Rd:20-41: Lost braces
20 | The following table enumerates the values in TSPARMCD and TSPARM variables {
| ^
* checking Rd metadata ... OK
* checking Rd cross-references ... OK
* checking for missing documentation entries ... OK
* checking for code/documentation mismatches ... OK
* checking Rd \usage sections ... OK
* checking Rd contents ... OK
* checking for unstated dependencies in examples ... OK
* checking sizes of PDF files under ‘inst/doc’ ... OK
* checking files in ‘vignettes’ ... OK
* checking examples ... OK
* checking for unstated dependencies in vignettes ... OK
* checking package vignettes ... OK
* checking running R code from vignettes ... SKIPPED
* checking re-building of vignette outputs ... SKIPPED
* checking PDF version of manual ... OK
* DONE
Status: 2 NOTEs
See
‘/Users/biocbuild/bbs-3.21-bioc/meat/RImmPort.Rcheck/00check.log’
for details.
RImmPort.Rcheck/00install.out
############################################################################## ############################################################################## ### ### Running command: ### ### /Library/Frameworks/R.framework/Resources/bin/R CMD INSTALL RImmPort ### ############################################################################## ############################################################################## * installing to library ‘/Library/Frameworks/R.framework/Versions/4.5-x86_64/Resources/library’ * installing *source* package ‘RImmPort’ ... ** this is package ‘RImmPort’ version ‘1.36.0’ ** using staged installation ** R ** inst ** byte-compile and prepare package for lazy loading ** help *** installing help indices ** building package indices ** installing vignettes ** testing if installed package can be loaded from temporary location ** testing if installed package can be loaded from final location ** testing if installed package keeps a record of temporary installation path * DONE (RImmPort)
RImmPort.Rcheck/RImmPort-Ex.timings
| name | user | system | elapsed | |
| Events-class | 0.510 | 0.089 | 0.725 | |
| Findings-class | 0.300 | 0.054 | 0.357 | |
| Interventions-class | 0.222 | 0.040 | 0.262 | |
| SpecialPurpose-class | 0.258 | 0.044 | 0.306 | |
| Study-class | 0.242 | 0.041 | 0.286 | |
| TrialDesign-class | 0.282 | 0.046 | 0.333 | |
| buildNewSqliteDb | 0.001 | 0.001 | 0.002 | |
| getAssayDataOfStudies | 0.197 | 0.018 | 0.217 | |
| getDomainCode | 0 | 0 | 0 | |
| getDomainDataOfStudies | 0.067 | 0.011 | 0.079 | |
| getListOfAssayTypes | 0.000 | 0.000 | 0.001 | |
| getListOfDomains | 0 | 0 | 0 | |
| getListOfStudies | 0.065 | 0.010 | 0.079 | |
| getStudiesWithSpecificAssayData | 0.067 | 0.012 | 0.079 | |
| getStudiesWithSpecificDomainData | 0.075 | 0.011 | 0.086 | |
| getStudy | 0.243 | 0.039 | 0.285 | |
| loadSerializedStudyData | 0.004 | 0.003 | 0.007 | |
| mergeDomainAndSupplemental | 0.179 | 0.026 | 0.206 | |
| serialzeStudyData | 0.423 | 0.079 | 0.511 | |
| setImmPortDataSource | 0.055 | 0.009 | 0.066 | |