Back to Multiple platform build/check report for BioC 3.21:   simplified   long
ABCDEFGHIJKLMNO[P]QRSTUVWXYZ

This page was generated on 2025-10-16 11:39 -0400 (Thu, 16 Oct 2025).

HostnameOSArch (*)R versionInstalled pkgs
nebbiolo1Linux (Ubuntu 24.04.3 LTS)x86_644.5.1 (2025-06-13) -- "Great Square Root" 4833
merida1macOS 12.7.6 Montereyx86_644.5.1 RC (2025-06-05 r88288) -- "Great Square Root" 4614
kjohnson1macOS 13.7.5 Venturaarm644.5.1 Patched (2025-06-14 r88325) -- "Great Square Root" 4555
kunpeng2Linux (openEuler 24.03 LTS)aarch64R Under development (unstable) (2025-02-19 r87757) -- "Unsuffered Consequences" 4586
Click on any hostname to see more info about the system (e.g. compilers)      (*) as reported by 'uname -p', except on Windows and Mac OS X

Package 1583/2341HostnameOS / ArchINSTALLBUILDCHECKBUILD BIN
Pigengene 1.34.0  (landing page)
Habil Zare
Snapshot Date: 2025-10-13 13:40 -0400 (Mon, 13 Oct 2025)
git_url: https://git.bioconductor.org/packages/Pigengene
git_branch: RELEASE_3_21
git_last_commit: 04213d7
git_last_commit_date: 2025-04-15 11:02:19 -0400 (Tue, 15 Apr 2025)
nebbiolo1Linux (Ubuntu 24.04.3 LTS) / x86_64  OK    OK    OK  UNNEEDED, same version is already published
merida1macOS 12.7.6 Monterey / x86_64  OK    OK    OK    OK  UNNEEDED, same version is already published
kjohnson1macOS 13.7.5 Ventura / arm64  OK    OK    OK    OK  UNNEEDED, same version is already published
kunpeng2Linux (openEuler 24.03 LTS) / aarch64  OK    OK    OK  


CHECK results for Pigengene on merida1

To the developers/maintainers of the Pigengene package:
- Allow up to 24 hours (and sometimes 48 hours) for your latest push to git@git.bioconductor.org:packages/Pigengene.git to reflect on this report. See Troubleshooting Build Report for more information.
- Use the following Renviron settings to reproduce errors and warnings.
- If 'R CMD check' started to fail recently on the Linux builder(s) over a missing dependency, add the missing dependency to 'Suggests:' in your DESCRIPTION file. See Renviron.bioc for more information.

raw results


Summary

Package: Pigengene
Version: 1.34.0
Command: /Library/Frameworks/R.framework/Resources/bin/R CMD check --install=check:Pigengene.install-out.txt --library=/Library/Frameworks/R.framework/Resources/library --no-vignettes --timings Pigengene_1.34.0.tar.gz
StartedAt: 2025-10-14 08:14:04 -0400 (Tue, 14 Oct 2025)
EndedAt: 2025-10-14 08:32:03 -0400 (Tue, 14 Oct 2025)
EllapsedTime: 1079.5 seconds
RetCode: 0
Status:   OK  
CheckDir: Pigengene.Rcheck
Warnings: 0

Command output

##############################################################################
##############################################################################
###
### Running command:
###
###   /Library/Frameworks/R.framework/Resources/bin/R CMD check --install=check:Pigengene.install-out.txt --library=/Library/Frameworks/R.framework/Resources/library --no-vignettes --timings Pigengene_1.34.0.tar.gz
###
##############################################################################
##############################################################################


* using log directory ‘/Users/biocbuild/bbs-3.21-bioc/meat/Pigengene.Rcheck’
* using R version 4.5.1 RC (2025-06-05 r88288)
* using platform: x86_64-apple-darwin20
* R was compiled by
    Apple clang version 14.0.0 (clang-1400.0.29.202)
    GNU Fortran (GCC) 14.2.0
* running under: macOS Monterey 12.7.6
* using session charset: UTF-8
* using option ‘--no-vignettes’
* checking for file ‘Pigengene/DESCRIPTION’ ... OK
* checking extension type ... Package
* this is package ‘Pigengene’ version ‘1.34.0’
* checking package namespace information ... OK
* checking package dependencies ... OK
* checking if this is a source package ... OK
* checking if there is a namespace ... OK
* checking for hidden files and directories ... OK
* checking for portable file names ... OK
* checking for sufficient/correct file permissions ... OK
* checking whether package ‘Pigengene’ can be installed ... OK
* checking installed package size ... OK
* checking package directory ... OK
* checking ‘build’ directory ... OK
* checking DESCRIPTION meta-information ... OK
* checking top-level files ... OK
* checking for left-over files ... OK
* checking index information ... OK
* checking package subdirectories ... OK
* checking code files for non-ASCII characters ... OK
* checking R files for syntax errors ... OK
* checking whether the package can be loaded ... OK
* checking whether the package can be loaded with stated dependencies ... OK
* checking whether the package can be unloaded cleanly ... OK
* checking whether the namespace can be loaded with stated dependencies ... OK
* checking whether the namespace can be unloaded cleanly ... OK
* checking dependencies in R code ... NOTE
'library' or 'require' calls in package code:
  ‘AnnotationDbi’ ‘biomaRt’ ‘energy’ ‘org.Hs.eg.db’ ‘org.Mm.eg.db’
  Please use :: or requireNamespace() instead.
  See section 'Suggested packages' in the 'Writing R Extensions' manual.
* checking S3 generic/method consistency ... OK
* checking replacement functions ... OK
* checking foreign function calls ... OK
* checking R code for possible problems ... NOTE
Found the following possibly unsafe calls:
File ‘Pigengene/R/bn.calculation.R’:
  assignInNamespace("supported.clusters", fixArgs, "bnlearn")

one.step.pigengene: no visible binding for global variable
  ‘org.Hs.eg.db’
Undefined global functions or variables:
  org.Hs.eg.db
* checking Rd files ... NOTE
checkRd: (-1) draw.bn.Rd:47: Lost braces
    47 |      rename the nodes name.  See code{rename.node}.}
       |                                      ^
checkRd: (-1) eigengenes33.Rd:21-22: Lost braces
    21 |  {A 202 by 34 matrix. 
       |  ^
checkRd: (-1) eigengenes33.Rd:25: Lost braces; missing escapes or markup?
    25 |  {A 164 by 34 matrix for MDS cases with columns similar to aml.}
       |  ^
checkRd: (-1) eigengenes33.Rd:28: Lost braces; missing escapes or markup?
    28 |  {A numeric vector of length 9166 labeling members of each module. Named by Entrez ID.}
       |  ^
checkRd: (-1) pigengene-class.Rd:25-26: Lost braces in \itemize; meant \describe ?
checkRd: (-1) pigengene-class.Rd:27-29: Lost braces in \itemize; meant \describe ?
checkRd: (-1) pigengene-class.Rd:30-39: Lost braces in \itemize; meant \describe ?
checkRd: (-1) pigengene-class.Rd:40-41: Lost braces in \itemize; meant \describe ?
checkRd: (-1) pigengene-class.Rd:42-44: Lost braces in \itemize; meant \describe ?
checkRd: (-1) pigengene-class.Rd:45-47: Lost braces in \itemize; meant \describe ?
checkRd: (-1) pigengene-class.Rd:48-49: Lost braces in \itemize; meant \describe ?
checkRd: (-1) pigengene-class.Rd:50-52: Lost braces in \itemize; meant \describe ?
checkRd: (-1) pigengene-class.Rd:53-55: Lost braces in \itemize; meant \describe ?
checkRd: (-1) pigengene-class.Rd:56-57: Lost braces in \itemize; meant \describe ?
checkRd: (-1) pigengene-class.Rd:58-59: Lost braces in \itemize; meant \describe ?
checkRd: (-1) pigengene-class.Rd:60-63: Lost braces in \itemize; meant \describe ?
checkRd: (-1) pigengene-class.Rd:64-68: Lost braces in \itemize; meant \describe ?
checkRd: (-1) pigengene-class.Rd:73-76: Lost braces in \itemize; meant \describe ?
checkRd: (-1) pigengene-class.Rd:77-79: Lost braces in \itemize; meant \describe ?
* checking Rd metadata ... OK
* checking Rd cross-references ... NOTE
Non-topic package-anchored link(s) in Rd file 'draw.bn.Rd':
  ‘[bnlearn:bn.class]{bn-class}’

Non-topic package-anchored link(s) in Rd file 'gene.mapping.Rd':
  ‘[org.Hs.eg.db:org.Hs.egBASE]{org.Hs.eg.db}’
  ‘[org.Mm.eg.db:org.Mm.egBASE]{org.Mm.eg.db}’

Non-topic package-anchored link(s) in Rd file 'learn.bn.Rd':
  ‘[bnlearn:preprocessing]{discretize}’ ‘[bnlearn:bn.class]{bn-class}’

See section 'Cross-references' in the 'Writing R Extensions' manual.
* checking for missing documentation entries ... OK
* checking for code/documentation mismatches ... OK
* checking Rd \usage sections ... OK
* checking Rd contents ... OK
* checking for unstated dependencies in examples ... OK
* checking contents of ‘data’ directory ... OK
* checking data for non-ASCII characters ... OK
* checking data for ASCII and uncompressed saves ... OK
* checking sizes of PDF files under ‘inst/doc’ ... OK
* checking files in ‘vignettes’ ... OK
* checking examples ... OK
Examples with CPU (user + system) or elapsed time > 5s
                      user system elapsed
get.enriched.pw    125.096 10.289 138.171
one.step.pigengene 103.466  2.568 106.449
Pigengene-package   98.101  3.035 101.946
module.heatmap      72.725  2.361  75.633
compact.tree        20.128  0.743  21.224
learn.bn            20.157  0.486  21.569
make.decision.tree  19.833  0.677  20.560
compute.pigengene   18.388  0.829  19.564
make.filter         18.810  0.359  19.273
apply.filter        16.754  0.374  17.176
combine.networks    15.841  0.093  16.249
determine.modules   15.414  0.108  15.662
wgcna.one.step      14.739  0.150  15.457
gene.mapping        13.216  1.314  22.272
pigengene           10.548  0.865  11.480
plot.pigengene      10.262  0.419  10.701
project.eigen        9.417  0.398   9.895
* checking for unstated dependencies in vignettes ... OK
* checking package vignettes ... OK
* checking running R code from vignettes ... SKIPPED
* checking re-building of vignette outputs ... SKIPPED
* checking PDF version of manual ... OK
* DONE

Status: 4 NOTEs
See
  ‘/Users/biocbuild/bbs-3.21-bioc/meat/Pigengene.Rcheck/00check.log’
for details.


Installation output

Pigengene.Rcheck/00install.out

##############################################################################
##############################################################################
###
### Running command:
###
###   /Library/Frameworks/R.framework/Resources/bin/R CMD INSTALL Pigengene
###
##############################################################################
##############################################################################


* installing to library ‘/Library/Frameworks/R.framework/Versions/4.5-x86_64/Resources/library’
* installing *source* package ‘Pigengene’ ...
** this is package ‘Pigengene’ version ‘1.34.0’
** using staged installation
** R
** data
** inst
** byte-compile and prepare package for lazy loading
** help
*** installing help indices
** building package indices
** installing vignettes
** testing if installed package can be loaded from temporary location
** testing if installed package can be loaded from final location
** testing if installed package keeps a record of temporary installation path
* DONE (Pigengene)

Tests output


Example timings

Pigengene.Rcheck/Pigengene-Ex.timings

nameusersystemelapsed
Pigengene-package 98.101 3.035101.946
aml0.2380.0120.250
apply.filter16.754 0.37417.176
balance0.7900.0540.845
calculate.beta0.9430.0300.975
check.nas0.0590.0080.067
check.pigengene.input0.0600.0080.068
combine.networks15.841 0.09316.249
compact.tree20.128 0.74321.224
compute.pigengene18.388 0.82919.564
dcor.matrix0.2490.0290.291
determine.modules15.414 0.10815.662
draw.bn0.0000.0010.001
eigengenes330.2390.0120.251
gene.mapping13.216 1.31422.272
get.enriched.pw125.096 10.289138.171
get.fitted.leaf0.7870.0440.873
get.genes0.8460.0620.912
get.used.features0.7430.0390.784
learn.bn20.157 0.48621.569
make.decision.tree19.833 0.67720.560
make.filter18.810 0.35919.273
mds0.2300.0150.247
message.if0.0000.0000.001
module.heatmap72.725 2.36175.633
one.step.pigengene103.466 2.568106.449
pheatmap.type0.4750.0110.487
pigengene10.548 0.86511.480
plot.pigengene10.262 0.41910.701
preds.at0.9390.0470.989
project.eigen9.4170.3989.895
pvalues.manova0.0790.0100.089
save.if0.9600.0190.980
wgcna.one.step14.739 0.15015.457