| Back to Multiple platform build/check report for BioC 3.21: simplified long |
|
This page was generated on 2025-04-22 13:18 -0400 (Tue, 22 Apr 2025).
| Hostname | OS | Arch (*) | R version | Installed pkgs |
|---|---|---|---|---|
| nebbiolo1 | Linux (Ubuntu 24.04.1 LTS) | x86_64 | 4.5.0 RC (2025-04-04 r88126) -- "How About a Twenty-Six" | 4831 |
| palomino7 | Windows Server 2022 Datacenter | x64 | 4.5.0 RC (2025-04-04 r88126 ucrt) -- "How About a Twenty-Six" | 4573 |
| lconway | macOS 12.7.1 Monterey | x86_64 | 4.5.0 RC (2025-04-04 r88126) -- "How About a Twenty-Six" | 4599 |
| kjohnson3 | macOS 13.7.1 Ventura | arm64 | 4.5.0 RC (2025-04-04 r88126) -- "How About a Twenty-Six" | 4553 |
| kunpeng2 | Linux (openEuler 24.03 LTS) | aarch64 | R Under development (unstable) (2025-02-19 r87757) -- "Unsuffered Consequences" | 4570 |
| Click on any hostname to see more info about the system (e.g. compilers) (*) as reported by 'uname -p', except on Windows and Mac OS X | ||||
| Package 1635/2341 | Hostname | OS / Arch | INSTALL | BUILD | CHECK | BUILD BIN | ||||||||
| PRONE 1.2.0 (landing page) Lis Arend
| nebbiolo1 | Linux (Ubuntu 24.04.1 LTS) / x86_64 | OK | OK | OK | |||||||||
| palomino7 | Windows Server 2022 Datacenter / x64 | OK | OK | OK | OK | |||||||||
| lconway | macOS 12.7.1 Monterey / x86_64 | OK | OK | OK | OK | |||||||||
| kjohnson3 | macOS 13.7.1 Ventura / arm64 | OK | OK | OK | OK | |||||||||
| kunpeng2 | Linux (openEuler 24.03 LTS) / aarch64 | OK | OK | OK | ||||||||||
|
To the developers/maintainers of the PRONE package: - Allow up to 24 hours (and sometimes 48 hours) for your latest push to git@git.bioconductor.org:packages/PRONE.git to reflect on this report. See Troubleshooting Build Report for more information. - Use the following Renviron settings to reproduce errors and warnings. - If 'R CMD check' started to fail recently on the Linux builder(s) over a missing dependency, add the missing dependency to 'Suggests:' in your DESCRIPTION file. See Renviron.bioc for more information. |
| Package: PRONE |
| Version: 1.2.0 |
| Command: /Library/Frameworks/R.framework/Resources/bin/R CMD check --install=check:PRONE.install-out.txt --library=/Library/Frameworks/R.framework/Resources/library --no-vignettes --timings PRONE_1.2.0.tar.gz |
| StartedAt: 2025-04-21 21:01:03 -0400 (Mon, 21 Apr 2025) |
| EndedAt: 2025-04-21 21:03:11 -0400 (Mon, 21 Apr 2025) |
| EllapsedTime: 127.5 seconds |
| RetCode: 0 |
| Status: OK |
| CheckDir: PRONE.Rcheck |
| Warnings: 0 |
##############################################################################
##############################################################################
###
### Running command:
###
### /Library/Frameworks/R.framework/Resources/bin/R CMD check --install=check:PRONE.install-out.txt --library=/Library/Frameworks/R.framework/Resources/library --no-vignettes --timings PRONE_1.2.0.tar.gz
###
##############################################################################
##############################################################################
* using log directory ‘/Users/biocbuild/bbs-3.21-bioc/meat/PRONE.Rcheck’
* using R version 4.5.0 RC (2025-04-04 r88126)
* using platform: aarch64-apple-darwin20
* R was compiled by
Apple clang version 14.0.0 (clang-1400.0.29.202)
GNU Fortran (GCC) 14.2.0
* running under: macOS Ventura 13.7.1
* using session charset: UTF-8
* using option ‘--no-vignettes’
* checking for file ‘PRONE/DESCRIPTION’ ... OK
* checking extension type ... Package
* this is package ‘PRONE’ version ‘1.2.0’
* package encoding: UTF-8
* checking package namespace information ... OK
* checking package dependencies ... INFO
Imports includes 34 non-default packages.
Importing from so many packages makes the package vulnerable to any of
them becoming unavailable. Move as many as possible to Suggests and
use conditionally.
* checking if this is a source package ... OK
* checking if there is a namespace ... OK
* checking for hidden files and directories ... OK
* checking for portable file names ... OK
* checking for sufficient/correct file permissions ... OK
* checking whether package ‘PRONE’ can be installed ... OK
* checking installed package size ... OK
* checking package directory ... OK
* checking ‘build’ directory ... OK
* checking DESCRIPTION meta-information ... OK
* checking top-level files ... OK
* checking for left-over files ... OK
* checking index information ... OK
* checking package subdirectories ... OK
* checking code files for non-ASCII characters ... OK
* checking R files for syntax errors ... OK
* checking whether the package can be loaded ... OK
* checking whether the package can be loaded with stated dependencies ... OK
* checking whether the package can be unloaded cleanly ... OK
* checking whether the namespace can be loaded with stated dependencies ... OK
* checking whether the namespace can be unloaded cleanly ... OK
* checking dependencies in R code ... NOTE
Unexported objects imported by ':::' calls:
‘NormalyzerDE:::calculateAvgMadMem’
‘NormalyzerDE:::calculateAvgReplicateVariation’
‘NormalyzerDE:::calculatePercentageAvgDiffInMat’
‘NormalyzerDE:::calculateReplicateCV’
‘NormalyzerDE:::calculateSummarizedCorrelationVector’
See the note in ?`:::` about the use of this operator.
* checking S3 generic/method consistency ... OK
* checking replacement functions ... OK
* checking foreign function calls ... OK
* checking R code for possible problems ... OK
* checking Rd files ... OK
* checking Rd metadata ... OK
* checking Rd cross-references ... OK
* checking for missing documentation entries ... OK
* checking for code/documentation mismatches ... OK
* checking Rd \usage sections ... OK
* checking Rd contents ... OK
* checking for unstated dependencies in examples ... OK
* checking contents of ‘data’ directory ... OK
* checking data for non-ASCII characters ... OK
* checking data for ASCII and uncompressed saves ... OK
* checking files in ‘vignettes’ ... OK
* checking examples ... OK
* checking for unstated dependencies in vignettes ... OK
* checking package vignettes ... OK
* checking running R code from vignettes ... SKIPPED
* checking re-building of vignette outputs ... SKIPPED
* checking PDF version of manual ... OK
* DONE
Status: 1 NOTE
See
‘/Users/biocbuild/bbs-3.21-bioc/meat/PRONE.Rcheck/00check.log’
for details.
PRONE.Rcheck/00install.out
############################################################################## ############################################################################## ### ### Running command: ### ### /Library/Frameworks/R.framework/Resources/bin/R CMD INSTALL PRONE ### ############################################################################## ############################################################################## * installing to library ‘/Library/Frameworks/R.framework/Versions/4.5-arm64/Resources/library’ * installing *source* package ‘PRONE’ ... ** this is package ‘PRONE’ version ‘1.2.0’ ** using staged installation ** R ** data ** inst ** byte-compile and prepare package for lazy loading ** help *** installing help indices *** copying figures ** building package indices ** installing vignettes ** testing if installed package can be loaded from temporary location ** testing if installed package can be loaded from final location ** testing if installed package keeps a record of temporary installation path * DONE (PRONE)
PRONE.Rcheck/PRONE-Ex.timings
| name | user | system | elapsed | |
| apply_thresholds | 0.014 | 0.002 | 0.015 | |
| detect_outliers_POMA | 0.694 | 0.013 | 0.707 | |
| eigenMSNorm | 0.182 | 0.014 | 0.196 | |
| export_data | 0.013 | 0.001 | 0.015 | |
| extract_consensus_DE_candidates | 0.031 | 0.003 | 0.034 | |
| filter_out_NA_proteins_by_threshold | 0.134 | 0.009 | 0.081 | |
| filter_out_complete_NA_proteins | 0.043 | 0.002 | 0.022 | |
| filter_out_proteins_by_ID | 0.093 | 0.002 | 0.048 | |
| filter_out_proteins_by_value | 0.095 | 0.003 | 0.049 | |
| get_NA_overview | 0.032 | 0.002 | 0.017 | |
| get_normalization_methods | 0 | 0 | 0 | |
| get_overview_DE | 0.017 | 0.002 | 0.017 | |
| get_proteins_by_value | 0.046 | 0.001 | 0.047 | |
| get_spiked_stats_DE | 0.038 | 0.002 | 0.040 | |
| globalIntNorm | 0.049 | 0.002 | 0.050 | |
| globalMeanNorm | 0.050 | 0.001 | 0.050 | |
| globalMedianNorm | 0.050 | 0.001 | 0.051 | |
| impute_se | 0.446 | 0.018 | 0.246 | |
| irsNorm | 0.046 | 0.002 | 0.024 | |
| limmaNorm | 0.053 | 0.002 | 0.028 | |
| load_data | 0.044 | 0.002 | 0.024 | |
| load_spike_data | 0.036 | 0.001 | 0.019 | |
| loessCycNorm | 0.101 | 0.007 | 0.054 | |
| loessFNorm | 0.059 | 0.003 | 0.038 | |
| meanNorm | 0.018 | 0.001 | 0.020 | |
| medianAbsDevNorm | 0.038 | 0.002 | 0.041 | |
| medianNorm | 0.024 | 0.001 | 0.025 | |
| normalize_se | 1.131 | 0.030 | 1.162 | |
| normalize_se_combination | 1.154 | 0.055 | 1.210 | |
| normalize_se_single | 1.105 | 0.028 | 1.155 | |
| normicsNorm | 1.522 | 0.029 | 1.576 | |
| plot_NA_density | 0.174 | 0.009 | 0.106 | |
| plot_NA_frequency | 0.131 | 0.009 | 0.074 | |
| plot_NA_heatmap | 0.567 | 0.036 | 0.492 | |
| plot_PCA | 0.316 | 0.002 | 0.321 | |
| plot_ROC_AUC_spiked | 0.513 | 0.030 | 0.352 | |
| plot_TP_FP_spiked_bar | 0.091 | 0.002 | 0.094 | |
| plot_TP_FP_spiked_box | 0.115 | 0.003 | 0.118 | |
| plot_TP_FP_spiked_scatter | 0.128 | 0.003 | 0.133 | |
| plot_boxplots | 1.630 | 0.061 | 1.183 | |
| plot_condition_overview | 0.062 | 0.002 | 0.064 | |
| plot_densities | 1.396 | 0.088 | 0.861 | |
| plot_fold_changes_spiked | 0.232 | 0.012 | 0.153 | |
| plot_heatmap | 1.322 | 0.036 | 1.294 | |
| plot_heatmap_DE | 0.374 | 0.007 | 0.383 | |
| plot_histogram_spiked | 0.161 | 0.018 | 0.142 | |
| plot_identified_spiked_proteins | 0.222 | 0.019 | 0.137 | |
| plot_intersection_enrichment | 0.197 | 0.013 | 3.426 | |
| plot_intragroup_PCV | 0.178 | 0.002 | 0.181 | |
| plot_intragroup_PEV | 0.109 | 0.002 | 0.111 | |
| plot_intragroup_PMAD | 0.109 | 0.002 | 0.111 | |
| plot_intragroup_correlation | 0.142 | 0.002 | 0.144 | |
| plot_jaccard_heatmap | 0.130 | 0.005 | 0.076 | |
| plot_logFC_thresholds_spiked | 0.313 | 0.013 | 0.199 | |
| plot_markers_boxplots | 0.421 | 0.017 | 0.267 | |
| plot_nr_prot_samples | 0.096 | 0.003 | 0.077 | |
| plot_overview_DE_bar | 0.088 | 0.002 | 0.090 | |
| plot_overview_DE_tile | 0.057 | 0.002 | 0.060 | |
| plot_profiles_spiked | 0.406 | 0.018 | 0.235 | |
| plot_pvalues_spiked | 0.148 | 0.003 | 0.150 | |
| plot_stats_spiked_heatmap | 0.104 | 0.003 | 0.107 | |
| plot_tot_int_samples | 0.074 | 0.001 | 0.075 | |
| plot_upset | 0.201 | 0.006 | 0.208 | |
| plot_upset_DE | 0.244 | 0.009 | 0.252 | |
| plot_volcano_DE | 0.953 | 0.011 | 0.964 | |
| quantileNorm | 0.019 | 0.001 | 0.021 | |
| readPRONE_example | 0.001 | 0.001 | 0.001 | |
| remove_POMA_outliers | 0.172 | 0.003 | 0.175 | |
| remove_assays_from_SE | 0.022 | 0.001 | 0.023 | |
| remove_reference_samples | 0.017 | 0.002 | 0.018 | |
| remove_samples_manually | 0.019 | 0.001 | 0.020 | |
| rlrMACycNorm | 0.196 | 0.006 | 0.201 | |
| rlrMANorm | 0.041 | 0.002 | 0.043 | |
| rlrNorm | 0.034 | 0.002 | 0.034 | |
| robnormNorm | 0.030 | 0.003 | 0.033 | |
| run_DE | 1.178 | 0.052 | 0.732 | |
| specify_comparisons | 0.028 | 0.002 | 0.016 | |
| subset_SE_by_norm | 0.053 | 0.003 | 0.030 | |
| tmmNorm | 0.199 | 0.021 | 0.115 | |
| vsnNorm | 0.057 | 0.004 | 0.035 | |