| Back to Multiple platform build/check report for BioC 3.21: simplified long |
|
This page was generated on 2025-10-16 11:38 -0400 (Thu, 16 Oct 2025).
| Hostname | OS | Arch (*) | R version | Installed pkgs |
|---|---|---|---|---|
| nebbiolo1 | Linux (Ubuntu 24.04.3 LTS) | x86_64 | 4.5.1 (2025-06-13) -- "Great Square Root" | 4833 |
| merida1 | macOS 12.7.6 Monterey | x86_64 | 4.5.1 RC (2025-06-05 r88288) -- "Great Square Root" | 4614 |
| kjohnson1 | macOS 13.7.5 Ventura | arm64 | 4.5.1 Patched (2025-06-14 r88325) -- "Great Square Root" | 4555 |
| kunpeng2 | Linux (openEuler 24.03 LTS) | aarch64 | R Under development (unstable) (2025-02-19 r87757) -- "Unsuffered Consequences" | 4586 |
| Click on any hostname to see more info about the system (e.g. compilers) (*) as reported by 'uname -p', except on Windows and Mac OS X | ||||
| Package 1547/2341 | Hostname | OS / Arch | INSTALL | BUILD | CHECK | BUILD BIN | ||||||||
| PCAN 1.36.0 (landing page) Matthew Page
| nebbiolo1 | Linux (Ubuntu 24.04.3 LTS) / x86_64 | OK | OK | OK | |||||||||
| merida1 | macOS 12.7.6 Monterey / x86_64 | OK | OK | OK | OK | |||||||||
| kjohnson1 | macOS 13.7.5 Ventura / arm64 | OK | OK | OK | OK | |||||||||
| kunpeng2 | Linux (openEuler 24.03 LTS) / aarch64 | OK | OK | OK | ||||||||||
|
To the developers/maintainers of the PCAN package: - Allow up to 24 hours (and sometimes 48 hours) for your latest push to git@git.bioconductor.org:packages/PCAN.git to reflect on this report. See Troubleshooting Build Report for more information. - Use the following Renviron settings to reproduce errors and warnings. - If 'R CMD check' started to fail recently on the Linux builder(s) over a missing dependency, add the missing dependency to 'Suggests:' in your DESCRIPTION file. See Renviron.bioc for more information. |
| Package: PCAN |
| Version: 1.36.0 |
| Command: /home/biocbuild/bbs-3.21-bioc/R/bin/R CMD check --install=check:PCAN.install-out.txt --library=/home/biocbuild/bbs-3.21-bioc/R/site-library --timings PCAN_1.36.0.tar.gz |
| StartedAt: 2025-10-16 02:06:04 -0400 (Thu, 16 Oct 2025) |
| EndedAt: 2025-10-16 02:10:11 -0400 (Thu, 16 Oct 2025) |
| EllapsedTime: 247.3 seconds |
| RetCode: 0 |
| Status: OK |
| CheckDir: PCAN.Rcheck |
| Warnings: 0 |
##############################################################################
##############################################################################
###
### Running command:
###
### /home/biocbuild/bbs-3.21-bioc/R/bin/R CMD check --install=check:PCAN.install-out.txt --library=/home/biocbuild/bbs-3.21-bioc/R/site-library --timings PCAN_1.36.0.tar.gz
###
##############################################################################
##############################################################################
* using log directory ‘/home/biocbuild/bbs-3.21-bioc/meat/PCAN.Rcheck’
* using R version 4.5.1 (2025-06-13)
* using platform: x86_64-pc-linux-gnu
* R was compiled by
gcc (Ubuntu 13.3.0-6ubuntu2~24.04) 13.3.0
GNU Fortran (Ubuntu 13.3.0-6ubuntu2~24.04) 13.3.0
* running under: Ubuntu 24.04.3 LTS
* using session charset: UTF-8
* checking for file ‘PCAN/DESCRIPTION’ ... OK
* this is package ‘PCAN’ version ‘1.36.0’
* checking package namespace information ... OK
* checking package dependencies ... OK
* checking if this is a source package ... OK
* checking if there is a namespace ... OK
* checking for hidden files and directories ... OK
* checking for portable file names ... OK
* checking for sufficient/correct file permissions ... OK
* checking whether package ‘PCAN’ can be installed ... OK
* checking installed package size ... OK
* checking package directory ... OK
* checking ‘build’ directory ... OK
* checking DESCRIPTION meta-information ... OK
* checking top-level files ... OK
* checking for left-over files ... OK
* checking index information ... OK
* checking package subdirectories ... OK
* checking code files for non-ASCII characters ... OK
* checking R files for syntax errors ... OK
* checking whether the package can be loaded ... OK
* checking whether the package can be loaded with stated dependencies ... OK
* checking whether the package can be unloaded cleanly ... OK
* checking whether the namespace can be loaded with stated dependencies ... OK
* checking whether the namespace can be unloaded cleanly ... OK
* checking loading without being on the library search path ... OK
* checking dependencies in R code ... OK
* checking S3 generic/method consistency ... OK
* checking replacement functions ... OK
* checking foreign function calls ... OK
* checking R code for possible problems ... OK
* checking Rd files ... NOTE
checkRd: (-1) hpGeneHeatmap.Rd:33: Lost braces
33 | \item{...}{parameters for the code{\link{heatmap}} function}
| ^
* checking Rd metadata ... OK
* checking Rd cross-references ... NOTE
Found the following Rd file(s) with Rd \link{} targets missing package
anchors:
compareHPSets.Rd: BiocParallelParam, bpmapply
Please provide package anchors for all Rd \link{} targets not in the
package itself and the base packages.
* checking for missing documentation entries ... OK
* checking for code/documentation mismatches ... OK
* checking Rd \usage sections ... OK
* checking Rd contents ... OK
* checking for unstated dependencies in examples ... OK
* checking contents of ‘data’ directory ... OK
* checking data for non-ASCII characters ... OK
* checking data for ASCII and uncompressed saves ... OK
* checking files in ‘vignettes’ ... OK
* checking examples ... OK
Examples with CPU (user + system) or elapsed time > 5s
user system elapsed
hpGeneHeatmap 50.860 0.378 51.258
compareHPSets 50.254 0.235 50.497
hpGeneListComp 49.395 0.043 49.445
* checking for unstated dependencies in vignettes ... OK
* checking package vignettes ... OK
* checking re-building of vignette outputs ... OK
* checking PDF version of manual ... OK
* DONE
Status: 2 NOTEs
See
‘/home/biocbuild/bbs-3.21-bioc/meat/PCAN.Rcheck/00check.log’
for details.
PCAN.Rcheck/00install.out
############################################################################## ############################################################################## ### ### Running command: ### ### /home/biocbuild/bbs-3.21-bioc/R/bin/R CMD INSTALL PCAN ### ############################################################################## ############################################################################## * installing to library ‘/home/biocbuild/bbs-3.21-bioc/R/site-library’ * installing *source* package ‘PCAN’ ... ** this is package ‘PCAN’ version ‘1.36.0’ ** using staged installation ** R ** data ** inst ** byte-compile and prepare package for lazy loading ** help *** installing help indices ** building package indices ** installing vignettes ** testing if installed package can be loaded from temporary location ** testing if installed package can be loaded from final location ** testing if installed package keeps a record of temporary installation path * DONE (PCAN)
PCAN.Rcheck/PCAN-Ex.timings
| name | user | system | elapsed | |
| calcHpSim | 1.440 | 0.029 | 1.467 | |
| compareHPSets | 50.254 | 0.235 | 50.497 | |
| computeHpIC | 1.616 | 0.006 | 1.623 | |
| geneByHp | 1.792 | 0.009 | 1.801 | |
| geneByTrait | 0.040 | 0.003 | 0.043 | |
| geneDef | 2.303 | 0.027 | 2.330 | |
| hpByTrait | 2.448 | 0.003 | 2.451 | |
| hpDef | 1.791 | 0.005 | 1.796 | |
| hpGeneHeatmap | 50.860 | 0.378 | 51.258 | |
| hpGeneListComp | 49.395 | 0.043 | 49.445 | |
| hpSetCompBestMatch | 2.085 | 0.010 | 2.095 | |
| hpSetCompSummary | 2.146 | 0.008 | 2.155 | |
| hp_ancestors | 1.476 | 0.003 | 1.479 | |
| hp_class | 0.045 | 0.000 | 0.045 | |
| hp_descendants | 1.402 | 0.002 | 1.404 | |
| hqStrNw | 0.000 | 0.001 | 0.001 | |
| hsEntrezByRPath | 0 | 0 | 0 | |
| rPath | 0 | 0 | 0 | |
| traitDef | 2.014 | 0.005 | 2.020 | |