| Back to Multiple platform build/check report for BioC 3.21: simplified long |
|
This page was generated on 2025-08-18 11:42 -0400 (Mon, 18 Aug 2025).
| Hostname | OS | Arch (*) | R version | Installed pkgs |
|---|---|---|---|---|
| nebbiolo1 | Linux (Ubuntu 24.04.3 LTS) | x86_64 | 4.5.1 (2025-06-13) -- "Great Square Root" | 4824 |
| palomino7 | Windows Server 2022 Datacenter | x64 | 4.5.1 (2025-06-13 ucrt) -- "Great Square Root" | 4566 |
| merida1 | macOS 12.7.5 Monterey | x86_64 | 4.5.1 RC (2025-06-05 r88288) -- "Great Square Root" | 4604 |
| kjohnson1 | macOS 13.6.6 Ventura | arm64 | 4.5.1 Patched (2025-06-14 r88325) -- "Great Square Root" | 4545 |
| kunpeng2 | Linux (openEuler 24.03 LTS) | aarch64 | R Under development (unstable) (2025-02-19 r87757) -- "Unsuffered Consequences" | 4579 |
| Click on any hostname to see more info about the system (e.g. compilers) (*) as reported by 'uname -p', except on Windows and Mac OS X | ||||
| Package 1490/2341 | Hostname | OS / Arch | INSTALL | BUILD | CHECK | BUILD BIN | ||||||||
| OncoSimulR 4.10.0 (landing page) Ramon Diaz-Uriarte
| nebbiolo1 | Linux (Ubuntu 24.04.3 LTS) / x86_64 | OK | OK | OK | |||||||||
| palomino7 | Windows Server 2022 Datacenter / x64 | OK | OK | OK | OK | |||||||||
| merida1 | macOS 12.7.5 Monterey / x86_64 | OK | OK | OK | OK | |||||||||
| kjohnson1 | macOS 13.6.6 Ventura / arm64 | ... NOT SUPPORTED ... | ||||||||||||
| kunpeng2 | Linux (openEuler 24.03 LTS) / aarch64 | OK | OK | OK | ||||||||||
|
To the developers/maintainers of the OncoSimulR package: - Allow up to 24 hours (and sometimes 48 hours) for your latest push to git@git.bioconductor.org:packages/OncoSimulR.git to reflect on this report. See Troubleshooting Build Report for more information. - Use the following Renviron settings to reproduce errors and warnings. - If 'R CMD check' started to fail recently on the Linux builder(s) over a missing dependency, add the missing dependency to 'Suggests:' in your DESCRIPTION file. See Renviron.bioc for more information. |
| Package: OncoSimulR |
| Version: 4.10.0 |
| Command: E:\biocbuild\bbs-3.21-bioc\R\bin\R.exe CMD check --no-multiarch --install=check:OncoSimulR.install-out.txt --library=E:\biocbuild\bbs-3.21-bioc\R\library --no-vignettes --timings OncoSimulR_4.10.0.tar.gz |
| StartedAt: 2025-08-15 05:03:00 -0400 (Fri, 15 Aug 2025) |
| EndedAt: 2025-08-15 05:11:58 -0400 (Fri, 15 Aug 2025) |
| EllapsedTime: 538.1 seconds |
| RetCode: 0 |
| Status: OK |
| CheckDir: OncoSimulR.Rcheck |
| Warnings: 0 |
##############################################################################
##############################################################################
###
### Running command:
###
### E:\biocbuild\bbs-3.21-bioc\R\bin\R.exe CMD check --no-multiarch --install=check:OncoSimulR.install-out.txt --library=E:\biocbuild\bbs-3.21-bioc\R\library --no-vignettes --timings OncoSimulR_4.10.0.tar.gz
###
##############################################################################
##############################################################################
* using log directory 'E:/biocbuild/bbs-3.21-bioc/meat/OncoSimulR.Rcheck'
* using R version 4.5.1 (2025-06-13 ucrt)
* using platform: x86_64-w64-mingw32
* R was compiled by
gcc.exe (GCC) 14.2.0
GNU Fortran (GCC) 14.2.0
* running under: Windows Server 2022 x64 (build 20348)
* using session charset: UTF-8
* using option '--no-vignettes'
* checking for file 'OncoSimulR/DESCRIPTION' ... OK
* checking extension type ... Package
* this is package 'OncoSimulR' version '4.10.0'
* checking package namespace information ... OK
* checking package dependencies ... OK
* checking if this is a source package ... OK
* checking if there is a namespace ... OK
* checking for hidden files and directories ... NOTE
Found the following hidden files and directories:
.BBSoptions
These were most likely included in error. See section 'Package
structure' in the 'Writing R Extensions' manual.
* checking for portable file names ... OK
* checking whether package 'OncoSimulR' can be installed ... OK
* used C compiler: 'gcc.exe (GCC) 14.2.0'
* used C++ compiler: 'G__~1.EXE (GCC) 14.2.0'
* checking installed package size ... INFO
installed size is 8.4Mb
sub-directories of 1Mb or more:
libs 6.7Mb
* checking package directory ... OK
* checking 'build' directory ... OK
* checking DESCRIPTION meta-information ... OK
* checking top-level files ... OK
* checking for left-over files ... OK
* checking index information ... OK
* checking package subdirectories ... OK
* checking code files for non-ASCII characters ... OK
* checking R files for syntax errors ... OK
* checking whether the package can be loaded ... OK
* checking whether the package can be loaded with stated dependencies ... OK
* checking whether the package can be unloaded cleanly ... OK
* checking whether the namespace can be loaded with stated dependencies ... OK
* checking whether the namespace can be unloaded cleanly ... OK
* checking whether startup messages can be suppressed ... OK
* checking dependencies in R code ... OK
* checking S3 generic/method consistency ... OK
* checking replacement functions ... OK
* checking foreign function calls ... OK
* checking R code for possible problems ... OK
* checking Rd files ... OK
* checking Rd metadata ... OK
* checking Rd cross-references ... OK
* checking for missing documentation entries ... OK
* checking for code/documentation mismatches ... OK
* checking Rd \usage sections ... OK
* checking Rd contents ... OK
* checking for unstated dependencies in examples ... OK
* checking contents of 'data' directory ... OK
* checking data for non-ASCII characters ... OK
* checking data for ASCII and uncompressed saves ... OK
* checking line endings in C/C++/Fortran sources/headers ... OK
* checking line endings in Makefiles ... OK
* checking compilation flags in Makevars ... OK
* checking for GNU extensions in Makefiles ... OK
* checking for portable use of $(BLAS_LIBS) and $(LAPACK_LIBS) ... OK
* checking use of PKG_*FLAGS in Makefiles ... OK
* checking include directives in Makefiles ... OK
* checking compiled code ... NOTE
Note: information on .o files for x64 is not available
File 'E:/biocbuild/bbs-3.21-bioc/R/library/OncoSimulR/libs/x64/OncoSimulR.dll':
Found '_exit', possibly from '_exit' (C)
Found 'abort', possibly from 'abort' (C), 'runtime' (Fortran)
Found 'exit', possibly from 'exit' (C), 'stop' (Fortran)
Compiled code should not call entry points which might terminate R nor
write to stdout/stderr instead of to the console, nor use Fortran I/O
nor system RNGs nor [v]sprintf. The detected symbols are linked into
the code but might come from libraries and not actually be called.
See 'Writing portable packages' in the 'Writing R Extensions' manual.
* checking files in 'vignettes' ... OK
* checking examples ... OK
* checking for unstated dependencies in 'tests' ... OK
* checking tests ...
Running 'testthat.R'
OK
* checking for unstated dependencies in vignettes ... OK
* checking package vignettes ... OK
* checking running R code from vignettes ... SKIPPED
* checking re-building of vignette outputs ... SKIPPED
* checking PDF version of manual ... OK
* DONE
Status: 2 NOTEs
See
'E:/biocbuild/bbs-3.21-bioc/meat/OncoSimulR.Rcheck/00check.log'
for details.
OncoSimulR.Rcheck/00install.out
##############################################################################
##############################################################################
###
### Running command:
###
### E:\biocbuild\bbs-3.21-bioc\R\bin\R.exe CMD INSTALL OncoSimulR
###
##############################################################################
##############################################################################
* installing to library 'E:/biocbuild/bbs-3.21-bioc/R/library'
* installing *source* package 'OncoSimulR' ...
** this is package 'OncoSimulR' version '4.10.0'
** using staged installation
** libs
using C compiler: 'gcc.exe (GCC) 14.2.0'
using C++ compiler: 'G__~1.EXE (GCC) 14.2.0'
gcc -I"E:/biocbuild/bbs-3.21-bioc/R/include" -DNDEBUG -I'E:/biocbuild/bbs-3.21-bioc/R/library/Rcpp/include' -I"C:/rtools45/x86_64-w64-mingw32.static.posix/include" -O2 -Wall -std=gnu2x -mfpmath=sse -msse2 -mstackrealign -c FitnessLandscape/gamma.c -o FitnessLandscape/gamma.o
gcc -I"E:/biocbuild/bbs-3.21-bioc/R/include" -DNDEBUG -I'E:/biocbuild/bbs-3.21-bioc/R/library/Rcpp/include' -I"C:/rtools45/x86_64-w64-mingw32.static.posix/include" -O2 -Wall -std=gnu2x -mfpmath=sse -msse2 -mstackrealign -c FitnessLandscape/landscape.c -o FitnessLandscape/landscape.o
gcc -I"E:/biocbuild/bbs-3.21-bioc/R/include" -DNDEBUG -I'E:/biocbuild/bbs-3.21-bioc/R/library/Rcpp/include' -I"C:/rtools45/x86_64-w64-mingw32.static.posix/include" -O2 -Wall -std=gnu2x -mfpmath=sse -msse2 -mstackrealign -c FitnessLandscape/random.c -o FitnessLandscape/random.o
gcc -I"E:/biocbuild/bbs-3.21-bioc/R/include" -DNDEBUG -I'E:/biocbuild/bbs-3.21-bioc/R/library/Rcpp/include' -I"C:/rtools45/x86_64-w64-mingw32.static.posix/include" -O2 -Wall -std=gnu2x -mfpmath=sse -msse2 -mstackrealign -c FitnessLandscape/sort.c -o FitnessLandscape/sort.o
gcc -I"E:/biocbuild/bbs-3.21-bioc/R/include" -DNDEBUG -I'E:/biocbuild/bbs-3.21-bioc/R/library/Rcpp/include' -I"C:/rtools45/x86_64-w64-mingw32.static.posix/include" -O2 -Wall -std=gnu2x -mfpmath=sse -msse2 -mstackrealign -c FitnessLandscape/chain.c -o FitnessLandscape/chain.o
gcc -I"E:/biocbuild/bbs-3.21-bioc/R/include" -DNDEBUG -I'E:/biocbuild/bbs-3.21-bioc/R/library/Rcpp/include' -I"C:/rtools45/x86_64-w64-mingw32.static.posix/include" -O2 -Wall -std=gnu2x -mfpmath=sse -msse2 -mstackrealign -c FitnessLandscape/input.c -o FitnessLandscape/input.o
gcc -I"E:/biocbuild/bbs-3.21-bioc/R/include" -DNDEBUG -I'E:/biocbuild/bbs-3.21-bioc/R/library/Rcpp/include' -I"C:/rtools45/x86_64-w64-mingw32.static.posix/include" -O2 -Wall -std=gnu2x -mfpmath=sse -msse2 -mstackrealign -c FitnessLandscape/genotypes.c -o FitnessLandscape/genotypes.o
gcc -I"E:/biocbuild/bbs-3.21-bioc/R/include" -DNDEBUG -I'E:/biocbuild/bbs-3.21-bioc/R/library/Rcpp/include' -I"C:/rtools45/x86_64-w64-mingw32.static.posix/include" -O2 -Wall -std=gnu2x -mfpmath=sse -msse2 -mstackrealign -c FitnessLandscape/ordered_pairs.c -o FitnessLandscape/ordered_pairs.o
gcc -I"E:/biocbuild/bbs-3.21-bioc/R/include" -DNDEBUG -I'E:/biocbuild/bbs-3.21-bioc/R/library/Rcpp/include' -I"C:/rtools45/x86_64-w64-mingw32.static.posix/include" -O2 -Wall -std=gnu2x -mfpmath=sse -msse2 -mstackrealign -c FitnessLandscape/calculus.c -o FitnessLandscape/calculus.o
gcc -I"E:/biocbuild/bbs-3.21-bioc/R/include" -DNDEBUG -I'E:/biocbuild/bbs-3.21-bioc/R/library/Rcpp/include' -I"C:/rtools45/x86_64-w64-mingw32.static.posix/include" -O2 -Wall -std=gnu2x -mfpmath=sse -msse2 -mstackrealign -c FitnessLandscape/vector.c -o FitnessLandscape/vector.o
gcc -I"E:/biocbuild/bbs-3.21-bioc/R/include" -DNDEBUG -I'E:/biocbuild/bbs-3.21-bioc/R/library/Rcpp/include' -I"C:/rtools45/x86_64-w64-mingw32.static.posix/include" -O2 -Wall -std=gnu2x -mfpmath=sse -msse2 -mstackrealign -c FitnessLandscape/generalized_chain.c -o FitnessLandscape/generalized_chain.o
gcc -I"E:/biocbuild/bbs-3.21-bioc/R/include" -DNDEBUG -I'E:/biocbuild/bbs-3.21-bioc/R/library/Rcpp/include' -I"C:/rtools45/x86_64-w64-mingw32.static.posix/include" -O2 -Wall -std=gnu2x -mfpmath=sse -msse2 -mstackrealign -c FitnessLandscape/LinearAlgebra.c -o FitnessLandscape/LinearAlgebra.o
gcc -I"E:/biocbuild/bbs-3.21-bioc/R/include" -DNDEBUG -I'E:/biocbuild/bbs-3.21-bioc/R/library/Rcpp/include' -I"C:/rtools45/x86_64-w64-mingw32.static.posix/include" -O2 -Wall -std=gnu2x -mfpmath=sse -msse2 -mstackrealign -c FitnessLandscape/summary_statistics.c -o FitnessLandscape/summary_statistics.o
gcc -I"E:/biocbuild/bbs-3.21-bioc/R/include" -DNDEBUG -I'E:/biocbuild/bbs-3.21-bioc/R/library/Rcpp/include' -I"C:/rtools45/x86_64-w64-mingw32.static.posix/include" -O2 -Wall -std=gnu2x -mfpmath=sse -msse2 -mstackrealign -c FitnessLandscape/epistasis_type.c -o FitnessLandscape/epistasis_type.o
gcc -I"E:/biocbuild/bbs-3.21-bioc/R/include" -DNDEBUG -I'E:/biocbuild/bbs-3.21-bioc/R/library/Rcpp/include' -I"C:/rtools45/x86_64-w64-mingw32.static.posix/include" -O2 -Wall -std=gnu2x -mfpmath=sse -msse2 -mstackrealign -c FitnessLandscape/decomposition.c -o FitnessLandscape/decomposition.o
gcc -I"E:/biocbuild/bbs-3.21-bioc/R/include" -DNDEBUG -I'E:/biocbuild/bbs-3.21-bioc/R/library/Rcpp/include' -I"C:/rtools45/x86_64-w64-mingw32.static.posix/include" -O2 -Wall -std=gnu2x -mfpmath=sse -msse2 -mstackrealign -c FitnessLandscape/models.c -o FitnessLandscape/models.o
gcc -I"E:/biocbuild/bbs-3.21-bioc/R/include" -DNDEBUG -I'E:/biocbuild/bbs-3.21-bioc/R/library/Rcpp/include' -I"C:/rtools45/x86_64-w64-mingw32.static.posix/include" -O2 -Wall -std=gnu2x -mfpmath=sse -msse2 -mstackrealign -c FitnessLandscape/verbose.c -o FitnessLandscape/verbose.o
ar -r liblandscape.a FitnessLandscape/gamma.o FitnessLandscape/landscape.o FitnessLandscape/random.o FitnessLandscape/sort.o FitnessLandscape/chain.o FitnessLandscape/input.o FitnessLandscape/genotypes.o FitnessLandscape/ordered_pairs.o FitnessLandscape/calculus.o FitnessLandscape/vector.o FitnessLandscape/generalized_chain.o FitnessLandscape/LinearAlgebra.o FitnessLandscape/summary_statistics.o FitnessLandscape/epistasis_type.o FitnessLandscape/decomposition.o FitnessLandscape/models.o FitnessLandscape/verbose.o ;
C:\rtools45\x86_64-w64-mingw32.static.posix\bin\ar.exe: creating liblandscape.a
ranlib liblandscape.a;
gcc -O -Wall -o fl_statistics -I/FitnessLandscape/. -L. FitnessLandscape/main_fl_statistics.c -llandscape -lm;
gcc -O -Wall -o fl_generate -I/FitnessLandscape/. -L. FitnessLandscape/main_fl_generate.c -llandscape -lm;
gcc -I"E:/biocbuild/bbs-3.21-bioc/R/include" -DNDEBUG -I'E:/biocbuild/bbs-3.21-bioc/R/library/Rcpp/include' -I"C:/rtools45/x86_64-w64-mingw32.static.posix/include" -O2 -Wall -std=gnu2x -mfpmath=sse -msse2 -mstackrealign -c OncoSimulR_init.c -o OncoSimulR_init.o
g++ -std=gnu++17 -I"E:/biocbuild/bbs-3.21-bioc/R/include" -DNDEBUG -I'E:/biocbuild/bbs-3.21-bioc/R/library/Rcpp/include' -I"C:/rtools45/x86_64-w64-mingw32.static.posix/include" -O2 -Wall -mfpmath=sse -msse2 -mstackrealign -Wa,-mbig-obj -c RcppExports.cpp -o RcppExports.o
g++ -std=gnu++17 -I"E:/biocbuild/bbs-3.21-bioc/R/include" -DNDEBUG -I'E:/biocbuild/bbs-3.21-bioc/R/library/Rcpp/include' -I"C:/rtools45/x86_64-w64-mingw32.static.posix/include" -O2 -Wall -mfpmath=sse -msse2 -mstackrealign -Wa,-mbig-obj -c unity_osimul.cpp -o unity_osimul.o
In file included from unity_osimul.cpp:4:
UnityOncoSimul/BNB_nr.cpp: In function 'void nr_innerBNB(const fitnessEffectsAll&, const std::vector<double>&, const double&, TypeModel, const int&, const std::vector<double>&, const double&, const double&, const double&, const std::vector<std::vector<int> >&, const time_t&, const double&, const double&, const double&, const int&, const double&, const double&, const int&, double&, double&, double&, double&, double&, int&, int&, int&, std::vector<Genotype>&, std::vector<double>&, std::vector<int>&, std::vector<double>&, std::vector<Intervention>&, std::vector<double>&, std::vector<double>&, std::vector<int>&, std::vector<int>&, bool&, std::mt19937&, double&, bool&, const std::map<int, std::__cxx11::basic_string<char> >&, const fitness_as_genes&, PhylogName&, bool, const fitnessEffectsAll&, const std::vector<int>&, const double&, const double&, const double&, const bool&, const std::vector<std::vector<int> >&, const double&, const int&, const double&, int&, int&, std::map<std::__cxx11::basic_string<char>, std::__cxx11::basic_string<char> >&, POM&, Rcpp::List, Rcpp::List, Rcpp::List)':
UnityOncoSimul/BNB_nr.cpp:860:10: warning: 'minNextMutationTime' may be used uninitialized [-Wmaybe-uninitialized]
860 | double minNextMutationTime;
| ^~~~~~~~~~~~~~~~~~~
g++ -std=gnu++17 -shared -s -static-libgcc -o OncoSimulR.dll tmp.def OncoSimulR_init.o RcppExports.o unity_osimul.o -LC:/rtools45/x86_64-w64-mingw32.static.posix/lib/x64 -LC:/rtools45/x86_64-w64-mingw32.static.posix/lib -LE:/biocbuild/bbs-3.21-bioc/R/bin/x64 -lR
installing via 'install.libs.R' to E:/biocbuild/bbs-3.21-bioc/R/library/00LOCK-OncoSimulR/00new/OncoSimulR
[1] "/x64"
Installing fl_statistics.exe fl_generate.exe to E:/biocbuild/bbs-3.21-bioc/R/library/00LOCK-OncoSimulR/00new/OncoSimulR/exec/x64
Installing library OncoSimulR.dll to E:/biocbuild/bbs-3.21-bioc/R/library/00LOCK-OncoSimulR/00new/OncoSimulR/libs/x64
** R
** data
** inst
** byte-compile and prepare package for lazy loading
** help
*** installing help indices
** building package indices
** installing vignettes
** testing if installed package can be loaded from temporary location
** testing if installed package can be loaded from final location
** testing if installed package keeps a record of temporary installation path
* DONE (OncoSimulR)
OncoSimulR.Rcheck/tests/testthat.Rout
R version 4.5.1 (2025-06-13 ucrt) -- "Great Square Root"
Copyright (C) 2025 The R Foundation for Statistical Computing
Platform: x86_64-w64-mingw32/x64
R is free software and comes with ABSOLUTELY NO WARRANTY.
You are welcome to redistribute it under certain conditions.
Type 'license()' or 'licence()' for distribution details.
R is a collaborative project with many contributors.
Type 'contributors()' for more information and
'citation()' on how to cite R or R packages in publications.
Type 'demo()' for some demos, 'help()' for on-line help, or
'help.start()' for an HTML browser interface to help.
Type 'q()' to quit R.
> library(testthat)
> library(OncoSimulR)
This is package OncoSimulR. If you are running it on an aarch64 (arm64) platform with a MacOS note that the package fails some tests in that platform + OS that I have no way of debugging. Please read file README_tests_kjohnson3_aarch64-apple-darwin20.txt in the tests directory. As of 2024-10-09, this platform is unsupported until we can properly debug it.
>
> test_check("OncoSimulR")
Starting FDF-letter-fitness-order Fri Aug 15 05:06:33 2025
exprtk parser error:
Error[00] Position: 00 Type: [ Syntax Error] Msg: ERR202 - Undefined symbol: 'n_2_3' Expression: n_2_3
exprtk parser error:
Error[00] Position: 00 Type: [ Syntax Error] Msg: ERR202 - Undefined symbol: 'f_2_3' Expression: f_2_3
Ending FDF-small-fitness-specs Fri Aug 15 05:06:34 2025
Took 0.61
Starting LOD_POM at Fri Aug 15 05:06:34 2025
Ending LOD_POM at Fri Aug 15 05:06:49 2025
Took 15.37
Starting test.Z-all-fitness at Fri Aug 15 05:06:49 2025
Ending test.Z-all-fitness at Fri Aug 15 05:06:49 2025
Took 0.12
Starting test.Z-driver-counts at Fri Aug 15 05:06:49 2025
Ending test.Z-driver-counts at Fri Aug 15 05:06:50 2025
Took 0.17
Starting test.Z-fixation at Fri Aug 15 05:06:50 2025
Ending test.Z-fixation at Fri Aug 15 05:06:50 2025
Took 0.54
Starting test.Z-magellan at Fri Aug 15 05:06:50 2025
Ended test.Z-magellan at Fri Aug 15 05:06:52 2025
Starting test.Z-mutator at Fri Aug 15 05:06:52 2025
Ending test.Z-mutator at Fri Aug 15 05:06:52 2025
Took 0.53
Starting test.Z-mutatorFDF at Fri Aug 15 05:06:52 2025
Ending test.Z-mutatorFDF at Fri Aug 15 05:06:53 2025
Took 0.16
Starting test.Z-oncoSimulIndiv at Fri Aug 15 05:06:53 2025
Ending test.Z-oncoSimulIndiv at Fri Aug 15 05:06:53 2025
Took 0.57
Starting test.Z-oncoSimulIndivConstant at Fri Aug 15 05:06:53 2025
Ending test.Z-oncoSimulIndivConstant at Fri Aug 15 05:06:58 2025
Took 4.35
Starting test.Z-oncoSimulIndivDeath at Fri Aug 15 05:06:58 2025
Ending test.Z-oncoSimulIndivDeath at Fri Aug 15 05:06:59 2025
Took 1.62
Starting test.Z-oncoSimulIndivFDF at Fri Aug 15 05:06:59 2025
Hitted wall time. Exiting.
Hitting wall time is regarded as an error.
Ending test.Z-oncoSimulIndivFDF at Fri Aug 15 05:07:01 2025
Took 1.29
Starting test.Z-rfitness-landscape at Fri Aug 15 05:07:01 2025
Ending test.Z-rfitness-landscape at Fri Aug 15 05:07:01 2025
Took 0.23
Starting Z-sample-only-last tests Fri Aug 15 05:07:01 2025
Ending Z-sample-only-last tests Fri Aug 15 05:07:01 2025
Took 0
Starting Z-total-present-drivers tests Fri Aug 15 05:07:01 2025
Ending Z-total-present-drivers tests Fri Aug 15 05:07:02 2025
Took 1.3
Dummy empty test Fri Aug 15 05:07:02 2025
Starting accessible_genotypes at Fri Aug 15 05:07:02 2025
Ending accessible_genotypes at Fri Aug 15 05:07:13 2025
Took 10.72
Starting all fitness at Fri Aug 15 05:07:13 2025
Ending all-fitness at Fri Aug 15 05:07:20 2025
Took 6.76
Starting test.allFitnessEffectsFDF at Fri Aug 15 05:07:20 2025
Ending test.allFitnessEffectsFDF at Fri Aug 15 05:07:20 2025
Took 0.14
Starting test.allFitnessEffectsDeath at Fri Aug 15 05:07:20 2025
Ending test.allFitnessEffectsDeath at Fri Aug 15 05:07:20 2025
Took 0.53
Starting test.allFitnessEffectsFDF at Fri Aug 15 05:07:20 2025
Ending test.allFitnessEffectsFDF at Fri Aug 15 05:07:21 2025
Took 0.61
Starting driverCounts at Fri Aug 15 05:07:21 2025
Ending driverCounts at Fri Aug 15 05:07:30 2025
Took 9.08
Starting epist-order-modules at Fri Aug 15 05:07:30 2025
Ending epist-order-modules at Fri Aug 15 05:07:30 2025
Took 0.06
Starting test.evaluatingGenotypesDeath at Fri Aug 15 05:07:30 2025
Ending test.evaluatingGenotypesDeath at Fri Aug 15 05:07:30 2025
Took 0.26
Starting test.evaluatingGenotypesFDF at Fri Aug 15 05:07:30 2025
Ending test.evaluatingGenotypesFDF at Fri Aug 15 05:07:31 2025
Took 0.29
Starting exercise-plotting-code at Fri Aug 15 05:07:31 2025
Ending exercise-plotting-code at Fri Aug 15 05:07:34 2025
Took 3.79
Starting exercise-rfitness at Fri Aug 15 05:07:34 2025
Ending exercise-rfitness at Fri Aug 15 05:07:53 2025
Took 18.83
Starting to_Magella at Fri Aug 15 05:07:53 2025
Ending to_Magella at Fri Aug 15 05:07:53 2025
Took 0.08
Starting fitness preds at Fri Aug 15 05:07:53 2025
Observed vs expected, case III
done tries 1
Ending fitness preds long at Fri Aug 15 05:08:03 2025
Took 9.9
Starting fixation at Fri Aug 15 05:08:03 2025
Ending fixation at Fri Aug 15 05:08:34 2025
Took 30.45
Starting test.flfast-additional.R test at Fri Aug 15 05:08:34 2025
Ending test.flfast-additional.R test at Fri Aug 15 05:08:35 2025
Took 1.21
Starting test.flfast-mutator.R test at Fri Aug 15 05:08:35 2025
Finished test.flfast-mutator.R test at Fri Aug 15 05:08:36 2025
Took 1.56
Starting genotFitness at Fri Aug 15 05:08:37 2025
Ending genotFitness at Fri Aug 15 05:08:37 2025
Took 0.26
Starting genot_fitness_to_epistasis at Fri Aug 15 05:08:37 2025
Ending genot_fitness_to_epistasis at Fri Aug 15 05:08:37 2025
Took 0.04
Starting init-mutant tests Fri Aug 15 05:08:37 2025
exprtk parser error:
Error[00] Position: 18 Type: [ Syntax Error] Msg: ERR202 - Undefined symbol: 'f_2' Expression: 1.1 + 0.7*((f_1 + f_2) > 0.3)
Ending init-mutant tests Fri Aug 15 05:08:47 2025
Took 10.3
Starting interventions tests Fri Aug 15 05:08:47 2025
[1] "Checking intervention: intOverA"
[1] "Checking intervention: intOverA"
[1] "Checking intervention: intOverA"
[1] "Checking intervention: intOverA"
[1] "Checking intervention: intOverMultiplicatesA"
In intervention:intOverMultiplicatesA with WhatHappens: n_1 = n_1 * 2. You cannot intervene to generate more population.[1] "Checking intervention: intOverA"
[1] "Checking intervention: intOverA"
[1] "Checking intervention: intOverTotPop"
[1] 0.77 0.77 0.77
[1] "Checking intervention: intOverTotPop"
[1] "Checking intervention: intOverA"
[1] "Checking intervention: intOverB"
[1] "Checking intervention: intOverC"
[1] "Checking intervention: intOverD"
Init Mutant with birth == 1.0
Init Mutant with birth == 1.0
[1] "Checking intervention: intOverA"
[1] "Checking intervention: intOverB"
[1] "Checking intervention: intOverC"
[1] "Checking intervention: intOverD"
Init Mutant with birth == 1.0
Init Mutant with birth == 1.0
[1] "Checking user variable: user_var_1"
[1] "Checking rule: rule_1"
[1] "Checking rule: rule_2"
[1] "Checking rule: rule_3"
[1] "Checking intervention: intOverTotPop"
[1] "Checking intervention: intOverTotPop2"
[1] "Checking intervention: intOverTotPop3"
[1] "Checking user variable: user_var_1"
[1] "Checking rule: rule_1"
[1] "Checking rule: rule_2"
[1] "Checking rule: rule_3"
[1] "Checking intervention: intOverTotPop"
Ending interventions tests Fri Aug 15 05:08:54 2025
Took 6.55
Starting test.magellan at Fri Aug 15 05:08:54 2025
Ending test.magellan at Fri Aug 15 05:08:54 2025
Took 0.77
Starting test.modules-root-no-root at Fri Aug 15 05:08:54 2025
Ending test.modules-root-no-root at Fri Aug 15 05:08:55 2025
Took 0.15
Starting at mutPropGrowth Fri Aug 15 05:08:55 2025
Ended test.mutPropGrowth: Fri Aug 15 05:09:03 2025
Took 8.49
Starting test.mutator-oncoSimulSample.R test at Fri Aug 15 05:09:03 2025
Finished test.mutator-oncoSimulSample.R test at Fri Aug 15 05:09:14 2025
Took 11.09 seconds
Starting test.mutator.R test at Fri Aug 15 05:09:14 2025[1] 1.322272e-09
[1] 6.126453e-15
Finished test.mutator.R test at Fri Aug 15 05:09:35 2025
Took 20.95
Starting test.mutatorFDF.R test at Fri Aug 15 05:09:35 2025
Starting test.no-v1 at Fri Aug 15 05:09:36 2025
Ending test.no-v1 at Fri Aug 15 05:09:36 2025
Took 0.01
Starting oncoSimulIndiv-miscell tests Fri Aug 15 05:09:36 2025
Ending oncoSimulIndiv-miscell tests Fri Aug 15 05:09:46 2025
Took 9.61
Starting oncoSimulSample-failures tests Fri Aug 15 05:09:46 2025
Ending oncoSimulSample-failures tests Fri Aug 15 05:09:50 2025
Took 3.98
Starting oncoSimulSample-limits tests Fri Aug 15 05:09:50 2025
Ending oncoSimulSample-limits tests Fri Aug 15 05:09:50 2025
Took 0.15
Starting per-gene-mutation rates at Fri Aug 15 05:09:50 2025
Ending per-gene-mutation rates at Fri Aug 15 05:10:40 2025
Took 49.81
Starting plotFitnessLandscape at Fri Aug 15 05:10:40 2025
Ending plotFitnessLandscape at Fri Aug 15 05:10:46 2025
Took 6.54
Starting poset-transformations tests Fri Aug 15 05:10:46 2025
Ending poset-transformations tests Fri Aug 15 05:11:07 2025
Took 21.16
Starting sample-prob Fri Aug 15 05:11:08 2025
[1] 1.888656e-23
[1] 3.665628e-16
[1] 4.627674e-11
[1] 1.319319e-11
[1] 5.813211e-14
[1] 3.56156e-16
[1] 2.486134e-11
[1] 1.312925e-14
[1] 3.711643e-10
[1] 4.731646e-11
[1] 1.220336e-09
[1] 2.428641e-09
Ending sample-prob tests Fri Aug 15 05:11:21 2025
Took 13.82
Starting samplePop tests Fri Aug 15 05:11:21 2025
Ending samplePop tests Fri Aug 15 05:11:31 2025
Took 9.96
Starting simuls-runs-examples tests Fri Aug 15 05:11:32 2025
Ending simuls-runs-examples tests Fri Aug 15 05:11:41 2025
Took 9.17
Starting user variable tests Fri Aug 15 05:11:41 2025
[1] "Checking user variable: user_var_1"
[1] "Checking rule: rule_1"
Ending user variable tests Fri Aug 15 05:11:41 2025
Took 0.16
Starting warning-mutPropGrowth tests Fri Aug 15 05:11:41 2025
Ending warning-mutPropGrowth tests Fri Aug 15 05:11:41 2025
Took 0.59
Starting wide2long tests Fri Aug 15 05:11:42 2025
Ending wide2long tests Fri Aug 15 05:11:42 2025
Took 0.21
[ FAIL 0 | WARN 19 | SKIP 6 | PASS 8410 ]
══ Skipped tests (6) ═══════════════════════════════════════════════════════════
• On Windows (1): 'test.Z-magellan.R:664:5'
• empty test (5): 'test.FDF-letter-fitness-order.R:376:1',
'test.ZZ-dummy-skip-warn-test.R:8:1', 'test.ZZ-dummy-skip-warn-test.R:12:1',
'test.fixation.R:4:1', 'test.init-mutant.R:1099:1'
[ FAIL 0 | WARN 19 | SKIP 6 | PASS 8410 ]
>
> proc.time()
user system elapsed
284.78 9.12 314.32
OncoSimulR.Rcheck/OncoSimulR-Ex.timings
| name | user | system | elapsed | |
| OncoSimulWide2Long | 0.25 | 0.02 | 0.27 | |
| POM | 1.39 | 0.01 | 1.40 | |
| allFitnessEffects | 2.56 | 0.05 | 2.61 | |
| benchmarks | 0.02 | 0.00 | 0.02 | |
| createInterventions | 0.64 | 0.01 | 0.66 | |
| createUserVars | 0.86 | 0.00 | 0.86 | |
| evalAllGenotypes | 0.29 | 0.00 | 0.31 | |
| example-missing-drivers | 0.30 | 0.07 | 0.36 | |
| examplePosets | 0.34 | 0.01 | 0.36 | |
| examplesFitnessEffects | 0.11 | 0.02 | 0.12 | |
| freq-dep-simul-examples | 0.00 | 0.01 | 0.02 | |
| mcfLs | 0 | 0 | 0 | |
| oncoSimulIndiv | 1.64 | 0.02 | 1.65 | |
| plot.fitnessEffects | 0.25 | 0.02 | 0.27 | |
| plot.oncosimul | 0.63 | 0.00 | 0.62 | |
| plotClonePhylog | 1.26 | 0.06 | 1.33 | |
| plotFitnessLandscape | 1.30 | 0.03 | 1.33 | |
| plotPoset | 0.16 | 0.01 | 0.17 | |
| poset | 0.15 | 0.02 | 0.17 | |
| rfitness | 0.75 | 0.06 | 1.83 | |
| samplePop | 0.1 | 0.0 | 0.1 | |
| simOGraph | 0.09 | 0.02 | 0.11 | |
| to_Magellan | 0.11 | 0.01 | 1.35 | |
| vignette_pre_computed | 0.02 | 0.00 | 0.02 | |