Back to Multiple platform build/check report for BioC 3.21: simplified long |
|
This page was generated on 2025-10-16 11:41 -0400 (Thu, 16 Oct 2025).
Hostname | OS | Arch (*) | R version | Installed pkgs |
---|---|---|---|---|
nebbiolo1 | Linux (Ubuntu 24.04.3 LTS) | x86_64 | 4.5.1 (2025-06-13) -- "Great Square Root" | 4833 |
merida1 | macOS 12.7.6 Monterey | x86_64 | 4.5.1 RC (2025-06-05 r88288) -- "Great Square Root" | 4614 |
kjohnson1 | macOS 13.7.5 Ventura | arm64 | 4.5.1 Patched (2025-06-14 r88325) -- "Great Square Root" | 4555 |
kunpeng2 | Linux (openEuler 24.03 LTS) | aarch64 | R Under development (unstable) (2025-02-19 r87757) -- "Unsuffered Consequences" | 4586 |
Click on any hostname to see more info about the system (e.g. compilers) (*) as reported by 'uname -p', except on Windows and Mac OS X |
Package 1412/2341 | Hostname | OS / Arch | INSTALL | BUILD | CHECK | BUILD BIN | ||||||||
MutationalPatterns 3.18.0 (landing page) Mark van Roosmalen
| nebbiolo1 | Linux (Ubuntu 24.04.3 LTS) / x86_64 | OK | OK | OK | ![]() | ||||||||
merida1 | macOS 12.7.6 Monterey / x86_64 | OK | ERROR | skipped | skipped | |||||||||
kjohnson1 | macOS 13.7.5 Ventura / arm64 | OK | ERROR | skipped | skipped | |||||||||
kunpeng2 | Linux (openEuler 24.03 LTS) / aarch64 | OK | OK | OK | ||||||||||
To the developers/maintainers of the MutationalPatterns package: - Allow up to 24 hours (and sometimes 48 hours) for your latest push to git@git.bioconductor.org:packages/MutationalPatterns.git to reflect on this report. See Troubleshooting Build Report for more information. - Use the following Renviron settings to reproduce errors and warnings. - If 'R CMD check' started to fail recently on the Linux builder(s) over a missing dependency, add the missing dependency to 'Suggests:' in your DESCRIPTION file. See Renviron.bioc for more information. - See Martin Grigorov's blog post for how to debug Linux ARM64 related issues on a x86_64 host. |
Package: MutationalPatterns |
Version: 3.18.0 |
Command: /home/biocbuild/R/R/bin/R CMD check --install=check:MutationalPatterns.install-out.txt --library=/home/biocbuild/R/R/site-library --no-vignettes --timings MutationalPatterns_3.18.0.tar.gz |
StartedAt: 2025-10-14 11:50:38 -0000 (Tue, 14 Oct 2025) |
EndedAt: 2025-10-14 12:06:19 -0000 (Tue, 14 Oct 2025) |
EllapsedTime: 940.6 seconds |
RetCode: 0 |
Status: OK |
CheckDir: MutationalPatterns.Rcheck |
Warnings: 0 |
############################################################################## ############################################################################## ### ### Running command: ### ### /home/biocbuild/R/R/bin/R CMD check --install=check:MutationalPatterns.install-out.txt --library=/home/biocbuild/R/R/site-library --no-vignettes --timings MutationalPatterns_3.18.0.tar.gz ### ############################################################################## ############################################################################## * using log directory ‘/home/biocbuild/bbs-3.21-bioc/meat/MutationalPatterns.Rcheck’ * using R Under development (unstable) (2025-02-19 r87757) * using platform: aarch64-unknown-linux-gnu * R was compiled by aarch64-unknown-linux-gnu-gcc (GCC) 14.2.0 GNU Fortran (GCC) 14.2.0 * running under: openEuler 24.03 (LTS-SP1) * using session charset: UTF-8 * using option ‘--no-vignettes’ * checking for file ‘MutationalPatterns/DESCRIPTION’ ... OK * checking extension type ... Package * this is package ‘MutationalPatterns’ version ‘3.18.0’ * package encoding: UTF-8 * checking package namespace information ... OK * checking package dependencies ... OK * checking if this is a source package ... OK * checking if there is a namespace ... OK * checking for hidden files and directories ... OK * checking for portable file names ... OK * checking for sufficient/correct file permissions ... OK * checking whether package ‘MutationalPatterns’ can be installed ... OK * checking installed package size ... OK * checking package directory ... OK * checking ‘build’ directory ... OK * checking DESCRIPTION meta-information ... NOTE License stub is invalid DCF. * checking top-level files ... OK * checking for left-over files ... OK * checking index information ... OK * checking package subdirectories ... OK * checking code files for non-ASCII characters ... OK * checking R files for syntax errors ... OK * checking whether the package can be loaded ... OK * checking whether the package can be loaded with stated dependencies ... OK * checking whether the package can be unloaded cleanly ... OK * checking whether the namespace can be loaded with stated dependencies ... OK * checking whether the namespace can be unloaded cleanly ... OK * checking loading without being on the library search path ... OK * checking dependencies in R code ... OK * checking S3 generic/method consistency ... OK * checking replacement functions ... OK * checking foreign function calls ... OK * checking R code for possible problems ... OK * checking Rd files ... OK * checking Rd metadata ... OK * checking Rd cross-references ... OK * checking for missing documentation entries ... OK * checking for code/documentation mismatches ... OK * checking Rd \usage sections ... OK * checking Rd contents ... OK * checking for unstated dependencies in examples ... OK * checking files in ‘vignettes’ ... OK * checking examples ... OK Examples with CPU (user + system) or elapsed time > 5s user system elapsed read_vcfs_as_granges 28.667 2.485 50.985 context_potential_damage_analysis 29.958 0.559 31.358 plot_lesion_segregation 26.105 0.363 26.967 plot_compare_indels 17.542 0.111 18.203 calculate_lesion_segregation 17.052 0.368 17.458 plot_indel_contexts 16.362 0.279 16.691 get_mut_type 16.517 0.084 17.273 genomic_distribution 15.820 0.254 16.375 bin_mutation_density 13.580 1.100 14.795 plot_compare_dbs 10.888 0.028 11.018 fit_to_signatures_bootstrapped 10.191 0.096 10.570 get_indel_context 9.595 0.419 10.038 plot_spectrum_region 9.174 0.087 9.888 plot_profile_heatmap 8.783 0.168 9.192 plot_spectrum 8.814 0.040 9.030 plot_river 8.278 0.136 8.625 plot_dbs_contexts 7.921 0.211 8.163 split_muts_region 7.807 0.268 8.156 plot_enrichment_depletion 7.163 0.327 7.505 mut_matrix_stranded 6.283 0.188 6.811 fit_to_signatures_strict 5.894 0.083 6.009 plot_192_profile 5.648 0.044 5.787 * checking for unstated dependencies in ‘tests’ ... OK * checking tests ... Running ‘testthat.R’ OK * checking for unstated dependencies in vignettes ... OK * checking package vignettes ... OK * checking running R code from vignettes ... SKIPPED * checking re-building of vignette outputs ... SKIPPED * checking PDF version of manual ... OK * DONE Status: 1 NOTE See ‘/home/biocbuild/bbs-3.21-bioc/meat/MutationalPatterns.Rcheck/00check.log’ for details.
MutationalPatterns.Rcheck/00install.out
############################################################################## ############################################################################## ### ### Running command: ### ### /home/biocbuild/R/R/bin/R CMD INSTALL MutationalPatterns ### ############################################################################## ############################################################################## * installing to library ‘/home/biocbuild/R/R-devel_2025-02-19/site-library’ * installing *source* package ‘MutationalPatterns’ ... ** this is package ‘MutationalPatterns’ version ‘3.18.0’ ** using staged installation ** R ** inst ** byte-compile and prepare package for lazy loading ** help *** installing help indices ** building package indices ** installing vignettes ** testing if installed package can be loaded from temporary location ** testing if installed package can be loaded from final location ** testing if installed package keeps a record of temporary installation path * DONE (MutationalPatterns)
MutationalPatterns.Rcheck/tests/testthat.Rout
R Under development (unstable) (2025-02-19 r87757) -- "Unsuffered Consequences" Copyright (C) 2025 The R Foundation for Statistical Computing Platform: aarch64-unknown-linux-gnu R is free software and comes with ABSOLUTELY NO WARRANTY. You are welcome to redistribute it under certain conditions. Type 'license()' or 'licence()' for distribution details. R is a collaborative project with many contributors. Type 'contributors()' for more information and 'citation()' on how to cite R or R packages in publications. Type 'demo()' for some demos, 'help()' for on-line help, or 'help.start()' for an HTML browser interface to help. Type 'q()' to quit R. > library(testthat) > library(MutationalPatterns) Loading required package: GenomicRanges Loading required package: stats4 Loading required package: BiocGenerics Loading required package: generics Attaching package: 'generics' The following objects are masked from 'package:base': as.difftime, as.factor, as.ordered, intersect, is.element, setdiff, setequal, union Attaching package: 'BiocGenerics' The following objects are masked from 'package:stats': IQR, mad, sd, var, xtabs The following objects are masked from 'package:base': Filter, Find, Map, Position, Reduce, anyDuplicated, aperm, append, as.data.frame, basename, cbind, colnames, dirname, do.call, duplicated, eval, evalq, get, grep, grepl, is.unsorted, lapply, mapply, match, mget, order, paste, pmax, pmax.int, pmin, pmin.int, rank, rbind, rownames, sapply, saveRDS, table, tapply, unique, unsplit, which.max, which.min Loading required package: S4Vectors Attaching package: 'S4Vectors' The following object is masked from 'package:utils': findMatches The following objects are masked from 'package:base': I, expand.grid, unname Loading required package: IRanges Loading required package: GenomeInfoDb Loading required package: NMF Loading required package: registry Loading required package: rngtools Loading required package: cluster NMF - BioConductor layer [OK] | Shared memory capabilities [NO: bigmemory] | Cores 2/2 To enable shared memory capabilities, try: install.extras(' NMF ') Attaching package: 'NMF' The following object is masked from 'package:S4Vectors': nrun The following object is masked from 'package:generics': fit The following object is masked from 'package:testthat': compare > > test_check("MutationalPatterns") [ FAIL 0 | WARN 39 | SKIP 0 | PASS 474 ] [ FAIL 0 | WARN 39 | SKIP 0 | PASS 474 ] > > proc.time() user system elapsed 306.844 8.180 387.549
MutationalPatterns.Rcheck/MutationalPatterns-Ex.timings
name | user | system | elapsed | |
bin_mutation_density | 13.580 | 1.100 | 14.795 | |
binomial_test | 0.013 | 0.000 | 0.013 | |
calculate_lesion_segregation | 17.052 | 0.368 | 17.458 | |
cluster_signatures | 0.068 | 0.004 | 0.073 | |
context_potential_damage_analysis | 29.958 | 0.559 | 31.358 | |
convert_sigs_to_ref | 0.058 | 0.004 | 0.129 | |
cos_sim | 0 | 0 | 0 | |
cos_sim_matrix | 0.028 | 0.004 | 0.047 | |
count_dbs_contexts | 0.126 | 0.004 | 0.244 | |
count_indel_contexts | 0.186 | 0.008 | 0.312 | |
count_mbs_contexts | 0.111 | 0.000 | 0.114 | |
determine_regional_similarity | 4.487 | 0.128 | 4.653 | |
enrichment_depletion_test | 0.193 | 0.000 | 0.223 | |
extract_signatures | 0.001 | 0.000 | 0.002 | |
fit_to_signatures | 0.141 | 0.000 | 0.159 | |
fit_to_signatures_bootstrapped | 10.191 | 0.096 | 10.570 | |
fit_to_signatures_strict | 5.894 | 0.083 | 6.009 | |
genomic_distribution | 15.820 | 0.254 | 16.375 | |
get_dbs_context | 0.336 | 0.008 | 0.346 | |
get_indel_context | 9.595 | 0.419 | 10.038 | |
get_known_signatures | 0.321 | 0.057 | 0.707 | |
get_mut_type | 16.517 | 0.084 | 17.273 | |
lengthen_mut_matrix | 0.015 | 0.000 | 0.016 | |
merge_signatures | 1.827 | 0.024 | 1.865 | |
mut_context | 1.613 | 0.124 | 1.739 | |
mut_matrix | 2.764 | 0.151 | 2.935 | |
mut_matrix_stranded | 6.283 | 0.188 | 6.811 | |
mut_strand | 1.504 | 0.004 | 1.513 | |
mut_type | 0.038 | 0.000 | 0.038 | |
mut_type_occurrences | 1.471 | 0.071 | 1.554 | |
mutations_from_vcf | 0.031 | 0.008 | 0.038 | |
plot_192_profile | 5.648 | 0.044 | 5.787 | |
plot_96_profile | 4.615 | 0.048 | 4.688 | |
plot_bootstrapped_contribution | 3.912 | 0.012 | 4.096 | |
plot_compare_dbs | 10.888 | 0.028 | 11.018 | |
plot_compare_indels | 17.542 | 0.111 | 18.203 | |
plot_compare_mbs | 2.032 | 0.000 | 2.037 | |
plot_compare_profiles | 3.958 | 0.012 | 4.036 | |
plot_contribution | 3.316 | 0.179 | 3.607 | |
plot_contribution_heatmap | 3.543 | 0.263 | 3.815 | |
plot_correlation_bootstrap | 2.528 | 0.032 | 2.717 | |
plot_cosine_heatmap | 3.993 | 0.004 | 4.005 | |
plot_dbs_contexts | 7.921 | 0.211 | 8.163 | |
plot_enrichment_depletion | 7.163 | 0.327 | 7.505 | |
plot_indel_contexts | 16.362 | 0.279 | 16.691 | |
plot_lesion_segregation | 26.105 | 0.363 | 26.967 | |
plot_main_dbs_contexts | 1.256 | 0.016 | 1.274 | |
plot_main_indel_contexts | 1.256 | 0.015 | 1.274 | |
plot_mbs_contexts | 1.176 | 0.024 | 1.202 | |
plot_original_vs_reconstructed | 1.470 | 0.024 | 1.497 | |
plot_profile_heatmap | 8.783 | 0.168 | 9.192 | |
plot_profile_region | 1.897 | 0.000 | 2.114 | |
plot_rainfall | 3.042 | 0.036 | 3.088 | |
plot_regional_similarity | 3.845 | 0.063 | 4.089 | |
plot_river | 8.278 | 0.136 | 8.625 | |
plot_signature_strand_bias | 1.519 | 0.012 | 1.535 | |
plot_spectrum | 8.814 | 0.040 | 9.030 | |
plot_spectrum_region | 9.174 | 0.087 | 9.888 | |
plot_strand | 0.483 | 0.008 | 0.492 | |
plot_strand_bias | 1.568 | 0.032 | 1.603 | |
pool_mut_mat | 0.061 | 0.000 | 0.062 | |
read_vcfs_as_granges | 28.667 | 2.485 | 50.985 | |
rename_nmf_signatures | 0.034 | 0.012 | 0.046 | |
signature_potential_damage_analysis | 0.117 | 0.020 | 0.238 | |
split_muts_region | 7.807 | 0.268 | 8.156 | |
strand_bias_test | 0.161 | 0.004 | 0.225 | |
strand_occurrences | 0.226 | 0.004 | 0.231 | |
type_context | 1.748 | 0.083 | 1.868 | |