| Back to Multiple platform build/check report for BioC 3.21: simplified long | 
  | 
This page was generated on 2025-08-18 11:42 -0400 (Mon, 18 Aug 2025).
| Hostname | OS | Arch (*) | R version | Installed pkgs | 
|---|---|---|---|---|
| nebbiolo1 | Linux (Ubuntu 24.04.3 LTS) | x86_64 | 4.5.1 (2025-06-13) -- "Great Square Root" | 4824 | 
| palomino7 | Windows Server 2022 Datacenter | x64 | 4.5.1 (2025-06-13 ucrt) -- "Great Square Root" | 4566 | 
| merida1 | macOS 12.7.5 Monterey | x86_64 | 4.5.1 RC (2025-06-05 r88288) -- "Great Square Root" | 4604 | 
| kjohnson1 | macOS 13.6.6 Ventura | arm64 | 4.5.1 Patched (2025-06-14 r88325) -- "Great Square Root" | 4545 | 
| kunpeng2 | Linux (openEuler 24.03 LTS) | aarch64 | R Under development (unstable) (2025-02-19 r87757) -- "Unsuffered Consequences" | 4579 | 
| Click on any hostname to see more info about the system (e.g. compilers) (*) as reported by 'uname -p', except on Windows and Mac OS X | ||||
| Package 1247/2341 | Hostname | OS / Arch | INSTALL | BUILD | CHECK | BUILD BIN | ||||||||
| MethReg 1.18.0  (landing page) Tiago Silva 
  | nebbiolo1 | Linux (Ubuntu 24.04.3 LTS) / x86_64 | OK | ERROR | skipped | |||||||||
| palomino7 | Windows Server 2022 Datacenter / x64 | OK | OK | OK | OK | |||||||||
| merida1 | macOS 12.7.5 Monterey / x86_64 | OK | OK | OK | OK | |||||||||
| kjohnson1 | macOS 13.6.6 Ventura / arm64 | OK | OK | OK | OK | |||||||||
| kunpeng2 | Linux (openEuler 24.03 LTS) / aarch64 | OK | OK | OK | ||||||||||
| 
To the developers/maintainers of the MethReg package: - Allow up to 24 hours (and sometimes 48 hours) for your latest push to git@git.bioconductor.org:packages/MethReg.git to reflect on this report. See Troubleshooting Build Report for more information. - Use the following Renviron settings to reproduce errors and warnings. - If 'R CMD check' started to fail recently on the Linux builder(s) over a missing dependency, add the missing dependency to 'Suggests:' in your DESCRIPTION file. See Renviron.bioc for more information.  | 
| Package: MethReg | 
| Version: 1.18.0 | 
| Command: E:\biocbuild\bbs-3.21-bioc\R\bin\R.exe CMD check --no-multiarch --install=check:MethReg.install-out.txt --library=E:\biocbuild\bbs-3.21-bioc\R\library --no-vignettes --timings MethReg_1.18.0.tar.gz | 
| StartedAt: 2025-08-15 03:57:53 -0400 (Fri, 15 Aug 2025) | 
| EndedAt: 2025-08-15 04:06:45 -0400 (Fri, 15 Aug 2025) | 
| EllapsedTime: 532.2 seconds | 
| RetCode: 0 | 
| Status: OK | 
| CheckDir: MethReg.Rcheck | 
| Warnings: 0 | 
##############################################################################
##############################################################################
###
### Running command:
###
###   E:\biocbuild\bbs-3.21-bioc\R\bin\R.exe CMD check --no-multiarch --install=check:MethReg.install-out.txt --library=E:\biocbuild\bbs-3.21-bioc\R\library --no-vignettes --timings MethReg_1.18.0.tar.gz
###
##############################################################################
##############################################################################
* using log directory 'E:/biocbuild/bbs-3.21-bioc/meat/MethReg.Rcheck'
* using R version 4.5.1 (2025-06-13 ucrt)
* using platform: x86_64-w64-mingw32
* R was compiled by
    gcc.exe (GCC) 14.2.0
    GNU Fortran (GCC) 14.2.0
* running under: Windows Server 2022 x64 (build 20348)
* using session charset: UTF-8
* using option '--no-vignettes'
* checking for file 'MethReg/DESCRIPTION' ... OK
* checking extension type ... Package
* this is package 'MethReg' version '1.18.0'
* package encoding: UTF-8
* checking package namespace information ... OK
* checking package dependencies ... INFO
Imports includes 27 non-default packages.
Importing from so many packages makes the package vulnerable to any of
them becoming unavailable.  Move as many as possible to Suggests and
use conditionally.
* checking if this is a source package ... OK
* checking if there is a namespace ... OK
* checking for hidden files and directories ... OK
* checking for portable file names ... OK
* checking whether package 'MethReg' can be installed ... OK
* checking installed package size ... OK
* checking package directory ... OK
* checking 'build' directory ... OK
* checking DESCRIPTION meta-information ... OK
* checking top-level files ... OK
* checking for left-over files ... OK
* checking index information ... OK
* checking package subdirectories ... OK
* checking code files for non-ASCII characters ... OK
* checking R files for syntax errors ... OK
* checking whether the package can be loaded ... OK
* checking whether the package can be loaded with stated dependencies ... OK
* checking whether the package can be unloaded cleanly ... OK
* checking whether the namespace can be loaded with stated dependencies ... OK
* checking whether the namespace can be unloaded cleanly ... OK
* checking dependencies in R code ... OK
* checking S3 generic/method consistency ... OK
* checking replacement functions ... OK
* checking foreign function calls ... OK
* checking R code for possible problems ... NOTE
readRemap2022: no visible binding for global variable 'biotype'
Undefined global functions or variables:
  biotype
* checking Rd files ... OK
* checking Rd metadata ... OK
* checking Rd cross-references ... OK
* checking for missing documentation entries ... OK
* checking for code/documentation mismatches ... OK
* checking Rd \usage sections ... OK
* checking Rd contents ... OK
* checking for unstated dependencies in examples ... OK
* checking contents of 'data' directory ... OK
* checking data for non-ASCII characters ... OK
* checking LazyData ... OK
* checking data for ASCII and uncompressed saves ... OK
* checking R/sysdata.rda ... OK
* checking files in 'vignettes' ... OK
* checking examples ... OK
Examples with CPU (user + system) or elapsed time > 5s
                               user system elapsed
create_triplet_distance_based 28.58   2.69   31.61
create_triplet_regulon_based  27.93   1.10   29.06
get_tf_in_region              25.44   0.76   26.22
* checking for unstated dependencies in 'tests' ... OK
* checking tests ...
  Running 'testthat.R'
 OK
* checking for unstated dependencies in vignettes ... OK
* checking package vignettes ... OK
* checking running R code from vignettes ... SKIPPED
* checking re-building of vignette outputs ... SKIPPED
* checking PDF version of manual ... OK
* DONE
Status: 1 NOTE
See
  'E:/biocbuild/bbs-3.21-bioc/meat/MethReg.Rcheck/00check.log'
for details.
MethReg.Rcheck/00install.out
############################################################################## ############################################################################## ### ### Running command: ### ### E:\biocbuild\bbs-3.21-bioc\R\bin\R.exe CMD INSTALL MethReg ### ############################################################################## ############################################################################## * installing to library 'E:/biocbuild/bbs-3.21-bioc/R/library' * installing *source* package 'MethReg' ... ** this is package 'MethReg' version '1.18.0' ** using staged installation ** R ** data *** moving datasets to lazyload DB ** inst ** byte-compile and prepare package for lazy loading ** help *** installing help indices ** building package indices ** installing vignettes ** testing if installed package can be loaded from temporary location ** testing if installed package can be loaded from final location ** testing if installed package keeps a record of temporary installation path * DONE (MethReg)
MethReg.Rcheck/tests/testthat.Rout
R version 4.5.1 (2025-06-13 ucrt) -- "Great Square Root"
Copyright (C) 2025 The R Foundation for Statistical Computing
Platform: x86_64-w64-mingw32/x64
R is free software and comes with ABSOLUTELY NO WARRANTY.
You are welcome to redistribute it under certain conditions.
Type 'license()' or 'licence()' for distribution details.
R is a collaborative project with many contributors.
Type 'contributors()' for more information and
'citation()' on how to cite R or R packages in publications.
Type 'demo()' for some demos, 'help()' for on-line help, or
'help.start()' for an HTML browser interface to help.
Type 'q()' to quit R.
> library(testthat)
> library(MethReg)
> 
> test_check("MethReg")
|                                                    |  0%                      
|====================================================|100% ~0 s remaining       
|====================================================|100%                      Completed after 0 s 
|                                                    |  0%                      
|====================================================|100% ~0 s remaining       
|====================================================|100%                      Completed after 0 s 
|                                                    |  0%                      
|====================================================|100% ~0 s remaining       
|====================================================|100%                      Completed after 0 s 
|                                                    |  0%                      
|====================================================|100% ~0 s remaining       
|====================================================|100%                      Completed after 0 s 
                   Status freq
1 Regions below threshold    1
2 Regions above threshold    1
                   Status freq
1 Regions below threshold    1
2 Regions above threshold    1
                   Status freq
1 Regions below threshold    1
2 Regions above threshold    1
|                                                    |  0%                      
|==========================                          | 50% ~0 s remaining       
|====================================================|100% ~0 s remaining       
|====================================================|100%                      Completed after 0 s 
                 Status freq
1 Genes above threshold    1
2                  <NA>    1
|                                                    |  0%                      
|=================                                   |33.33333% ~0 s remaining  
|==================================                  |66.66667% ~0 s remaining  
|====================================================|100% ~0 s remaining       
|====================================================|100%                      Completed after 0 s 
|                                                    |  0%                      
|==========================                          | 50% ~0 s remaining       
|====================================================|100% ~0 s remaining       
|====================================================|100%                      Completed after 0 s 
|                                                    |  0%                      
|=================                                   |33.33333% ~0 s remaining  
|==================================                  |66.66667% ~0 s remaining  
|====================================================|100% ~0 s remaining       
|====================================================|100%                      Completed after 0 s 
|                                                    |  0%                      
|                                                    |0.8928571% ~2 s remaining 
|                                                    |1.785714% ~1 s remaining  
|=                                                   |2.678571% ~1 s remaining  
|=                                                   |3.571429% ~1 s remaining  
|==                                                  |4.464286% ~0 s remaining  
|==                                                  |5.357143% ~0 s remaining  
|===                                                 |6.25% ~0 s remaining      
|===                                                 |7.142857% ~0 s remaining  
|====                                                |8.035714% ~0 s remaining  
|====                                                |8.928571% ~0 s remaining  
|=====                                               |9.821429% ~0 s remaining  
|=====                                               |10.71429% ~0 s remaining  
|======                                              |11.60714% ~0 s remaining  
|======                                              |12.5% ~0 s remaining      
|======                                              |13.39286% ~0 s remaining  
|=======                                             |14.28571% ~0 s remaining  
|=======                                             |15.17857% ~0 s remaining  
|========                                            |16.07143% ~0 s remaining  
|========                                            |16.96429% ~0 s remaining  
|=========                                           |17.85714% ~0 s remaining  
|=========                                           |18.75% ~0 s remaining     
|==========                                          |19.64286% ~0 s remaining  
|==========                                          |20.53571% ~0 s remaining  
|===========                                         |21.42857% ~0 s remaining  
|===========                                         |22.32143% ~0 s remaining  
|============                                        |23.21429% ~0 s remaining  
|============                                        |24.10714% ~0 s remaining  
|=============                                       | 25% ~0 s remaining       
|=============                                       |25.89286% ~0 s remaining  
|=============                                       |26.78571% ~0 s remaining  
|==============                                      |27.67857% ~0 s remaining  
|==============                                      |28.57143% ~0 s remaining  
|===============                                     |29.46429% ~0 s remaining  
|===============                                     |30.35714% ~0 s remaining  
|================                                    |31.25% ~0 s remaining     
|================                                    |32.14286% ~0 s remaining  
|=================                                   |33.03571% ~0 s remaining  
|=================                                   |33.92857% ~0 s remaining  
|==================                                  |34.82143% ~0 s remaining  
|==================                                  |35.71429% ~0 s remaining  
|===================                                 |36.60714% ~0 s remaining  
|===================                                 |37.5% ~0 s remaining      
|===================                                 |38.39286% ~0 s remaining  
|====================                                |39.28571% ~0 s remaining  
|====================                                |40.17857% ~0 s remaining  
|=====================                               |41.07143% ~0 s remaining  
|=====================                               |41.96429% ~0 s remaining  
|======================                              |42.85714% ~0 s remaining  
|======================                              |43.75% ~0 s remaining     
|=======================                             |44.64286% ~0 s remaining  
|=======================                             |45.53571% ~0 s remaining  
|========================                            |46.42857% ~0 s remaining  
|========================                            |47.32143% ~0 s remaining  
|=========================                           |48.21429% ~0 s remaining  
|=========================                           |49.10714% ~0 s remaining  
|==========================                          | 50% ~0 s remaining       
|==========================                          |50.89286% ~0 s remaining  
|==========================                          |51.78571% ~0 s remaining  
|===========================                         |52.67857% ~0 s remaining  
|===========================                         |53.57143% ~0 s remaining  
|============================                        |54.46429% ~0 s remaining  
|============================                        |55.35714% ~0 s remaining  
|=============================                       |56.25% ~0 s remaining     
|=============================                       |57.14286% ~0 s remaining  
|==============================                      |58.03571% ~0 s remaining  
|==============================                      |58.92857% ~0 s remaining  
|===============================                     |59.82143% ~0 s remaining  
|===============================                     |60.71429% ~0 s remaining  
|================================                    |61.60714% ~0 s remaining  
|================================                    |62.5% ~0 s remaining      
|================================                    |63.39286% ~0 s remaining  
|=================================                   |64.28571% ~0 s remaining  
|=================================                   |65.17857% ~0 s remaining  
|==================================                  |66.07143% ~0 s remaining  
|==================================                  |66.96429% ~0 s remaining  
|===================================                 |67.85714% ~0 s remaining  
|===================================                 |68.75% ~0 s remaining     
|====================================                |69.64286% ~0 s remaining  
|====================================                |70.53571% ~0 s remaining  
|=====================================               |71.42857% ~0 s remaining  
|=====================================               |72.32143% ~0 s remaining  
|======================================              |73.21429% ~0 s remaining  
|======================================              |74.10714% ~0 s remaining  
|=======================================             | 75% ~0 s remaining       
|=======================================             |75.89286% ~0 s remaining  
|=======================================             |76.78571% ~0 s remaining  
|========================================            |77.67857% ~0 s remaining  
|========================================            |78.57143% ~0 s remaining  
|=========================================           |79.46429% ~0 s remaining  
|=========================================           |80.35714% ~0 s remaining  
|==========================================          |81.25% ~0 s remaining     
|==========================================          |82.14286% ~0 s remaining  
|===========================================         |83.03571% ~0 s remaining  
|===========================================         |83.92857% ~0 s remaining  
|============================================        |84.82143% ~0 s remaining  
|============================================        |85.71429% ~0 s remaining  
|=============================================       |86.60714% ~0 s remaining  
|=============================================       |87.5% ~0 s remaining      
|=============================================       |88.39286% ~0 s remaining  
|==============================================      |89.28571% ~0 s remaining  
|==============================================      |90.17857% ~0 s remaining  
|===============================================     |91.07143% ~0 s remaining  
|===============================================     |91.96429% ~0 s remaining  
|================================================    |92.85714% ~0 s remaining  
|================================================    |93.75% ~0 s remaining     
|=================================================   |94.64286% ~0 s remaining  
|=================================================   |95.53571% ~0 s remaining  
|==================================================  |96.42857% ~0 s remaining  
|==================================================  |97.32143% ~0 s remaining  
|=================================================== |98.21429% ~0 s remaining  
|=================================================== |99.10714% ~0 s remaining  
|====================================================|100% ~0 s remaining       
|====================================================|100%                      Completed after 0 s 
|                                                    |  0%                      
|====================================================|100% ~0 s remaining       
|====================================================|100%                      Completed after 0 s 
|                                                    |  0%                      
|====================================================|100% ~0 s remaining       
|====================================================|100%                      Completed after 0 s 
|                                                    |  0%                      
|====================================================|100% ~0 s remaining       
|====================================================|100%                      Completed after 0 s 
|                                                    |  0%                      
|====================================================|100% ~0 s remaining       
|====================================================|100%                      Completed after 0 s 
[ FAIL 0 | WARN 3 | SKIP 11 | PASS 148 ]
══ Skipped tests (11) ══════════════════════════════════════════════════════════
• On Bioconductor (7): 'test-create_triplet_distance_based.R:2:3',
  'test-get_promoter_avg.R:3:5', 'test-get_promoter_avg.R:15:5',
  'test-get_promoter_avg.R:30:5', 'test-get_promoter_avg.R:47:5',
  'test-plot_interaction_model.R:3:5', 'test-plot_stratified_model.R:3:5'
• On CRAN (2): 'test-get_human_tfs.R:2:5', 'test-get_tf_in_region.R:3:5'
• empty test (2): 'test-get_residuals.R:1:1', 'test-get_tf_in_region.R:16:1'
[ FAIL 0 | WARN 3 | SKIP 11 | PASS 148 ]
> 
> proc.time()
   user  system elapsed 
  78.25    4.85   84.23 
MethReg.Rcheck/MethReg-Ex.timings
| name | user | system | elapsed | |
| cor_dnam_target_gene | 0.03 | 0.01 | 0.05 | |
| cor_tf_target_gene | 0.03 | 0.00 | 0.03 | |
| create_triplet_distance_based | 28.58 | 2.69 | 31.61 | |
| create_triplet_regulon_based | 27.93 | 1.10 | 29.06 | |
| export_results_to_table | 1.61 | 0.09 | 1.94 | |
| filter_dnam_by_quant_diff | 0.07 | 0.02 | 0.07 | |
| filter_exp_by_quant_mean_FC | 0.87 | 0.06 | 0.94 | |
| get_human_tfs | 0.63 | 0.07 | 0.71 | |
| get_met_probes_info | 0 | 0 | 0 | |
| get_promoter_avg | 0 | 0 | 0 | |
| get_region_target_gene | 3.62 | 0.15 | 3.78 | |
| get_residuals | 0.05 | 0.00 | 0.04 | |
| get_tf_ES | 2.64 | 0.16 | 3.08 | |
| get_tf_in_region | 25.44 | 0.76 | 26.22 | |
| interaction_model | 0.31 | 0.02 | 0.32 | |
| make_dnam_se | 0.1 | 0.0 | 0.1 | |
| make_exp_se | 0.11 | 0.00 | 0.11 | |
| make_granges_from_names | 0.03 | 0.00 | 0.03 | |
| make_names_from_granges | 0.01 | 0.00 | 0.01 | |
| plot_interaction_model | 1.74 | 0.01 | 1.75 | |
| stratified_model | 0.06 | 0.00 | 0.06 | |